BEGIN:VCALENDAR
VERSION:2.0
PRODID:-//Living In Elk Grove - ECPv6.15.20//NONSGML v1.0//EN
CALSCALE:GREGORIAN
METHOD:PUBLISH
X-WR-CALNAME:Living In Elk Grove
X-ORIGINAL-URL:https://www.livinginelkgrove.com
X-WR-CALDESC:Events for Living In Elk Grove
REFRESH-INTERVAL;VALUE=DURATION:PT1H
X-Robots-Tag:noindex
X-PUBLISHED-TTL:PT1H
BEGIN:VTIMEZONE
TZID:America/Los_Angeles
BEGIN:DAYLIGHT
TZOFFSETFROM:-0800
TZOFFSETTO:-0700
TZNAME:PDT
DTSTART:20250309T100000
END:DAYLIGHT
BEGIN:STANDARD
TZOFFSETFROM:-0700
TZOFFSETTO:-0800
TZNAME:PST
DTSTART:20251102T090000
END:STANDARD
BEGIN:DAYLIGHT
TZOFFSETFROM:-0800
TZOFFSETTO:-0700
TZNAME:PDT
DTSTART:20260308T100000
END:DAYLIGHT
BEGIN:STANDARD
TZOFFSETFROM:-0700
TZOFFSETTO:-0800
TZNAME:PST
DTSTART:20261101T090000
END:STANDARD
BEGIN:DAYLIGHT
TZOFFSETFROM:-0800
TZOFFSETTO:-0700
TZNAME:PDT
DTSTART:20270314T100000
END:DAYLIGHT
BEGIN:STANDARD
TZOFFSETFROM:-0700
TZOFFSETTO:-0800
TZNAME:PST
DTSTART:20271107T090000
END:STANDARD
BEGIN:DAYLIGHT
TZOFFSETFROM:-0800
TZOFFSETTO:-0700
TZNAME:PDT
DTSTART:20280312T100000
END:DAYLIGHT
BEGIN:STANDARD
TZOFFSETFROM:-0700
TZOFFSETTO:-0800
TZNAME:PST
DTSTART:20281105T090000
END:STANDARD
BEGIN:DAYLIGHT
TZOFFSETFROM:-0800
TZOFFSETTO:-0700
TZNAME:PDT
DTSTART:20290311T100000
END:DAYLIGHT
BEGIN:STANDARD
TZOFFSETFROM:-0700
TZOFFSETTO:-0800
TZNAME:PST
DTSTART:20291104T090000
END:STANDARD
END:VTIMEZONE
BEGIN:VEVENT
DTSTART;TZID=America/Los_Angeles:20260513T183000
DTEND;TZID=America/Los_Angeles:20260513T203000
DTSTAMP:20260421T084453
CREATED:20230902T002718Z
LAST-MODIFIED:20230921T133952Z
UID:10057191-1778697000-1778704200@www.livinginelkgrove.com
SUMMARY:Pride of Laguna Creek Lions Club 2nd Wednesday Meeting
DESCRIPTION:
URL:https://www.livinginelkgrove.com/event/pride-of-laguna-creek-lions-club-meeting-2/2026-05-13/
LOCATION:Gil Albiani Recreation Center at Beeman Park\, 8830 Sharkey Drive\, Elk Grove\, CA\, 95624\, United States
CATEGORIES:Events,Meetings
END:VEVENT
BEGIN:VEVENT
DTSTART;TZID=America/Los_Angeles:20260610T183000
DTEND;TZID=America/Los_Angeles:20260610T203000
DTSTAMP:20260421T084453
CREATED:20230902T002718Z
LAST-MODIFIED:20230921T133952Z
UID:10057192-1781116200-1781123400@www.livinginelkgrove.com
SUMMARY:Pride of Laguna Creek Lions Club 2nd Wednesday Meeting
DESCRIPTION:
URL:https://www.livinginelkgrove.com/event/pride-of-laguna-creek-lions-club-meeting-2/2026-06-10/
LOCATION:Gil Albiani Recreation Center at Beeman Park\, 8830 Sharkey Drive\, Elk Grove\, CA\, 95624\, United States
CATEGORIES:Events,Meetings
END:VEVENT
BEGIN:VEVENT
DTSTART;TZID=America/Los_Angeles:20260708T183000
DTEND;TZID=America/Los_Angeles:20260708T203000
DTSTAMP:20260421T084453
CREATED:20230902T002718Z
LAST-MODIFIED:20230921T133952Z
UID:10057193-1783535400-1783542600@www.livinginelkgrove.com
SUMMARY:Pride of Laguna Creek Lions Club 2nd Wednesday Meeting
DESCRIPTION:
URL:https://www.livinginelkgrove.com/event/pride-of-laguna-creek-lions-club-meeting-2/2026-07-08/
LOCATION:Gil Albiani Recreation Center at Beeman Park\, 8830 Sharkey Drive\, Elk Grove\, CA\, 95624\, United States
CATEGORIES:Events,Meetings
END:VEVENT
BEGIN:VEVENT
DTSTART;TZID=America/Los_Angeles:20260812T183000
DTEND;TZID=America/Los_Angeles:20260812T203000
DTSTAMP:20260421T084453
CREATED:20230902T002718Z
LAST-MODIFIED:20230921T133952Z
UID:10057194-1786559400-1786566600@www.livinginelkgrove.com
SUMMARY:Pride of Laguna Creek Lions Club 2nd Wednesday Meeting
DESCRIPTION:
URL:https://www.livinginelkgrove.com/event/pride-of-laguna-creek-lions-club-meeting-2/2026-08-12/
LOCATION:Gil Albiani Recreation Center at Beeman Park\, 8830 Sharkey Drive\, Elk Grove\, CA\, 95624\, United States
CATEGORIES:Events,Meetings
END:VEVENT
BEGIN:VEVENT
DTSTART;TZID=America/Los_Angeles:20260909T183000
DTEND;TZID=America/Los_Angeles:20260909T203000
DTSTAMP:20260421T084453
CREATED:20230902T002718Z
LAST-MODIFIED:20230921T133952Z
UID:10057195-1788978600-1788985800@www.livinginelkgrove.com
SUMMARY:Pride of Laguna Creek Lions Club 2nd Wednesday Meeting
DESCRIPTION:
URL:https://www.livinginelkgrove.com/event/pride-of-laguna-creek-lions-club-meeting-2/2026-09-09/
LOCATION:Gil Albiani Recreation Center at Beeman Park\, 8830 Sharkey Drive\, Elk Grove\, CA\, 95624\, United States
CATEGORIES:Events,Meetings
END:VEVENT
BEGIN:VEVENT
DTSTART;TZID=America/Los_Angeles:20261014T183000
DTEND;TZID=America/Los_Angeles:20261014T203000
DTSTAMP:20260421T084453
CREATED:20230902T002718Z
LAST-MODIFIED:20230921T133952Z
UID:10057196-1792002600-1792009800@www.livinginelkgrove.com
SUMMARY:Pride of Laguna Creek Lions Club 2nd Wednesday Meeting
DESCRIPTION:
URL:https://www.livinginelkgrove.com/event/pride-of-laguna-creek-lions-club-meeting-2/2026-10-14/
LOCATION:Gil Albiani Recreation Center at Beeman Park\, 8830 Sharkey Drive\, Elk Grove\, CA\, 95624\, United States
CATEGORIES:Events,Meetings
END:VEVENT
BEGIN:VEVENT
DTSTART;TZID=America/Los_Angeles:20261111T183000
DTEND;TZID=America/Los_Angeles:20261111T203000
DTSTAMP:20260421T084453
CREATED:20230902T002718Z
LAST-MODIFIED:20230921T133952Z
UID:10057197-1794421800-1794429000@www.livinginelkgrove.com
SUMMARY:Pride of Laguna Creek Lions Club 2nd Wednesday Meeting
DESCRIPTION:
URL:https://www.livinginelkgrove.com/event/pride-of-laguna-creek-lions-club-meeting-2/2026-11-11/
LOCATION:Gil Albiani Recreation Center at Beeman Park\, 8830 Sharkey Drive\, Elk Grove\, CA\, 95624\, United States
CATEGORIES:Events,Meetings
END:VEVENT
BEGIN:VEVENT
DTSTART;TZID=America/Los_Angeles:20261209T183000
DTEND;TZID=America/Los_Angeles:20261209T203000
DTSTAMP:20260421T084453
CREATED:20230902T002718Z
LAST-MODIFIED:20230921T133952Z
UID:10057198-1796841000-1796848200@www.livinginelkgrove.com
SUMMARY:Pride of Laguna Creek Lions Club 2nd Wednesday Meeting
DESCRIPTION:
URL:https://www.livinginelkgrove.com/event/pride-of-laguna-creek-lions-club-meeting-2/2026-12-09/
LOCATION:Gil Albiani Recreation Center at Beeman Park\, 8830 Sharkey Drive\, Elk Grove\, CA\, 95624\, United States
CATEGORIES:Events,Meetings
END:VEVENT
BEGIN:VEVENT
DTSTART;TZID=America/Los_Angeles:20270113T183000
DTEND;TZID=America/Los_Angeles:20270113T203000
DTSTAMP:20260421T084453
CREATED:20230902T002718Z
LAST-MODIFIED:20230921T133952Z
UID:10057199-1799865000-1799872200@www.livinginelkgrove.com
SUMMARY:Pride of Laguna Creek Lions Club 2nd Wednesday Meeting
DESCRIPTION:
URL:https://www.livinginelkgrove.com/event/pride-of-laguna-creek-lions-club-meeting-2/2027-01-13/
LOCATION:Gil Albiani Recreation Center at Beeman Park\, 8830 Sharkey Drive\, Elk Grove\, CA\, 95624\, United States
CATEGORIES:Events,Meetings
END:VEVENT
BEGIN:VEVENT
DTSTART;TZID=America/Los_Angeles:20270210T183000
DTEND;TZID=America/Los_Angeles:20270210T203000
DTSTAMP:20260421T084453
CREATED:20230902T002718Z
LAST-MODIFIED:20230921T133952Z
UID:10057200-1802284200-1802291400@www.livinginelkgrove.com
SUMMARY:Pride of Laguna Creek Lions Club 2nd Wednesday Meeting
DESCRIPTION:
URL:https://www.livinginelkgrove.com/event/pride-of-laguna-creek-lions-club-meeting-2/2027-02-10/
LOCATION:Gil Albiani Recreation Center at Beeman Park\, 8830 Sharkey Drive\, Elk Grove\, CA\, 95624\, United States
CATEGORIES:Events,Meetings
END:VEVENT
BEGIN:VEVENT
DTSTART;TZID=America/Los_Angeles:20270310T183000
DTEND;TZID=America/Los_Angeles:20270310T203000
DTSTAMP:20260421T084453
CREATED:20230902T002718Z
LAST-MODIFIED:20230921T133952Z
UID:10057201-1804703400-1804710600@www.livinginelkgrove.com
SUMMARY:Pride of Laguna Creek Lions Club 2nd Wednesday Meeting
DESCRIPTION:
URL:https://www.livinginelkgrove.com/event/pride-of-laguna-creek-lions-club-meeting-2/2027-03-10/
LOCATION:Gil Albiani Recreation Center at Beeman Park\, 8830 Sharkey Drive\, Elk Grove\, CA\, 95624\, United States
CATEGORIES:Events,Meetings
END:VEVENT
BEGIN:VEVENT
DTSTART;TZID=America/Los_Angeles:20270414T183000
DTEND;TZID=America/Los_Angeles:20270414T203000
DTSTAMP:20260421T084453
CREATED:20230902T002718Z
LAST-MODIFIED:20230921T133952Z
UID:10057202-1807727400-1807734600@www.livinginelkgrove.com
SUMMARY:Pride of Laguna Creek Lions Club 2nd Wednesday Meeting
DESCRIPTION:
URL:https://www.livinginelkgrove.com/event/pride-of-laguna-creek-lions-club-meeting-2/2027-04-14/
LOCATION:Gil Albiani Recreation Center at Beeman Park\, 8830 Sharkey Drive\, Elk Grove\, CA\, 95624\, United States
CATEGORIES:Events,Meetings
END:VEVENT
BEGIN:VEVENT
DTSTART;TZID=America/Los_Angeles:20270512T183000
DTEND;TZID=America/Los_Angeles:20270512T203000
DTSTAMP:20260421T084453
CREATED:20230902T002718Z
LAST-MODIFIED:20230921T133952Z
UID:10057203-1810146600-1810153800@www.livinginelkgrove.com
SUMMARY:Pride of Laguna Creek Lions Club 2nd Wednesday Meeting
DESCRIPTION:
URL:https://www.livinginelkgrove.com/event/pride-of-laguna-creek-lions-club-meeting-2/2027-05-12/
LOCATION:Gil Albiani Recreation Center at Beeman Park\, 8830 Sharkey Drive\, Elk Grove\, CA\, 95624\, United States
CATEGORIES:Events,Meetings
END:VEVENT
BEGIN:VEVENT
DTSTART;TZID=America/Los_Angeles:20270609T183000
DTEND;TZID=America/Los_Angeles:20270609T203000
DTSTAMP:20260421T084453
CREATED:20230902T002718Z
LAST-MODIFIED:20230921T133952Z
UID:10057204-1812565800-1812573000@www.livinginelkgrove.com
SUMMARY:Pride of Laguna Creek Lions Club 2nd Wednesday Meeting
DESCRIPTION:
URL:https://www.livinginelkgrove.com/event/pride-of-laguna-creek-lions-club-meeting-2/2027-06-09/
LOCATION:Gil Albiani Recreation Center at Beeman Park\, 8830 Sharkey Drive\, Elk Grove\, CA\, 95624\, United States
CATEGORIES:Events,Meetings
END:VEVENT
BEGIN:VEVENT
DTSTART;TZID=America/Los_Angeles:20270714T183000
DTEND;TZID=America/Los_Angeles:20270714T203000
DTSTAMP:20260421T084453
CREATED:20230902T002718Z
LAST-MODIFIED:20230921T133952Z
UID:10057205-1815589800-1815597000@www.livinginelkgrove.com
SUMMARY:Pride of Laguna Creek Lions Club 2nd Wednesday Meeting
DESCRIPTION:
URL:https://www.livinginelkgrove.com/event/pride-of-laguna-creek-lions-club-meeting-2/2027-07-14/
LOCATION:Gil Albiani Recreation Center at Beeman Park\, 8830 Sharkey Drive\, Elk Grove\, CA\, 95624\, United States
CATEGORIES:Events,Meetings
END:VEVENT
BEGIN:VEVENT
DTSTART;TZID=America/Los_Angeles:20270811T183000
DTEND;TZID=America/Los_Angeles:20270811T203000
DTSTAMP:20260421T084453
CREATED:20230902T002718Z
LAST-MODIFIED:20230921T133952Z
UID:10057206-1818009000-1818016200@www.livinginelkgrove.com
SUMMARY:Pride of Laguna Creek Lions Club 2nd Wednesday Meeting
DESCRIPTION:
URL:https://www.livinginelkgrove.com/event/pride-of-laguna-creek-lions-club-meeting-2/2027-08-11/
LOCATION:Gil Albiani Recreation Center at Beeman Park\, 8830 Sharkey Drive\, Elk Grove\, CA\, 95624\, United States
CATEGORIES:Events,Meetings
END:VEVENT
BEGIN:VEVENT
DTSTART;TZID=America/Los_Angeles:20270908T183000
DTEND;TZID=America/Los_Angeles:20270908T203000
DTSTAMP:20260421T084453
CREATED:20230902T002718Z
LAST-MODIFIED:20230921T133952Z
UID:10057207-1820428200-1820435400@www.livinginelkgrove.com
SUMMARY:Pride of Laguna Creek Lions Club 2nd Wednesday Meeting
DESCRIPTION:
URL:https://www.livinginelkgrove.com/event/pride-of-laguna-creek-lions-club-meeting-2/2027-09-08/
LOCATION:Gil Albiani Recreation Center at Beeman Park\, 8830 Sharkey Drive\, Elk Grove\, CA\, 95624\, United States
CATEGORIES:Events,Meetings
END:VEVENT
BEGIN:VEVENT
DTSTART;TZID=America/Los_Angeles:20271013T183000
DTEND;TZID=America/Los_Angeles:20271013T203000
DTSTAMP:20260421T084453
CREATED:20230902T002718Z
LAST-MODIFIED:20230921T133952Z
UID:10057208-1823452200-1823459400@www.livinginelkgrove.com
SUMMARY:Pride of Laguna Creek Lions Club 2nd Wednesday Meeting
DESCRIPTION:
URL:https://www.livinginelkgrove.com/event/pride-of-laguna-creek-lions-club-meeting-2/2027-10-13/
LOCATION:Gil Albiani Recreation Center at Beeman Park\, 8830 Sharkey Drive\, Elk Grove\, CA\, 95624\, United States
CATEGORIES:Events,Meetings
END:VEVENT
BEGIN:VEVENT
DTSTART;TZID=America/Los_Angeles:20271110T183000
DTEND;TZID=America/Los_Angeles:20271110T203000
DTSTAMP:20260421T084453
CREATED:20230902T002718Z
LAST-MODIFIED:20230921T133952Z
UID:10057209-1825871400-1825878600@www.livinginelkgrove.com
SUMMARY:Pride of Laguna Creek Lions Club 2nd Wednesday Meeting
DESCRIPTION:
URL:https://www.livinginelkgrove.com/event/pride-of-laguna-creek-lions-club-meeting-2/2027-11-10/
LOCATION:Gil Albiani Recreation Center at Beeman Park\, 8830 Sharkey Drive\, Elk Grove\, CA\, 95624\, United States
CATEGORIES:Events,Meetings
END:VEVENT
BEGIN:VEVENT
DTSTART;TZID=America/Los_Angeles:20271208T183000
DTEND;TZID=America/Los_Angeles:20271208T203000
DTSTAMP:20260421T084453
CREATED:20230902T002718Z
LAST-MODIFIED:20230921T133952Z
UID:10057210-1828290600-1828297800@www.livinginelkgrove.com
SUMMARY:Pride of Laguna Creek Lions Club 2nd Wednesday Meeting
DESCRIPTION:
URL:https://www.livinginelkgrove.com/event/pride-of-laguna-creek-lions-club-meeting-2/2027-12-08/
LOCATION:Gil Albiani Recreation Center at Beeman Park\, 8830 Sharkey Drive\, Elk Grove\, CA\, 95624\, United States
CATEGORIES:Events,Meetings
END:VEVENT
BEGIN:VEVENT
DTSTART;TZID=America/Los_Angeles:20280112T183000
DTEND;TZID=America/Los_Angeles:20280112T203000
DTSTAMP:20260421T084453
CREATED:20230902T002718Z
LAST-MODIFIED:20230921T133952Z
UID:10057211-1831314600-1831321800@www.livinginelkgrove.com
SUMMARY:Pride of Laguna Creek Lions Club 2nd Wednesday Meeting
DESCRIPTION:
URL:https://www.livinginelkgrove.com/event/pride-of-laguna-creek-lions-club-meeting-2/2028-01-12/
LOCATION:Gil Albiani Recreation Center at Beeman Park\, 8830 Sharkey Drive\, Elk Grove\, CA\, 95624\, United States
CATEGORIES:Events,Meetings
END:VEVENT
BEGIN:VEVENT
DTSTART;TZID=America/Los_Angeles:20280209T183000
DTEND;TZID=America/Los_Angeles:20280209T203000
DTSTAMP:20260421T084453
CREATED:20230902T002718Z
LAST-MODIFIED:20230921T133952Z
UID:10057212-1833733800-1833741000@www.livinginelkgrove.com
SUMMARY:Pride of Laguna Creek Lions Club 2nd Wednesday Meeting
DESCRIPTION:
URL:https://www.livinginelkgrove.com/event/pride-of-laguna-creek-lions-club-meeting-2/2028-02-09/
LOCATION:Gil Albiani Recreation Center at Beeman Park\, 8830 Sharkey Drive\, Elk Grove\, CA\, 95624\, United States
CATEGORIES:Events,Meetings
END:VEVENT
BEGIN:VEVENT
DTSTART;TZID=America/Los_Angeles:20280308T183000
DTEND;TZID=America/Los_Angeles:20280308T203000
DTSTAMP:20260421T084453
CREATED:20230902T002718Z
LAST-MODIFIED:20230921T133952Z
UID:10057213-1836153000-1836160200@www.livinginelkgrove.com
SUMMARY:Pride of Laguna Creek Lions Club 2nd Wednesday Meeting
DESCRIPTION:
URL:https://www.livinginelkgrove.com/event/pride-of-laguna-creek-lions-club-meeting-2/2028-03-08/
LOCATION:Gil Albiani Recreation Center at Beeman Park\, 8830 Sharkey Drive\, Elk Grove\, CA\, 95624\, United States
CATEGORIES:Events,Meetings
END:VEVENT
BEGIN:VEVENT
DTSTART;TZID=America/Los_Angeles:20280412T183000
DTEND;TZID=America/Los_Angeles:20280412T203000
DTSTAMP:20260421T084453
CREATED:20230902T002718Z
LAST-MODIFIED:20230921T133952Z
UID:10057214-1839177000-1839184200@www.livinginelkgrove.com
SUMMARY:Pride of Laguna Creek Lions Club 2nd Wednesday Meeting
DESCRIPTION:
URL:https://www.livinginelkgrove.com/event/pride-of-laguna-creek-lions-club-meeting-2/2028-04-12/
LOCATION:Gil Albiani Recreation Center at Beeman Park\, 8830 Sharkey Drive\, Elk Grove\, CA\, 95624\, United States
CATEGORIES:Events,Meetings
END:VEVENT
BEGIN:VEVENT
DTSTART;TZID=America/Los_Angeles:20280510T183000
DTEND;TZID=America/Los_Angeles:20280510T203000
DTSTAMP:20260421T084453
CREATED:20230902T002718Z
LAST-MODIFIED:20230921T133952Z
UID:10057215-1841596200-1841603400@www.livinginelkgrove.com
SUMMARY:Pride of Laguna Creek Lions Club 2nd Wednesday Meeting
DESCRIPTION:
URL:https://www.livinginelkgrove.com/event/pride-of-laguna-creek-lions-club-meeting-2/2028-05-10/
LOCATION:Gil Albiani Recreation Center at Beeman Park\, 8830 Sharkey Drive\, Elk Grove\, CA\, 95624\, United States
CATEGORIES:Events,Meetings
END:VEVENT
BEGIN:VEVENT
DTSTART;TZID=America/Los_Angeles:20280614T183000
DTEND;TZID=America/Los_Angeles:20280614T203000
DTSTAMP:20260421T084453
CREATED:20230902T002718Z
LAST-MODIFIED:20230921T133952Z
UID:10057216-1844620200-1844627400@www.livinginelkgrove.com
SUMMARY:Pride of Laguna Creek Lions Club 2nd Wednesday Meeting
DESCRIPTION:
URL:https://www.livinginelkgrove.com/event/pride-of-laguna-creek-lions-club-meeting-2/2028-06-14/
LOCATION:Gil Albiani Recreation Center at Beeman Park\, 8830 Sharkey Drive\, Elk Grove\, CA\, 95624\, United States
CATEGORIES:Events,Meetings
END:VEVENT
BEGIN:VEVENT
DTSTART;TZID=America/Los_Angeles:20280712T183000
DTEND;TZID=America/Los_Angeles:20280712T203000
DTSTAMP:20260421T084453
CREATED:20230902T002718Z
LAST-MODIFIED:20230921T133952Z
UID:10057217-1847039400-1847046600@www.livinginelkgrove.com
SUMMARY:Pride of Laguna Creek Lions Club 2nd Wednesday Meeting
DESCRIPTION:
URL:https://www.livinginelkgrove.com/event/pride-of-laguna-creek-lions-club-meeting-2/2028-07-12/
LOCATION:Gil Albiani Recreation Center at Beeman Park\, 8830 Sharkey Drive\, Elk Grove\, CA\, 95624\, United States
CATEGORIES:Events,Meetings
END:VEVENT
BEGIN:VEVENT
DTSTART;TZID=America/Los_Angeles:20280809T183000
DTEND;TZID=America/Los_Angeles:20280809T203000
DTSTAMP:20260421T084453
CREATED:20230902T002718Z
LAST-MODIFIED:20230921T133952Z
UID:10057218-1849458600-1849465800@www.livinginelkgrove.com
SUMMARY:Pride of Laguna Creek Lions Club 2nd Wednesday Meeting
DESCRIPTION:
URL:https://www.livinginelkgrove.com/event/pride-of-laguna-creek-lions-club-meeting-2/2028-08-09/
LOCATION:Gil Albiani Recreation Center at Beeman Park\, 8830 Sharkey Drive\, Elk Grove\, CA\, 95624\, United States
CATEGORIES:Events,Meetings
END:VEVENT
BEGIN:VEVENT
DTSTART;TZID=America/Los_Angeles:20280913T183000
DTEND;TZID=America/Los_Angeles:20280913T203000
DTSTAMP:20260421T084453
CREATED:20230902T002718Z
LAST-MODIFIED:20230921T133952Z
UID:10057588-1852482600-1852489800@www.livinginelkgrove.com
SUMMARY:Pride of Laguna Creek Lions Club 2nd Wednesday Meeting
DESCRIPTION:
URL:https://www.livinginelkgrove.com/event/pride-of-laguna-creek-lions-club-meeting-2/2028-09-13/
LOCATION:Gil Albiani Recreation Center at Beeman Park\, 8830 Sharkey Drive\, Elk Grove\, CA\, 95624\, United States
CATEGORIES:Events,Meetings
END:VEVENT
END:VCALENDAR