BEGIN:VCALENDAR
VERSION:2.0
PRODID:-//Living In Elk Grove - ECPv6.15.20//NONSGML v1.0//EN
CALSCALE:GREGORIAN
METHOD:PUBLISH
X-WR-CALNAME:Living In Elk Grove
X-ORIGINAL-URL:https://www.livinginelkgrove.com
X-WR-CALDESC:Events for Living In Elk Grove
REFRESH-INTERVAL;VALUE=DURATION:PT1H
X-Robots-Tag:noindex
X-PUBLISHED-TTL:PT1H
BEGIN:VTIMEZONE
TZID:America/Los_Angeles
BEGIN:DAYLIGHT
TZOFFSETFROM:-0800
TZOFFSETTO:-0700
TZNAME:PDT
DTSTART:20250309T100000
END:DAYLIGHT
BEGIN:STANDARD
TZOFFSETFROM:-0700
TZOFFSETTO:-0800
TZNAME:PST
DTSTART:20251102T090000
END:STANDARD
BEGIN:DAYLIGHT
TZOFFSETFROM:-0800
TZOFFSETTO:-0700
TZNAME:PDT
DTSTART:20260308T100000
END:DAYLIGHT
BEGIN:STANDARD
TZOFFSETFROM:-0700
TZOFFSETTO:-0800
TZNAME:PST
DTSTART:20261101T090000
END:STANDARD
BEGIN:DAYLIGHT
TZOFFSETFROM:-0800
TZOFFSETTO:-0700
TZNAME:PDT
DTSTART:20270314T100000
END:DAYLIGHT
BEGIN:STANDARD
TZOFFSETFROM:-0700
TZOFFSETTO:-0800
TZNAME:PST
DTSTART:20271107T090000
END:STANDARD
BEGIN:DAYLIGHT
TZOFFSETFROM:-0800
TZOFFSETTO:-0700
TZNAME:PDT
DTSTART:20280312T100000
END:DAYLIGHT
BEGIN:STANDARD
TZOFFSETFROM:-0700
TZOFFSETTO:-0800
TZNAME:PST
DTSTART:20281105T090000
END:STANDARD
BEGIN:DAYLIGHT
TZOFFSETFROM:-0800
TZOFFSETTO:-0700
TZNAME:PDT
DTSTART:20290311T100000
END:DAYLIGHT
BEGIN:STANDARD
TZOFFSETFROM:-0700
TZOFFSETTO:-0800
TZNAME:PST
DTSTART:20291104T090000
END:STANDARD
BEGIN:DAYLIGHT
TZOFFSETFROM:-0800
TZOFFSETTO:-0700
TZNAME:PDT
DTSTART:20300310T100000
END:DAYLIGHT
BEGIN:STANDARD
TZOFFSETFROM:-0700
TZOFFSETTO:-0800
TZNAME:PST
DTSTART:20301103T090000
END:STANDARD
END:VTIMEZONE
BEGIN:VEVENT
DTSTART;TZID=America/Los_Angeles:20261205T180000
DTEND;TZID=America/Los_Angeles:20261205T190000
DTSTAMP:20260423T202359
CREATED:20250713T025835Z
LAST-MODIFIED:20250713T025949Z
UID:10057879-1796493600-1796497200@www.livinginelkgrove.com
SUMMARY:Elk Grove Parade of Lights
DESCRIPTION:Come out and celebrate the Parade of Lights with the Elk Grove Lions Club. We will be co-hosting the Parade of Lights with the City of Elk Grove and Sutter Health as a part of Elk Grove’s Illumination Holiday Festival. The parade participants will line up on Laguna Springs Drive at Lotz Parkway. Parade will start on Laguna Springs Drive and travel north to Civic Center Drive\, left on Civic Center Drive to the reviewing stand across from District56. From there\, we turn left on Big Horn and continue to Denali Circle. We plan to be at the front of the parade carrying the banner that you see at the top of this page. \nDo you want to be a participant in the parade? Parade-of-Lights-Entry-Form
URL:https://www.livinginelkgrove.com/event/parade-of-lights/2026-12-05/
LOCATION:District 56 Event Center\, Civic Center Drive\, Elk Grove\, CA\, 95757\, United States
CATEGORIES:Activities,Events,Festival
END:VEVENT
BEGIN:VEVENT
DTSTART;TZID=America/Los_Angeles:20271204T180000
DTEND;TZID=America/Los_Angeles:20271204T190000
DTSTAMP:20260423T202359
CREATED:20250713T025835Z
LAST-MODIFIED:20250713T025949Z
UID:10057880-1827943200-1827946800@www.livinginelkgrove.com
SUMMARY:Elk Grove Parade of Lights
DESCRIPTION:Come out and celebrate the Parade of Lights with the Elk Grove Lions Club. We will be co-hosting the Parade of Lights with the City of Elk Grove and Sutter Health as a part of Elk Grove’s Illumination Holiday Festival. The parade participants will line up on Laguna Springs Drive at Lotz Parkway. Parade will start on Laguna Springs Drive and travel north to Civic Center Drive\, left on Civic Center Drive to the reviewing stand across from District56. From there\, we turn left on Big Horn and continue to Denali Circle. We plan to be at the front of the parade carrying the banner that you see at the top of this page. \nDo you want to be a participant in the parade? Parade-of-Lights-Entry-Form
URL:https://www.livinginelkgrove.com/event/parade-of-lights/2027-12-04/
LOCATION:District 56 Event Center\, Civic Center Drive\, Elk Grove\, CA\, 95757\, United States
CATEGORIES:Activities,Events,Festival
END:VEVENT
BEGIN:VEVENT
DTSTART;TZID=America/Los_Angeles:20281202T180000
DTEND;TZID=America/Los_Angeles:20281202T190000
DTSTAMP:20260423T202359
CREATED:20250713T025835Z
LAST-MODIFIED:20250713T025949Z
UID:10059178-1859392800-1859396400@www.livinginelkgrove.com
SUMMARY:Elk Grove Parade of Lights
DESCRIPTION:Come out and celebrate the Parade of Lights with the Elk Grove Lions Club. We will be co-hosting the Parade of Lights with the City of Elk Grove and Sutter Health as a part of Elk Grove’s Illumination Holiday Festival. The parade participants will line up on Laguna Springs Drive at Lotz Parkway. Parade will start on Laguna Springs Drive and travel north to Civic Center Drive\, left on Civic Center Drive to the reviewing stand across from District56. From there\, we turn left on Big Horn and continue to Denali Circle. We plan to be at the front of the parade carrying the banner that you see at the top of this page. \nDo you want to be a participant in the parade? Parade-of-Lights-Entry-Form
URL:https://www.livinginelkgrove.com/event/parade-of-lights/2028-12-02/
LOCATION:District 56 Event Center\, Civic Center Drive\, Elk Grove\, CA\, 95757\, United States
CATEGORIES:Activities,Events,Festival
END:VEVENT
BEGIN:VEVENT
DTSTART;TZID=America/Los_Angeles:20291201T180000
DTEND;TZID=America/Los_Angeles:20291201T190000
DTSTAMP:20260423T202359
CREATED:20250713T025835Z
LAST-MODIFIED:20250713T025949Z
UID:10059179-1890842400-1890846000@www.livinginelkgrove.com
SUMMARY:Elk Grove Parade of Lights
DESCRIPTION:Come out and celebrate the Parade of Lights with the Elk Grove Lions Club. We will be co-hosting the Parade of Lights with the City of Elk Grove and Sutter Health as a part of Elk Grove’s Illumination Holiday Festival. The parade participants will line up on Laguna Springs Drive at Lotz Parkway. Parade will start on Laguna Springs Drive and travel north to Civic Center Drive\, left on Civic Center Drive to the reviewing stand across from District56. From there\, we turn left on Big Horn and continue to Denali Circle. We plan to be at the front of the parade carrying the banner that you see at the top of this page. \nDo you want to be a participant in the parade? Parade-of-Lights-Entry-Form
URL:https://www.livinginelkgrove.com/event/parade-of-lights/2029-12-01/
LOCATION:District 56 Event Center\, Civic Center Drive\, Elk Grove\, CA\, 95757\, United States
CATEGORIES:Activities,Events,Festival
END:VEVENT
END:VCALENDAR