BEGIN:VCALENDAR
VERSION:2.0
PRODID:-//Living In Elk Grove - ECPv6.15.20//NONSGML v1.0//EN
CALSCALE:GREGORIAN
METHOD:PUBLISH
X-WR-CALNAME:Living In Elk Grove
X-ORIGINAL-URL:https://www.livinginelkgrove.com
X-WR-CALDESC:Events for Living In Elk Grove
REFRESH-INTERVAL;VALUE=DURATION:PT1H
X-Robots-Tag:noindex
X-PUBLISHED-TTL:PT1H
BEGIN:VTIMEZONE
TZID:America/Los_Angeles
BEGIN:DAYLIGHT
TZOFFSETFROM:-0800
TZOFFSETTO:-0700
TZNAME:PDT
DTSTART:20250309T100000
END:DAYLIGHT
BEGIN:STANDARD
TZOFFSETFROM:-0700
TZOFFSETTO:-0800
TZNAME:PST
DTSTART:20251102T090000
END:STANDARD
BEGIN:DAYLIGHT
TZOFFSETFROM:-0800
TZOFFSETTO:-0700
TZNAME:PDT
DTSTART:20260308T100000
END:DAYLIGHT
BEGIN:STANDARD
TZOFFSETFROM:-0700
TZOFFSETTO:-0800
TZNAME:PST
DTSTART:20261101T090000
END:STANDARD
BEGIN:DAYLIGHT
TZOFFSETFROM:-0800
TZOFFSETTO:-0700
TZNAME:PDT
DTSTART:20270314T100000
END:DAYLIGHT
BEGIN:STANDARD
TZOFFSETFROM:-0700
TZOFFSETTO:-0800
TZNAME:PST
DTSTART:20271107T090000
END:STANDARD
BEGIN:DAYLIGHT
TZOFFSETFROM:-0800
TZOFFSETTO:-0700
TZNAME:PDT
DTSTART:20280312T100000
END:DAYLIGHT
BEGIN:STANDARD
TZOFFSETFROM:-0700
TZOFFSETTO:-0800
TZNAME:PST
DTSTART:20281105T090000
END:STANDARD
BEGIN:DAYLIGHT
TZOFFSETFROM:-0800
TZOFFSETTO:-0700
TZNAME:PDT
DTSTART:20290311T100000
END:DAYLIGHT
BEGIN:STANDARD
TZOFFSETFROM:-0700
TZOFFSETTO:-0800
TZNAME:PST
DTSTART:20291104T090000
END:STANDARD
END:VTIMEZONE
BEGIN:VEVENT
DTSTART;TZID=America/Los_Angeles:20260527T180000
DTEND;TZID=America/Los_Angeles:20260527T210000
DTSTAMP:20260423T105100
CREATED:20250125T225607Z
LAST-MODIFIED:20250125T225834Z
UID:10058887-1779904800-1779915600@www.livinginelkgrove.com
SUMMARY:Elk Grove City Council 4th Wednesday Meeting
DESCRIPTION:The meetings are held in the Council Chambers at 8400 Laguna Palms Way\, Elk Grove\, CA\, 95758. 
URL:https://www.livinginelkgrove.com/event/elk-grove-city-council-4th-wednesday-meeting/2026-05-27/
LOCATION:Elk Grove City Hall\, 8400 Laguna Palms\, Elk Grove\, CA\, 95758\, United States
CATEGORIES:Meetings
GEO:38.4173138;-121.3947808
X-APPLE-STRUCTURED-LOCATION;VALUE=URI;X-ADDRESS=Elk Grove City Hall 8400 Laguna Palms Elk Grove CA 95758 United States;X-APPLE-RADIUS=500;X-TITLE=8400 Laguna Palms:geo:-121.3947808,38.4173138
END:VEVENT
BEGIN:VEVENT
DTSTART;TZID=America/Los_Angeles:20260624T180000
DTEND;TZID=America/Los_Angeles:20260624T210000
DTSTAMP:20260423T105100
CREATED:20250125T225607Z
LAST-MODIFIED:20250125T225834Z
UID:10058888-1782324000-1782334800@www.livinginelkgrove.com
SUMMARY:Elk Grove City Council 4th Wednesday Meeting
DESCRIPTION:The meetings are held in the Council Chambers at 8400 Laguna Palms Way\, Elk Grove\, CA\, 95758. 
URL:https://www.livinginelkgrove.com/event/elk-grove-city-council-4th-wednesday-meeting/2026-06-24/
LOCATION:Elk Grove City Hall\, 8400 Laguna Palms\, Elk Grove\, CA\, 95758\, United States
CATEGORIES:Meetings
GEO:38.4173138;-121.3947808
X-APPLE-STRUCTURED-LOCATION;VALUE=URI;X-ADDRESS=Elk Grove City Hall 8400 Laguna Palms Elk Grove CA 95758 United States;X-APPLE-RADIUS=500;X-TITLE=8400 Laguna Palms:geo:-121.3947808,38.4173138
END:VEVENT
BEGIN:VEVENT
DTSTART;TZID=America/Los_Angeles:20260722T180000
DTEND;TZID=America/Los_Angeles:20260722T210000
DTSTAMP:20260423T105100
CREATED:20250125T225607Z
LAST-MODIFIED:20250125T225834Z
UID:10058889-1784743200-1784754000@www.livinginelkgrove.com
SUMMARY:Elk Grove City Council 4th Wednesday Meeting
DESCRIPTION:The meetings are held in the Council Chambers at 8400 Laguna Palms Way\, Elk Grove\, CA\, 95758. 
URL:https://www.livinginelkgrove.com/event/elk-grove-city-council-4th-wednesday-meeting/2026-07-22/
LOCATION:Elk Grove City Hall\, 8400 Laguna Palms\, Elk Grove\, CA\, 95758\, United States
CATEGORIES:Meetings
GEO:38.4173138;-121.3947808
X-APPLE-STRUCTURED-LOCATION;VALUE=URI;X-ADDRESS=Elk Grove City Hall 8400 Laguna Palms Elk Grove CA 95758 United States;X-APPLE-RADIUS=500;X-TITLE=8400 Laguna Palms:geo:-121.3947808,38.4173138
END:VEVENT
BEGIN:VEVENT
DTSTART;TZID=America/Los_Angeles:20260826T180000
DTEND;TZID=America/Los_Angeles:20260826T210000
DTSTAMP:20260423T105100
CREATED:20250125T225607Z
LAST-MODIFIED:20250125T225834Z
UID:10058890-1787767200-1787778000@www.livinginelkgrove.com
SUMMARY:Elk Grove City Council 4th Wednesday Meeting
DESCRIPTION:The meetings are held in the Council Chambers at 8400 Laguna Palms Way\, Elk Grove\, CA\, 95758. 
URL:https://www.livinginelkgrove.com/event/elk-grove-city-council-4th-wednesday-meeting/2026-08-26/
LOCATION:Elk Grove City Hall\, 8400 Laguna Palms\, Elk Grove\, CA\, 95758\, United States
CATEGORIES:Meetings
GEO:38.4173138;-121.3947808
X-APPLE-STRUCTURED-LOCATION;VALUE=URI;X-ADDRESS=Elk Grove City Hall 8400 Laguna Palms Elk Grove CA 95758 United States;X-APPLE-RADIUS=500;X-TITLE=8400 Laguna Palms:geo:-121.3947808,38.4173138
END:VEVENT
BEGIN:VEVENT
DTSTART;TZID=America/Los_Angeles:20260923T180000
DTEND;TZID=America/Los_Angeles:20260923T210000
DTSTAMP:20260423T105100
CREATED:20250125T225607Z
LAST-MODIFIED:20250125T225834Z
UID:10058891-1790186400-1790197200@www.livinginelkgrove.com
SUMMARY:Elk Grove City Council 4th Wednesday Meeting
DESCRIPTION:The meetings are held in the Council Chambers at 8400 Laguna Palms Way\, Elk Grove\, CA\, 95758. 
URL:https://www.livinginelkgrove.com/event/elk-grove-city-council-4th-wednesday-meeting/2026-09-23/
LOCATION:Elk Grove City Hall\, 8400 Laguna Palms\, Elk Grove\, CA\, 95758\, United States
CATEGORIES:Meetings
GEO:38.4173138;-121.3947808
X-APPLE-STRUCTURED-LOCATION;VALUE=URI;X-ADDRESS=Elk Grove City Hall 8400 Laguna Palms Elk Grove CA 95758 United States;X-APPLE-RADIUS=500;X-TITLE=8400 Laguna Palms:geo:-121.3947808,38.4173138
END:VEVENT
BEGIN:VEVENT
DTSTART;TZID=America/Los_Angeles:20261028T180000
DTEND;TZID=America/Los_Angeles:20261028T210000
DTSTAMP:20260423T105100
CREATED:20250125T225607Z
LAST-MODIFIED:20250125T225834Z
UID:10058892-1793210400-1793221200@www.livinginelkgrove.com
SUMMARY:Elk Grove City Council 4th Wednesday Meeting
DESCRIPTION:The meetings are held in the Council Chambers at 8400 Laguna Palms Way\, Elk Grove\, CA\, 95758. 
URL:https://www.livinginelkgrove.com/event/elk-grove-city-council-4th-wednesday-meeting/2026-10-28/
LOCATION:Elk Grove City Hall\, 8400 Laguna Palms\, Elk Grove\, CA\, 95758\, United States
CATEGORIES:Meetings
GEO:38.4173138;-121.3947808
X-APPLE-STRUCTURED-LOCATION;VALUE=URI;X-ADDRESS=Elk Grove City Hall 8400 Laguna Palms Elk Grove CA 95758 United States;X-APPLE-RADIUS=500;X-TITLE=8400 Laguna Palms:geo:-121.3947808,38.4173138
END:VEVENT
BEGIN:VEVENT
DTSTART;TZID=America/Los_Angeles:20261125T180000
DTEND;TZID=America/Los_Angeles:20261125T210000
DTSTAMP:20260423T105100
CREATED:20250125T225607Z
LAST-MODIFIED:20250125T225834Z
UID:10058893-1795629600-1795640400@www.livinginelkgrove.com
SUMMARY:Elk Grove City Council 4th Wednesday Meeting
DESCRIPTION:The meetings are held in the Council Chambers at 8400 Laguna Palms Way\, Elk Grove\, CA\, 95758. 
URL:https://www.livinginelkgrove.com/event/elk-grove-city-council-4th-wednesday-meeting/2026-11-25/
LOCATION:Elk Grove City Hall\, 8400 Laguna Palms\, Elk Grove\, CA\, 95758\, United States
CATEGORIES:Meetings
GEO:38.4173138;-121.3947808
X-APPLE-STRUCTURED-LOCATION;VALUE=URI;X-ADDRESS=Elk Grove City Hall 8400 Laguna Palms Elk Grove CA 95758 United States;X-APPLE-RADIUS=500;X-TITLE=8400 Laguna Palms:geo:-121.3947808,38.4173138
END:VEVENT
BEGIN:VEVENT
DTSTART;TZID=America/Los_Angeles:20261223T180000
DTEND;TZID=America/Los_Angeles:20261223T210000
DTSTAMP:20260423T105100
CREATED:20250125T225607Z
LAST-MODIFIED:20250125T225834Z
UID:10058894-1798048800-1798059600@www.livinginelkgrove.com
SUMMARY:Elk Grove City Council 4th Wednesday Meeting
DESCRIPTION:The meetings are held in the Council Chambers at 8400 Laguna Palms Way\, Elk Grove\, CA\, 95758. 
URL:https://www.livinginelkgrove.com/event/elk-grove-city-council-4th-wednesday-meeting/2026-12-23/
LOCATION:Elk Grove City Hall\, 8400 Laguna Palms\, Elk Grove\, CA\, 95758\, United States
CATEGORIES:Meetings
GEO:38.4173138;-121.3947808
X-APPLE-STRUCTURED-LOCATION;VALUE=URI;X-ADDRESS=Elk Grove City Hall 8400 Laguna Palms Elk Grove CA 95758 United States;X-APPLE-RADIUS=500;X-TITLE=8400 Laguna Palms:geo:-121.3947808,38.4173138
END:VEVENT
BEGIN:VEVENT
DTSTART;TZID=America/Los_Angeles:20270127T180000
DTEND;TZID=America/Los_Angeles:20270127T210000
DTSTAMP:20260423T105100
CREATED:20250125T225607Z
LAST-MODIFIED:20250125T225834Z
UID:10058895-1801072800-1801083600@www.livinginelkgrove.com
SUMMARY:Elk Grove City Council 4th Wednesday Meeting
DESCRIPTION:The meetings are held in the Council Chambers at 8400 Laguna Palms Way\, Elk Grove\, CA\, 95758. 
URL:https://www.livinginelkgrove.com/event/elk-grove-city-council-4th-wednesday-meeting/2027-01-27/
LOCATION:Elk Grove City Hall\, 8400 Laguna Palms\, Elk Grove\, CA\, 95758\, United States
CATEGORIES:Meetings
GEO:38.4173138;-121.3947808
X-APPLE-STRUCTURED-LOCATION;VALUE=URI;X-ADDRESS=Elk Grove City Hall 8400 Laguna Palms Elk Grove CA 95758 United States;X-APPLE-RADIUS=500;X-TITLE=8400 Laguna Palms:geo:-121.3947808,38.4173138
END:VEVENT
BEGIN:VEVENT
DTSTART;TZID=America/Los_Angeles:20270224T180000
DTEND;TZID=America/Los_Angeles:20270224T210000
DTSTAMP:20260423T105100
CREATED:20250125T225607Z
LAST-MODIFIED:20250125T225834Z
UID:10058896-1803492000-1803502800@www.livinginelkgrove.com
SUMMARY:Elk Grove City Council 4th Wednesday Meeting
DESCRIPTION:The meetings are held in the Council Chambers at 8400 Laguna Palms Way\, Elk Grove\, CA\, 95758. 
URL:https://www.livinginelkgrove.com/event/elk-grove-city-council-4th-wednesday-meeting/2027-02-24/
LOCATION:Elk Grove City Hall\, 8400 Laguna Palms\, Elk Grove\, CA\, 95758\, United States
CATEGORIES:Meetings
GEO:38.4173138;-121.3947808
X-APPLE-STRUCTURED-LOCATION;VALUE=URI;X-ADDRESS=Elk Grove City Hall 8400 Laguna Palms Elk Grove CA 95758 United States;X-APPLE-RADIUS=500;X-TITLE=8400 Laguna Palms:geo:-121.3947808,38.4173138
END:VEVENT
BEGIN:VEVENT
DTSTART;TZID=America/Los_Angeles:20270324T180000
DTEND;TZID=America/Los_Angeles:20270324T210000
DTSTAMP:20260423T105100
CREATED:20250125T225607Z
LAST-MODIFIED:20250125T225834Z
UID:10058897-1805911200-1805922000@www.livinginelkgrove.com
SUMMARY:Elk Grove City Council 4th Wednesday Meeting
DESCRIPTION:The meetings are held in the Council Chambers at 8400 Laguna Palms Way\, Elk Grove\, CA\, 95758. 
URL:https://www.livinginelkgrove.com/event/elk-grove-city-council-4th-wednesday-meeting/2027-03-24/
LOCATION:Elk Grove City Hall\, 8400 Laguna Palms\, Elk Grove\, CA\, 95758\, United States
CATEGORIES:Meetings
GEO:38.4173138;-121.3947808
X-APPLE-STRUCTURED-LOCATION;VALUE=URI;X-ADDRESS=Elk Grove City Hall 8400 Laguna Palms Elk Grove CA 95758 United States;X-APPLE-RADIUS=500;X-TITLE=8400 Laguna Palms:geo:-121.3947808,38.4173138
END:VEVENT
BEGIN:VEVENT
DTSTART;TZID=America/Los_Angeles:20270428T180000
DTEND;TZID=America/Los_Angeles:20270428T210000
DTSTAMP:20260423T105100
CREATED:20250125T225607Z
LAST-MODIFIED:20250125T225834Z
UID:10058898-1808935200-1808946000@www.livinginelkgrove.com
SUMMARY:Elk Grove City Council 4th Wednesday Meeting
DESCRIPTION:The meetings are held in the Council Chambers at 8400 Laguna Palms Way\, Elk Grove\, CA\, 95758. 
URL:https://www.livinginelkgrove.com/event/elk-grove-city-council-4th-wednesday-meeting/2027-04-28/
LOCATION:Elk Grove City Hall\, 8400 Laguna Palms\, Elk Grove\, CA\, 95758\, United States
CATEGORIES:Meetings
GEO:38.4173138;-121.3947808
X-APPLE-STRUCTURED-LOCATION;VALUE=URI;X-ADDRESS=Elk Grove City Hall 8400 Laguna Palms Elk Grove CA 95758 United States;X-APPLE-RADIUS=500;X-TITLE=8400 Laguna Palms:geo:-121.3947808,38.4173138
END:VEVENT
BEGIN:VEVENT
DTSTART;TZID=America/Los_Angeles:20270526T180000
DTEND;TZID=America/Los_Angeles:20270526T210000
DTSTAMP:20260423T105100
CREATED:20250125T225607Z
LAST-MODIFIED:20250125T225834Z
UID:10058899-1811354400-1811365200@www.livinginelkgrove.com
SUMMARY:Elk Grove City Council 4th Wednesday Meeting
DESCRIPTION:The meetings are held in the Council Chambers at 8400 Laguna Palms Way\, Elk Grove\, CA\, 95758. 
URL:https://www.livinginelkgrove.com/event/elk-grove-city-council-4th-wednesday-meeting/2027-05-26/
LOCATION:Elk Grove City Hall\, 8400 Laguna Palms\, Elk Grove\, CA\, 95758\, United States
CATEGORIES:Meetings
GEO:38.4173138;-121.3947808
X-APPLE-STRUCTURED-LOCATION;VALUE=URI;X-ADDRESS=Elk Grove City Hall 8400 Laguna Palms Elk Grove CA 95758 United States;X-APPLE-RADIUS=500;X-TITLE=8400 Laguna Palms:geo:-121.3947808,38.4173138
END:VEVENT
BEGIN:VEVENT
DTSTART;TZID=America/Los_Angeles:20270623T180000
DTEND;TZID=America/Los_Angeles:20270623T210000
DTSTAMP:20260423T105100
CREATED:20250125T225607Z
LAST-MODIFIED:20250125T225834Z
UID:10058900-1813773600-1813784400@www.livinginelkgrove.com
SUMMARY:Elk Grove City Council 4th Wednesday Meeting
DESCRIPTION:The meetings are held in the Council Chambers at 8400 Laguna Palms Way\, Elk Grove\, CA\, 95758. 
URL:https://www.livinginelkgrove.com/event/elk-grove-city-council-4th-wednesday-meeting/2027-06-23/
LOCATION:Elk Grove City Hall\, 8400 Laguna Palms\, Elk Grove\, CA\, 95758\, United States
CATEGORIES:Meetings
GEO:38.4173138;-121.3947808
X-APPLE-STRUCTURED-LOCATION;VALUE=URI;X-ADDRESS=Elk Grove City Hall 8400 Laguna Palms Elk Grove CA 95758 United States;X-APPLE-RADIUS=500;X-TITLE=8400 Laguna Palms:geo:-121.3947808,38.4173138
END:VEVENT
BEGIN:VEVENT
DTSTART;TZID=America/Los_Angeles:20270728T180000
DTEND;TZID=America/Los_Angeles:20270728T210000
DTSTAMP:20260423T105100
CREATED:20250125T225607Z
LAST-MODIFIED:20250125T225834Z
UID:10058901-1816797600-1816808400@www.livinginelkgrove.com
SUMMARY:Elk Grove City Council 4th Wednesday Meeting
DESCRIPTION:The meetings are held in the Council Chambers at 8400 Laguna Palms Way\, Elk Grove\, CA\, 95758. 
URL:https://www.livinginelkgrove.com/event/elk-grove-city-council-4th-wednesday-meeting/2027-07-28/
LOCATION:Elk Grove City Hall\, 8400 Laguna Palms\, Elk Grove\, CA\, 95758\, United States
CATEGORIES:Meetings
GEO:38.4173138;-121.3947808
X-APPLE-STRUCTURED-LOCATION;VALUE=URI;X-ADDRESS=Elk Grove City Hall 8400 Laguna Palms Elk Grove CA 95758 United States;X-APPLE-RADIUS=500;X-TITLE=8400 Laguna Palms:geo:-121.3947808,38.4173138
END:VEVENT
BEGIN:VEVENT
DTSTART;TZID=America/Los_Angeles:20270825T180000
DTEND;TZID=America/Los_Angeles:20270825T210000
DTSTAMP:20260423T105100
CREATED:20250125T225607Z
LAST-MODIFIED:20250125T225834Z
UID:10058902-1819216800-1819227600@www.livinginelkgrove.com
SUMMARY:Elk Grove City Council 4th Wednesday Meeting
DESCRIPTION:The meetings are held in the Council Chambers at 8400 Laguna Palms Way\, Elk Grove\, CA\, 95758. 
URL:https://www.livinginelkgrove.com/event/elk-grove-city-council-4th-wednesday-meeting/2027-08-25/
LOCATION:Elk Grove City Hall\, 8400 Laguna Palms\, Elk Grove\, CA\, 95758\, United States
CATEGORIES:Meetings
GEO:38.4173138;-121.3947808
X-APPLE-STRUCTURED-LOCATION;VALUE=URI;X-ADDRESS=Elk Grove City Hall 8400 Laguna Palms Elk Grove CA 95758 United States;X-APPLE-RADIUS=500;X-TITLE=8400 Laguna Palms:geo:-121.3947808,38.4173138
END:VEVENT
BEGIN:VEVENT
DTSTART;TZID=America/Los_Angeles:20270922T180000
DTEND;TZID=America/Los_Angeles:20270922T210000
DTSTAMP:20260423T105100
CREATED:20250125T225607Z
LAST-MODIFIED:20250125T225834Z
UID:10058903-1821636000-1821646800@www.livinginelkgrove.com
SUMMARY:Elk Grove City Council 4th Wednesday Meeting
DESCRIPTION:The meetings are held in the Council Chambers at 8400 Laguna Palms Way\, Elk Grove\, CA\, 95758. 
URL:https://www.livinginelkgrove.com/event/elk-grove-city-council-4th-wednesday-meeting/2027-09-22/
LOCATION:Elk Grove City Hall\, 8400 Laguna Palms\, Elk Grove\, CA\, 95758\, United States
CATEGORIES:Meetings
GEO:38.4173138;-121.3947808
X-APPLE-STRUCTURED-LOCATION;VALUE=URI;X-ADDRESS=Elk Grove City Hall 8400 Laguna Palms Elk Grove CA 95758 United States;X-APPLE-RADIUS=500;X-TITLE=8400 Laguna Palms:geo:-121.3947808,38.4173138
END:VEVENT
BEGIN:VEVENT
DTSTART;TZID=America/Los_Angeles:20271027T180000
DTEND;TZID=America/Los_Angeles:20271027T210000
DTSTAMP:20260423T105100
CREATED:20250125T225607Z
LAST-MODIFIED:20250125T225834Z
UID:10058904-1824660000-1824670800@www.livinginelkgrove.com
SUMMARY:Elk Grove City Council 4th Wednesday Meeting
DESCRIPTION:The meetings are held in the Council Chambers at 8400 Laguna Palms Way\, Elk Grove\, CA\, 95758. 
URL:https://www.livinginelkgrove.com/event/elk-grove-city-council-4th-wednesday-meeting/2027-10-27/
LOCATION:Elk Grove City Hall\, 8400 Laguna Palms\, Elk Grove\, CA\, 95758\, United States
CATEGORIES:Meetings
GEO:38.4173138;-121.3947808
X-APPLE-STRUCTURED-LOCATION;VALUE=URI;X-ADDRESS=Elk Grove City Hall 8400 Laguna Palms Elk Grove CA 95758 United States;X-APPLE-RADIUS=500;X-TITLE=8400 Laguna Palms:geo:-121.3947808,38.4173138
END:VEVENT
BEGIN:VEVENT
DTSTART;TZID=America/Los_Angeles:20271124T180000
DTEND;TZID=America/Los_Angeles:20271124T210000
DTSTAMP:20260423T105100
CREATED:20250125T225607Z
LAST-MODIFIED:20250125T225834Z
UID:10058905-1827079200-1827090000@www.livinginelkgrove.com
SUMMARY:Elk Grove City Council 4th Wednesday Meeting
DESCRIPTION:The meetings are held in the Council Chambers at 8400 Laguna Palms Way\, Elk Grove\, CA\, 95758. 
URL:https://www.livinginelkgrove.com/event/elk-grove-city-council-4th-wednesday-meeting/2027-11-24/
LOCATION:Elk Grove City Hall\, 8400 Laguna Palms\, Elk Grove\, CA\, 95758\, United States
CATEGORIES:Meetings
GEO:38.4173138;-121.3947808
X-APPLE-STRUCTURED-LOCATION;VALUE=URI;X-ADDRESS=Elk Grove City Hall 8400 Laguna Palms Elk Grove CA 95758 United States;X-APPLE-RADIUS=500;X-TITLE=8400 Laguna Palms:geo:-121.3947808,38.4173138
END:VEVENT
BEGIN:VEVENT
DTSTART;TZID=America/Los_Angeles:20271222T180000
DTEND;TZID=America/Los_Angeles:20271222T210000
DTSTAMP:20260423T105100
CREATED:20250125T225607Z
LAST-MODIFIED:20250125T225834Z
UID:10058906-1829498400-1829509200@www.livinginelkgrove.com
SUMMARY:Elk Grove City Council 4th Wednesday Meeting
DESCRIPTION:The meetings are held in the Council Chambers at 8400 Laguna Palms Way\, Elk Grove\, CA\, 95758. 
URL:https://www.livinginelkgrove.com/event/elk-grove-city-council-4th-wednesday-meeting/2027-12-22/
LOCATION:Elk Grove City Hall\, 8400 Laguna Palms\, Elk Grove\, CA\, 95758\, United States
CATEGORIES:Meetings
GEO:38.4173138;-121.3947808
X-APPLE-STRUCTURED-LOCATION;VALUE=URI;X-ADDRESS=Elk Grove City Hall 8400 Laguna Palms Elk Grove CA 95758 United States;X-APPLE-RADIUS=500;X-TITLE=8400 Laguna Palms:geo:-121.3947808,38.4173138
END:VEVENT
BEGIN:VEVENT
DTSTART;TZID=America/Los_Angeles:20280126T180000
DTEND;TZID=America/Los_Angeles:20280126T210000
DTSTAMP:20260423T105100
CREATED:20250125T225607Z
LAST-MODIFIED:20250125T225834Z
UID:10058907-1832522400-1832533200@www.livinginelkgrove.com
SUMMARY:Elk Grove City Council 4th Wednesday Meeting
DESCRIPTION:The meetings are held in the Council Chambers at 8400 Laguna Palms Way\, Elk Grove\, CA\, 95758. 
URL:https://www.livinginelkgrove.com/event/elk-grove-city-council-4th-wednesday-meeting/2028-01-26/
LOCATION:Elk Grove City Hall\, 8400 Laguna Palms\, Elk Grove\, CA\, 95758\, United States
CATEGORIES:Meetings
GEO:38.4173138;-121.3947808
X-APPLE-STRUCTURED-LOCATION;VALUE=URI;X-ADDRESS=Elk Grove City Hall 8400 Laguna Palms Elk Grove CA 95758 United States;X-APPLE-RADIUS=500;X-TITLE=8400 Laguna Palms:geo:-121.3947808,38.4173138
END:VEVENT
BEGIN:VEVENT
DTSTART;TZID=America/Los_Angeles:20280223T180000
DTEND;TZID=America/Los_Angeles:20280223T210000
DTSTAMP:20260423T105100
CREATED:20250125T225607Z
LAST-MODIFIED:20250125T225834Z
UID:10058908-1834941600-1834952400@www.livinginelkgrove.com
SUMMARY:Elk Grove City Council 4th Wednesday Meeting
DESCRIPTION:The meetings are held in the Council Chambers at 8400 Laguna Palms Way\, Elk Grove\, CA\, 95758. 
URL:https://www.livinginelkgrove.com/event/elk-grove-city-council-4th-wednesday-meeting/2028-02-23/
LOCATION:Elk Grove City Hall\, 8400 Laguna Palms\, Elk Grove\, CA\, 95758\, United States
CATEGORIES:Meetings
GEO:38.4173138;-121.3947808
X-APPLE-STRUCTURED-LOCATION;VALUE=URI;X-ADDRESS=Elk Grove City Hall 8400 Laguna Palms Elk Grove CA 95758 United States;X-APPLE-RADIUS=500;X-TITLE=8400 Laguna Palms:geo:-121.3947808,38.4173138
END:VEVENT
BEGIN:VEVENT
DTSTART;TZID=America/Los_Angeles:20280322T180000
DTEND;TZID=America/Los_Angeles:20280322T210000
DTSTAMP:20260423T105100
CREATED:20250125T225607Z
LAST-MODIFIED:20250125T225834Z
UID:10058909-1837360800-1837371600@www.livinginelkgrove.com
SUMMARY:Elk Grove City Council 4th Wednesday Meeting
DESCRIPTION:The meetings are held in the Council Chambers at 8400 Laguna Palms Way\, Elk Grove\, CA\, 95758. 
URL:https://www.livinginelkgrove.com/event/elk-grove-city-council-4th-wednesday-meeting/2028-03-22/
LOCATION:Elk Grove City Hall\, 8400 Laguna Palms\, Elk Grove\, CA\, 95758\, United States
CATEGORIES:Meetings
GEO:38.4173138;-121.3947808
X-APPLE-STRUCTURED-LOCATION;VALUE=URI;X-ADDRESS=Elk Grove City Hall 8400 Laguna Palms Elk Grove CA 95758 United States;X-APPLE-RADIUS=500;X-TITLE=8400 Laguna Palms:geo:-121.3947808,38.4173138
END:VEVENT
BEGIN:VEVENT
DTSTART;TZID=America/Los_Angeles:20280426T180000
DTEND;TZID=America/Los_Angeles:20280426T210000
DTSTAMP:20260423T105100
CREATED:20250125T225607Z
LAST-MODIFIED:20250125T225834Z
UID:10058910-1840384800-1840395600@www.livinginelkgrove.com
SUMMARY:Elk Grove City Council 4th Wednesday Meeting
DESCRIPTION:The meetings are held in the Council Chambers at 8400 Laguna Palms Way\, Elk Grove\, CA\, 95758. 
URL:https://www.livinginelkgrove.com/event/elk-grove-city-council-4th-wednesday-meeting/2028-04-26/
LOCATION:Elk Grove City Hall\, 8400 Laguna Palms\, Elk Grove\, CA\, 95758\, United States
CATEGORIES:Meetings
GEO:38.4173138;-121.3947808
X-APPLE-STRUCTURED-LOCATION;VALUE=URI;X-ADDRESS=Elk Grove City Hall 8400 Laguna Palms Elk Grove CA 95758 United States;X-APPLE-RADIUS=500;X-TITLE=8400 Laguna Palms:geo:-121.3947808,38.4173138
END:VEVENT
BEGIN:VEVENT
DTSTART;TZID=America/Los_Angeles:20280524T180000
DTEND;TZID=America/Los_Angeles:20280524T210000
DTSTAMP:20260423T105100
CREATED:20250125T225607Z
LAST-MODIFIED:20250125T225834Z
UID:10058911-1842804000-1842814800@www.livinginelkgrove.com
SUMMARY:Elk Grove City Council 4th Wednesday Meeting
DESCRIPTION:The meetings are held in the Council Chambers at 8400 Laguna Palms Way\, Elk Grove\, CA\, 95758. 
URL:https://www.livinginelkgrove.com/event/elk-grove-city-council-4th-wednesday-meeting/2028-05-24/
LOCATION:Elk Grove City Hall\, 8400 Laguna Palms\, Elk Grove\, CA\, 95758\, United States
CATEGORIES:Meetings
GEO:38.4173138;-121.3947808
X-APPLE-STRUCTURED-LOCATION;VALUE=URI;X-ADDRESS=Elk Grove City Hall 8400 Laguna Palms Elk Grove CA 95758 United States;X-APPLE-RADIUS=500;X-TITLE=8400 Laguna Palms:geo:-121.3947808,38.4173138
END:VEVENT
BEGIN:VEVENT
DTSTART;TZID=America/Los_Angeles:20280628T180000
DTEND;TZID=America/Los_Angeles:20280628T210000
DTSTAMP:20260423T105100
CREATED:20250125T225607Z
LAST-MODIFIED:20250125T225834Z
UID:10058912-1845828000-1845838800@www.livinginelkgrove.com
SUMMARY:Elk Grove City Council 4th Wednesday Meeting
DESCRIPTION:The meetings are held in the Council Chambers at 8400 Laguna Palms Way\, Elk Grove\, CA\, 95758. 
URL:https://www.livinginelkgrove.com/event/elk-grove-city-council-4th-wednesday-meeting/2028-06-28/
LOCATION:Elk Grove City Hall\, 8400 Laguna Palms\, Elk Grove\, CA\, 95758\, United States
CATEGORIES:Meetings
GEO:38.4173138;-121.3947808
X-APPLE-STRUCTURED-LOCATION;VALUE=URI;X-ADDRESS=Elk Grove City Hall 8400 Laguna Palms Elk Grove CA 95758 United States;X-APPLE-RADIUS=500;X-TITLE=8400 Laguna Palms:geo:-121.3947808,38.4173138
END:VEVENT
BEGIN:VEVENT
DTSTART;TZID=America/Los_Angeles:20280726T180000
DTEND;TZID=America/Los_Angeles:20280726T210000
DTSTAMP:20260423T105100
CREATED:20250125T225607Z
LAST-MODIFIED:20250125T225834Z
UID:10058913-1848247200-1848258000@www.livinginelkgrove.com
SUMMARY:Elk Grove City Council 4th Wednesday Meeting
DESCRIPTION:The meetings are held in the Council Chambers at 8400 Laguna Palms Way\, Elk Grove\, CA\, 95758. 
URL:https://www.livinginelkgrove.com/event/elk-grove-city-council-4th-wednesday-meeting/2028-07-26/
LOCATION:Elk Grove City Hall\, 8400 Laguna Palms\, Elk Grove\, CA\, 95758\, United States
CATEGORIES:Meetings
GEO:38.4173138;-121.3947808
X-APPLE-STRUCTURED-LOCATION;VALUE=URI;X-ADDRESS=Elk Grove City Hall 8400 Laguna Palms Elk Grove CA 95758 United States;X-APPLE-RADIUS=500;X-TITLE=8400 Laguna Palms:geo:-121.3947808,38.4173138
END:VEVENT
BEGIN:VEVENT
DTSTART;TZID=America/Los_Angeles:20280823T180000
DTEND;TZID=America/Los_Angeles:20280823T210000
DTSTAMP:20260423T105101
CREATED:20250125T225607Z
LAST-MODIFIED:20250125T225834Z
UID:10058914-1850666400-1850677200@www.livinginelkgrove.com
SUMMARY:Elk Grove City Council 4th Wednesday Meeting
DESCRIPTION:The meetings are held in the Council Chambers at 8400 Laguna Palms Way\, Elk Grove\, CA\, 95758. 
URL:https://www.livinginelkgrove.com/event/elk-grove-city-council-4th-wednesday-meeting/2028-08-23/
LOCATION:Elk Grove City Hall\, 8400 Laguna Palms\, Elk Grove\, CA\, 95758\, United States
CATEGORIES:Meetings
GEO:38.4173138;-121.3947808
X-APPLE-STRUCTURED-LOCATION;VALUE=URI;X-ADDRESS=Elk Grove City Hall 8400 Laguna Palms Elk Grove CA 95758 United States;X-APPLE-RADIUS=500;X-TITLE=8400 Laguna Palms:geo:-121.3947808,38.4173138
END:VEVENT
BEGIN:VEVENT
DTSTART;TZID=America/Los_Angeles:20280927T180000
DTEND;TZID=America/Los_Angeles:20280927T210000
DTSTAMP:20260423T105101
CREATED:20250125T225607Z
LAST-MODIFIED:20250125T225834Z
UID:10058915-1853690400-1853701200@www.livinginelkgrove.com
SUMMARY:Elk Grove City Council 4th Wednesday Meeting
DESCRIPTION:The meetings are held in the Council Chambers at 8400 Laguna Palms Way\, Elk Grove\, CA\, 95758. 
URL:https://www.livinginelkgrove.com/event/elk-grove-city-council-4th-wednesday-meeting/2028-09-27/
LOCATION:Elk Grove City Hall\, 8400 Laguna Palms\, Elk Grove\, CA\, 95758\, United States
CATEGORIES:Meetings
GEO:38.4173138;-121.3947808
X-APPLE-STRUCTURED-LOCATION;VALUE=URI;X-ADDRESS=Elk Grove City Hall 8400 Laguna Palms Elk Grove CA 95758 United States;X-APPLE-RADIUS=500;X-TITLE=8400 Laguna Palms:geo:-121.3947808,38.4173138
END:VEVENT
BEGIN:VEVENT
DTSTART;TZID=America/Los_Angeles:20281025T180000
DTEND;TZID=America/Los_Angeles:20281025T210000
DTSTAMP:20260423T105101
CREATED:20250125T225607Z
LAST-MODIFIED:20250125T225834Z
UID:10058916-1856109600-1856120400@www.livinginelkgrove.com
SUMMARY:Elk Grove City Council 4th Wednesday Meeting
DESCRIPTION:The meetings are held in the Council Chambers at 8400 Laguna Palms Way\, Elk Grove\, CA\, 95758. 
URL:https://www.livinginelkgrove.com/event/elk-grove-city-council-4th-wednesday-meeting/2028-10-25/
LOCATION:Elk Grove City Hall\, 8400 Laguna Palms\, Elk Grove\, CA\, 95758\, United States
CATEGORIES:Meetings
GEO:38.4173138;-121.3947808
X-APPLE-STRUCTURED-LOCATION;VALUE=URI;X-ADDRESS=Elk Grove City Hall 8400 Laguna Palms Elk Grove CA 95758 United States;X-APPLE-RADIUS=500;X-TITLE=8400 Laguna Palms:geo:-121.3947808,38.4173138
END:VEVENT
END:VCALENDAR