BEGIN:VCALENDAR
VERSION:2.0
PRODID:-//Living In Elk Grove - ECPv6.15.20//NONSGML v1.0//EN
CALSCALE:GREGORIAN
METHOD:PUBLISH
X-WR-CALNAME:Living In Elk Grove
X-ORIGINAL-URL:https://www.livinginelkgrove.com
X-WR-CALDESC:Events for Living In Elk Grove
REFRESH-INTERVAL;VALUE=DURATION:PT1H
X-Robots-Tag:noindex
X-PUBLISHED-TTL:PT1H
BEGIN:VTIMEZONE
TZID:America/Los_Angeles
BEGIN:DAYLIGHT
TZOFFSETFROM:-0800
TZOFFSETTO:-0700
TZNAME:PDT
DTSTART:20230312T100000
END:DAYLIGHT
BEGIN:STANDARD
TZOFFSETFROM:-0700
TZOFFSETTO:-0800
TZNAME:PST
DTSTART:20231105T090000
END:STANDARD
BEGIN:DAYLIGHT
TZOFFSETFROM:-0800
TZOFFSETTO:-0700
TZNAME:PDT
DTSTART:20240310T100000
END:DAYLIGHT
BEGIN:STANDARD
TZOFFSETFROM:-0700
TZOFFSETTO:-0800
TZNAME:PST
DTSTART:20241103T090000
END:STANDARD
BEGIN:DAYLIGHT
TZOFFSETFROM:-0800
TZOFFSETTO:-0700
TZNAME:PDT
DTSTART:20250309T100000
END:DAYLIGHT
BEGIN:STANDARD
TZOFFSETFROM:-0700
TZOFFSETTO:-0800
TZNAME:PST
DTSTART:20251102T090000
END:STANDARD
BEGIN:DAYLIGHT
TZOFFSETFROM:-0800
TZOFFSETTO:-0700
TZNAME:PDT
DTSTART:20260308T100000
END:DAYLIGHT
BEGIN:STANDARD
TZOFFSETFROM:-0700
TZOFFSETTO:-0800
TZNAME:PST
DTSTART:20261101T090000
END:STANDARD
BEGIN:DAYLIGHT
TZOFFSETFROM:-0800
TZOFFSETTO:-0700
TZNAME:PDT
DTSTART:20270314T100000
END:DAYLIGHT
BEGIN:STANDARD
TZOFFSETFROM:-0700
TZOFFSETTO:-0800
TZNAME:PST
DTSTART:20271107T090000
END:STANDARD
END:VTIMEZONE
BEGIN:VEVENT
DTSTART;TZID=America/Los_Angeles:20260418T080000
DTEND;TZID=America/Los_Angeles:20260418T140000
DTSTAMP:20260423T163805
CREATED:20260207T214757Z
LAST-MODIFIED:20260207T215634Z
UID:10059655-1776499200-1776520800@www.livinginelkgrove.com
SUMMARY:American Legion & VFW Car Show
DESCRIPTION:Join us for our annual car show!  
URL:https://www.livinginelkgrove.com/event/american-legion-vfw-car-show/
LOCATION:Elk Grove Regional Park\, 9950 Elk Grove-Florin\, Elk Grove\, CA\, 95624
CATEGORIES:Activities,Events,Special Event
GEO:38.3926267;-121.37411
X-APPLE-STRUCTURED-LOCATION;VALUE=URI;X-ADDRESS=Elk Grove Regional Park 9950 Elk Grove-Florin Elk Grove CA 95624;X-APPLE-RADIUS=500;X-TITLE=9950 Elk Grove-Florin:geo:-121.37411,38.3926267
END:VEVENT
BEGIN:VEVENT
DTSTART;TZID=America/Los_Angeles:20260326T180000
DTEND;TZID=America/Los_Angeles:20260326T200000
DTSTAMP:20260423T163805
CREATED:20150918T033159Z
LAST-MODIFIED:20230921T132958Z
UID:10057450-1774548000-1774555200@www.livinginelkgrove.com
SUMMARY:American Legion Post 233 General Meeting
DESCRIPTION:
URL:https://www.livinginelkgrove.com/event/american-legion-meeting/2026-03-26/
LOCATION:Elk Grove Elks Lodge\, 9240 survey Road\, Elk Grove\, CA\, 95624\, United States
CATEGORIES:Meetings
GEO:38.377258;-121.3566867
X-APPLE-STRUCTURED-LOCATION;VALUE=URI;X-ADDRESS=Elk Grove Elks Lodge 9240 survey Road Elk Grove CA 95624 United States;X-APPLE-RADIUS=500;X-TITLE=9240 survey Road:geo:-121.3566867,38.377258
END:VEVENT
BEGIN:VEVENT
DTSTART;TZID=America/Los_Angeles:20260226T180000
DTEND;TZID=America/Los_Angeles:20260226T200000
DTSTAMP:20260423T163805
CREATED:20150918T033159Z
LAST-MODIFIED:20230921T132958Z
UID:10057449-1772128800-1772136000@www.livinginelkgrove.com
SUMMARY:American Legion Post 233 General Meeting
DESCRIPTION:
URL:https://www.livinginelkgrove.com/event/american-legion-meeting/2026-02-26/
LOCATION:Elk Grove Elks Lodge\, 9240 survey Road\, Elk Grove\, CA\, 95624\, United States
CATEGORIES:Meetings
GEO:38.377258;-121.3566867
X-APPLE-STRUCTURED-LOCATION;VALUE=URI;X-ADDRESS=Elk Grove Elks Lodge 9240 survey Road Elk Grove CA 95624 United States;X-APPLE-RADIUS=500;X-TITLE=9240 survey Road:geo:-121.3566867,38.377258
END:VEVENT
BEGIN:VEVENT
DTSTART;TZID=America/Los_Angeles:20260122T180000
DTEND;TZID=America/Los_Angeles:20260122T200000
DTSTAMP:20260423T163805
CREATED:20150918T033159Z
LAST-MODIFIED:20230921T132958Z
UID:10057448-1769104800-1769112000@www.livinginelkgrove.com
SUMMARY:American Legion Post 233 General Meeting
DESCRIPTION:
URL:https://www.livinginelkgrove.com/event/american-legion-meeting/2026-01-22/
LOCATION:Elk Grove Elks Lodge\, 9240 survey Road\, Elk Grove\, CA\, 95624\, United States
CATEGORIES:Meetings
GEO:38.377258;-121.3566867
X-APPLE-STRUCTURED-LOCATION;VALUE=URI;X-ADDRESS=Elk Grove Elks Lodge 9240 survey Road Elk Grove CA 95624 United States;X-APPLE-RADIUS=500;X-TITLE=9240 survey Road:geo:-121.3566867,38.377258
END:VEVENT
BEGIN:VEVENT
DTSTART;TZID=America/Los_Angeles:20251225T180000
DTEND;TZID=America/Los_Angeles:20251225T200000
DTSTAMP:20260423T163805
CREATED:20150918T033159Z
LAST-MODIFIED:20230921T132958Z
UID:10057447-1766685600-1766692800@www.livinginelkgrove.com
SUMMARY:American Legion Post 233 General Meeting
DESCRIPTION:
URL:https://www.livinginelkgrove.com/event/american-legion-meeting/2025-12-25/
LOCATION:Elk Grove Elks Lodge\, 9240 survey Road\, Elk Grove\, CA\, 95624\, United States
CATEGORIES:Meetings
GEO:38.377258;-121.3566867
X-APPLE-STRUCTURED-LOCATION;VALUE=URI;X-ADDRESS=Elk Grove Elks Lodge 9240 survey Road Elk Grove CA 95624 United States;X-APPLE-RADIUS=500;X-TITLE=9240 survey Road:geo:-121.3566867,38.377258
END:VEVENT
BEGIN:VEVENT
DTSTART;TZID=America/Los_Angeles:20251127T180000
DTEND;TZID=America/Los_Angeles:20251127T200000
DTSTAMP:20260423T163805
CREATED:20150918T033159Z
LAST-MODIFIED:20230921T132958Z
UID:10057446-1764266400-1764273600@www.livinginelkgrove.com
SUMMARY:American Legion Post 233 General Meeting
DESCRIPTION:
URL:https://www.livinginelkgrove.com/event/american-legion-meeting/2025-11-27/
LOCATION:Elk Grove Elks Lodge\, 9240 survey Road\, Elk Grove\, CA\, 95624\, United States
CATEGORIES:Meetings
GEO:38.377258;-121.3566867
X-APPLE-STRUCTURED-LOCATION;VALUE=URI;X-ADDRESS=Elk Grove Elks Lodge 9240 survey Road Elk Grove CA 95624 United States;X-APPLE-RADIUS=500;X-TITLE=9240 survey Road:geo:-121.3566867,38.377258
END:VEVENT
BEGIN:VEVENT
DTSTART;VALUE=DATE:20251111
DTEND;VALUE=DATE:20251112
DTSTAMP:20260423T163805
CREATED:20250903T205018Z
LAST-MODIFIED:20250903T205132Z
UID:10058832-1762819200-1762905599@www.livinginelkgrove.com
SUMMARY:Elk Grove Veterans Day Parade & BBQ
DESCRIPTION:  \nThanks to Veterans \nElk Grove Veterans Day Parade & BBQ \nThe parade will start at the CSD building on Elk Grove Blvd and go east to Elk Grove Florin Road. It will turn right and go to Elk Grove Regional Park.  The event starts at 11:11 on November 11th. \nFollowing the parade\, our BBQ will be held in Elk Grove Park at the prking lot just east of the entrance from East Stockton\, at the intersection of Park Way and Park Road\, adjacent to the White Diamond.\nFrom that location\, everyone is invited to visit the Elk Grove Regional Veterans Memorial. \nLearn more about the Elk Grove Regional Veterans Memorial Here
URL:https://www.livinginelkgrove.com/event/elk-grove-veterans-day-parade-bbq-2-2/
LOCATION:Elk Grove Regional Park\, 9950 Elk Grove-Florin\, Elk Grove\, CA\, 95624
CATEGORIES:Special Event
GEO:38.3926267;-121.37411
X-APPLE-STRUCTURED-LOCATION;VALUE=URI;X-ADDRESS=Elk Grove Regional Park 9950 Elk Grove-Florin Elk Grove CA 95624;X-APPLE-RADIUS=500;X-TITLE=9950 Elk Grove-Florin:geo:-121.37411,38.3926267
END:VEVENT
BEGIN:VEVENT
DTSTART;TZID=America/Los_Angeles:20251023T180000
DTEND;TZID=America/Los_Angeles:20251023T200000
DTSTAMP:20260423T163805
CREATED:20150918T033159Z
LAST-MODIFIED:20230921T132958Z
UID:10057445-1761242400-1761249600@www.livinginelkgrove.com
SUMMARY:American Legion Post 233 General Meeting
DESCRIPTION:
URL:https://www.livinginelkgrove.com/event/american-legion-meeting/2025-10-23/
LOCATION:Elk Grove Elks Lodge\, 9240 survey Road\, Elk Grove\, CA\, 95624\, United States
CATEGORIES:Meetings
GEO:38.377258;-121.3566867
X-APPLE-STRUCTURED-LOCATION;VALUE=URI;X-ADDRESS=Elk Grove Elks Lodge 9240 survey Road Elk Grove CA 95624 United States;X-APPLE-RADIUS=500;X-TITLE=9240 survey Road:geo:-121.3566867,38.377258
END:VEVENT
BEGIN:VEVENT
DTSTART;TZID=America/Los_Angeles:20250925T180000
DTEND;TZID=America/Los_Angeles:20250925T200000
DTSTAMP:20260423T163805
CREATED:20150918T033159Z
LAST-MODIFIED:20230921T132958Z
UID:10057444-1758823200-1758830400@www.livinginelkgrove.com
SUMMARY:American Legion Post 233 General Meeting
DESCRIPTION:
URL:https://www.livinginelkgrove.com/event/american-legion-meeting/2025-09-25/
LOCATION:Elk Grove Elks Lodge\, 9240 survey Road\, Elk Grove\, CA\, 95624\, United States
CATEGORIES:Meetings
GEO:38.377258;-121.3566867
X-APPLE-STRUCTURED-LOCATION;VALUE=URI;X-ADDRESS=Elk Grove Elks Lodge 9240 survey Road Elk Grove CA 95624 United States;X-APPLE-RADIUS=500;X-TITLE=9240 survey Road:geo:-121.3566867,38.377258
END:VEVENT
BEGIN:VEVENT
DTSTART;TZID=America/Los_Angeles:20250828T180000
DTEND;TZID=America/Los_Angeles:20250828T200000
DTSTAMP:20260423T163805
CREATED:20150918T033159Z
LAST-MODIFIED:20230921T132958Z
UID:10057443-1756404000-1756411200@www.livinginelkgrove.com
SUMMARY:American Legion Post 233 General Meeting
DESCRIPTION:
URL:https://www.livinginelkgrove.com/event/american-legion-meeting/2025-08-28/
LOCATION:Elk Grove Elks Lodge\, 9240 survey Road\, Elk Grove\, CA\, 95624\, United States
CATEGORIES:Meetings
GEO:38.377258;-121.3566867
X-APPLE-STRUCTURED-LOCATION;VALUE=URI;X-ADDRESS=Elk Grove Elks Lodge 9240 survey Road Elk Grove CA 95624 United States;X-APPLE-RADIUS=500;X-TITLE=9240 survey Road:geo:-121.3566867,38.377258
END:VEVENT
BEGIN:VEVENT
DTSTART;TZID=America/Los_Angeles:20250724T180000
DTEND;TZID=America/Los_Angeles:20250724T200000
DTSTAMP:20260423T163805
CREATED:20150918T033159Z
LAST-MODIFIED:20230921T132958Z
UID:10057442-1753380000-1753387200@www.livinginelkgrove.com
SUMMARY:American Legion Post 233 General Meeting
DESCRIPTION:
URL:https://www.livinginelkgrove.com/event/american-legion-meeting/2025-07-24/
LOCATION:Elk Grove Elks Lodge\, 9240 survey Road\, Elk Grove\, CA\, 95624\, United States
CATEGORIES:Meetings
GEO:38.377258;-121.3566867
X-APPLE-STRUCTURED-LOCATION;VALUE=URI;X-ADDRESS=Elk Grove Elks Lodge 9240 survey Road Elk Grove CA 95624 United States;X-APPLE-RADIUS=500;X-TITLE=9240 survey Road:geo:-121.3566867,38.377258
END:VEVENT
BEGIN:VEVENT
DTSTART;TZID=America/Los_Angeles:20250626T180000
DTEND;TZID=America/Los_Angeles:20250626T200000
DTSTAMP:20260423T163805
CREATED:20150918T033159Z
LAST-MODIFIED:20230921T132958Z
UID:10057441-1750960800-1750968000@www.livinginelkgrove.com
SUMMARY:American Legion Post 233 General Meeting
DESCRIPTION:
URL:https://www.livinginelkgrove.com/event/american-legion-meeting/2025-06-26/
LOCATION:Elk Grove Elks Lodge\, 9240 survey Road\, Elk Grove\, CA\, 95624\, United States
CATEGORIES:Meetings
GEO:38.377258;-121.3566867
X-APPLE-STRUCTURED-LOCATION;VALUE=URI;X-ADDRESS=Elk Grove Elks Lodge 9240 survey Road Elk Grove CA 95624 United States;X-APPLE-RADIUS=500;X-TITLE=9240 survey Road:geo:-121.3566867,38.377258
END:VEVENT
BEGIN:VEVENT
DTSTART;TZID=America/Los_Angeles:20250522T180000
DTEND;TZID=America/Los_Angeles:20250522T200000
DTSTAMP:20260423T163805
CREATED:20150918T033159Z
LAST-MODIFIED:20230921T132958Z
UID:10057440-1747936800-1747944000@www.livinginelkgrove.com
SUMMARY:American Legion Post 233 General Meeting
DESCRIPTION:
URL:https://www.livinginelkgrove.com/event/american-legion-meeting/2025-05-22/
LOCATION:Elk Grove Elks Lodge\, 9240 survey Road\, Elk Grove\, CA\, 95624\, United States
CATEGORIES:Meetings
GEO:38.377258;-121.3566867
X-APPLE-STRUCTURED-LOCATION;VALUE=URI;X-ADDRESS=Elk Grove Elks Lodge 9240 survey Road Elk Grove CA 95624 United States;X-APPLE-RADIUS=500;X-TITLE=9240 survey Road:geo:-121.3566867,38.377258
END:VEVENT
BEGIN:VEVENT
DTSTART;TZID=America/Los_Angeles:20250424T180000
DTEND;TZID=America/Los_Angeles:20250424T200000
DTSTAMP:20260423T163805
CREATED:20150918T033159Z
LAST-MODIFIED:20230921T132958Z
UID:10057439-1745517600-1745524800@www.livinginelkgrove.com
SUMMARY:American Legion Post 233 General Meeting
DESCRIPTION:
URL:https://www.livinginelkgrove.com/event/american-legion-meeting/2025-04-24/
LOCATION:Elk Grove Elks Lodge\, 9240 survey Road\, Elk Grove\, CA\, 95624\, United States
CATEGORIES:Meetings
GEO:38.377258;-121.3566867
X-APPLE-STRUCTURED-LOCATION;VALUE=URI;X-ADDRESS=Elk Grove Elks Lodge 9240 survey Road Elk Grove CA 95624 United States;X-APPLE-RADIUS=500;X-TITLE=9240 survey Road:geo:-121.3566867,38.377258
END:VEVENT
BEGIN:VEVENT
DTSTART;TZID=America/Los_Angeles:20250327T180000
DTEND;TZID=America/Los_Angeles:20250327T200000
DTSTAMP:20260423T163805
CREATED:20150918T033159Z
LAST-MODIFIED:20230921T132958Z
UID:10057438-1743098400-1743105600@www.livinginelkgrove.com
SUMMARY:American Legion Post 233 General Meeting
DESCRIPTION:
URL:https://www.livinginelkgrove.com/event/american-legion-meeting/2025-03-27/
LOCATION:Elk Grove Elks Lodge\, 9240 survey Road\, Elk Grove\, CA\, 95624\, United States
CATEGORIES:Meetings
GEO:38.377258;-121.3566867
X-APPLE-STRUCTURED-LOCATION;VALUE=URI;X-ADDRESS=Elk Grove Elks Lodge 9240 survey Road Elk Grove CA 95624 United States;X-APPLE-RADIUS=500;X-TITLE=9240 survey Road:geo:-121.3566867,38.377258
END:VEVENT
BEGIN:VEVENT
DTSTART;TZID=America/Los_Angeles:20250227T180000
DTEND;TZID=America/Los_Angeles:20250227T200000
DTSTAMP:20260423T163805
CREATED:20150918T033159Z
LAST-MODIFIED:20230921T132958Z
UID:10057437-1740679200-1740686400@www.livinginelkgrove.com
SUMMARY:American Legion Post 233 General Meeting
DESCRIPTION:
URL:https://www.livinginelkgrove.com/event/american-legion-meeting/2025-02-27/
LOCATION:Elk Grove Elks Lodge\, 9240 survey Road\, Elk Grove\, CA\, 95624\, United States
CATEGORIES:Meetings
GEO:38.377258;-121.3566867
X-APPLE-STRUCTURED-LOCATION;VALUE=URI;X-ADDRESS=Elk Grove Elks Lodge 9240 survey Road Elk Grove CA 95624 United States;X-APPLE-RADIUS=500;X-TITLE=9240 survey Road:geo:-121.3566867,38.377258
END:VEVENT
BEGIN:VEVENT
DTSTART;TZID=America/Los_Angeles:20250123T180000
DTEND;TZID=America/Los_Angeles:20250123T200000
DTSTAMP:20260423T163805
CREATED:20150918T033159Z
LAST-MODIFIED:20230921T132958Z
UID:10057436-1737655200-1737662400@www.livinginelkgrove.com
SUMMARY:American Legion Post 233 General Meeting
DESCRIPTION:
URL:https://www.livinginelkgrove.com/event/american-legion-meeting/2025-01-23/
LOCATION:Elk Grove Elks Lodge\, 9240 survey Road\, Elk Grove\, CA\, 95624\, United States
CATEGORIES:Meetings
GEO:38.377258;-121.3566867
X-APPLE-STRUCTURED-LOCATION;VALUE=URI;X-ADDRESS=Elk Grove Elks Lodge 9240 survey Road Elk Grove CA 95624 United States;X-APPLE-RADIUS=500;X-TITLE=9240 survey Road:geo:-121.3566867,38.377258
END:VEVENT
BEGIN:VEVENT
DTSTART;TZID=America/Los_Angeles:20241226T180000
DTEND;TZID=America/Los_Angeles:20241226T200000
DTSTAMP:20260423T163805
CREATED:20150918T033159Z
LAST-MODIFIED:20230921T132958Z
UID:10057435-1735236000-1735243200@www.livinginelkgrove.com
SUMMARY:American Legion Post 233 General Meeting
DESCRIPTION:
URL:https://www.livinginelkgrove.com/event/american-legion-meeting/2024-12-26/
LOCATION:Elk Grove Elks Lodge\, 9240 survey Road\, Elk Grove\, CA\, 95624\, United States
CATEGORIES:Meetings
GEO:38.377258;-121.3566867
X-APPLE-STRUCTURED-LOCATION;VALUE=URI;X-ADDRESS=Elk Grove Elks Lodge 9240 survey Road Elk Grove CA 95624 United States;X-APPLE-RADIUS=500;X-TITLE=9240 survey Road:geo:-121.3566867,38.377258
END:VEVENT
BEGIN:VEVENT
DTSTART;TZID=America/Los_Angeles:20241128T180000
DTEND;TZID=America/Los_Angeles:20241128T200000
DTSTAMP:20260423T163805
CREATED:20150918T033159Z
LAST-MODIFIED:20230921T132958Z
UID:10057434-1732816800-1732824000@www.livinginelkgrove.com
SUMMARY:American Legion Post 233 General Meeting
DESCRIPTION:
URL:https://www.livinginelkgrove.com/event/american-legion-meeting/2024-11-28/
LOCATION:Elk Grove Elks Lodge\, 9240 survey Road\, Elk Grove\, CA\, 95624\, United States
CATEGORIES:Meetings
GEO:38.377258;-121.3566867
X-APPLE-STRUCTURED-LOCATION;VALUE=URI;X-ADDRESS=Elk Grove Elks Lodge 9240 survey Road Elk Grove CA 95624 United States;X-APPLE-RADIUS=500;X-TITLE=9240 survey Road:geo:-121.3566867,38.377258
END:VEVENT
BEGIN:VEVENT
DTSTART;VALUE=DATE:20241111
DTEND;VALUE=DATE:20241112
DTSTAMP:20260423T163805
CREATED:20240817T185109Z
LAST-MODIFIED:20250713T031611Z
UID:10057870-1731283200-1731369599@www.livinginelkgrove.com
SUMMARY:Elk Grove Veterans Day Parade & BBQ
DESCRIPTION:  \nThanks to Veterans \nElk Grove Veterans Day Parade & BBQ \nThe parade will start at the CSD building on Elk Grove Blvd and go east to Elk Grove Florin Road. It will turn right and go to Elk Grove Regional Park.  The event starts at 11:11 on November 11th. \nThe BBQ will be held in Elk Grove Park\nin front of the swimming pool.
URL:https://www.livinginelkgrove.com/event/elk-grove-veterans-day-parade-bbq/
LOCATION:Elk Grove Regional Park\, 9950 Elk Grove-Florin\, Elk Grove\, CA\, 95624
CATEGORIES:Special Event
GEO:38.3926267;-121.37411
X-APPLE-STRUCTURED-LOCATION;VALUE=URI;X-ADDRESS=Elk Grove Regional Park 9950 Elk Grove-Florin Elk Grove CA 95624;X-APPLE-RADIUS=500;X-TITLE=9950 Elk Grove-Florin:geo:-121.37411,38.3926267
END:VEVENT
BEGIN:VEVENT
DTSTART;TZID=America/Los_Angeles:20241024T180000
DTEND;TZID=America/Los_Angeles:20241024T200000
DTSTAMP:20260423T163805
CREATED:20150918T033159Z
LAST-MODIFIED:20230921T132958Z
UID:10057433-1729792800-1729800000@www.livinginelkgrove.com
SUMMARY:American Legion Post 233 General Meeting
DESCRIPTION:
URL:https://www.livinginelkgrove.com/event/american-legion-meeting/2024-10-24/
LOCATION:Elk Grove Elks Lodge\, 9240 survey Road\, Elk Grove\, CA\, 95624\, United States
CATEGORIES:Meetings
GEO:38.377258;-121.3566867
X-APPLE-STRUCTURED-LOCATION;VALUE=URI;X-ADDRESS=Elk Grove Elks Lodge 9240 survey Road Elk Grove CA 95624 United States;X-APPLE-RADIUS=500;X-TITLE=9240 survey Road:geo:-121.3566867,38.377258
END:VEVENT
BEGIN:VEVENT
DTSTART;TZID=America/Los_Angeles:20240926T180000
DTEND;TZID=America/Los_Angeles:20240926T200000
DTSTAMP:20260423T163805
CREATED:20150918T033159Z
LAST-MODIFIED:20230921T132958Z
UID:10057432-1727373600-1727380800@www.livinginelkgrove.com
SUMMARY:American Legion Post 233 General Meeting
DESCRIPTION:
URL:https://www.livinginelkgrove.com/event/american-legion-meeting/2024-09-26/
LOCATION:Elk Grove Elks Lodge\, 9240 survey Road\, Elk Grove\, CA\, 95624\, United States
CATEGORIES:Meetings
GEO:38.377258;-121.3566867
X-APPLE-STRUCTURED-LOCATION;VALUE=URI;X-ADDRESS=Elk Grove Elks Lodge 9240 survey Road Elk Grove CA 95624 United States;X-APPLE-RADIUS=500;X-TITLE=9240 survey Road:geo:-121.3566867,38.377258
END:VEVENT
BEGIN:VEVENT
DTSTART;TZID=America/Los_Angeles:20240822T180000
DTEND;TZID=America/Los_Angeles:20240822T200000
DTSTAMP:20260423T163805
CREATED:20150918T033159Z
LAST-MODIFIED:20230921T132958Z
UID:10057431-1724349600-1724356800@www.livinginelkgrove.com
SUMMARY:American Legion Post 233 General Meeting
DESCRIPTION:
URL:https://www.livinginelkgrove.com/event/american-legion-meeting/2024-08-22/
LOCATION:Elk Grove Elks Lodge\, 9240 survey Road\, Elk Grove\, CA\, 95624\, United States
CATEGORIES:Meetings
GEO:38.377258;-121.3566867
X-APPLE-STRUCTURED-LOCATION;VALUE=URI;X-ADDRESS=Elk Grove Elks Lodge 9240 survey Road Elk Grove CA 95624 United States;X-APPLE-RADIUS=500;X-TITLE=9240 survey Road:geo:-121.3566867,38.377258
END:VEVENT
BEGIN:VEVENT
DTSTART;TZID=America/Los_Angeles:20240725T180000
DTEND;TZID=America/Los_Angeles:20240725T200000
DTSTAMP:20260423T163805
CREATED:20150918T033159Z
LAST-MODIFIED:20230921T132958Z
UID:10057430-1721930400-1721937600@www.livinginelkgrove.com
SUMMARY:American Legion Post 233 General Meeting
DESCRIPTION:
URL:https://www.livinginelkgrove.com/event/american-legion-meeting/2024-07-25/
LOCATION:Elk Grove Elks Lodge\, 9240 survey Road\, Elk Grove\, CA\, 95624\, United States
CATEGORIES:Meetings
GEO:38.377258;-121.3566867
X-APPLE-STRUCTURED-LOCATION;VALUE=URI;X-ADDRESS=Elk Grove Elks Lodge 9240 survey Road Elk Grove CA 95624 United States;X-APPLE-RADIUS=500;X-TITLE=9240 survey Road:geo:-121.3566867,38.377258
END:VEVENT
BEGIN:VEVENT
DTSTART;TZID=America/Los_Angeles:20240627T180000
DTEND;TZID=America/Los_Angeles:20240627T200000
DTSTAMP:20260423T163805
CREATED:20150918T033159Z
LAST-MODIFIED:20230921T132958Z
UID:10057429-1719511200-1719518400@www.livinginelkgrove.com
SUMMARY:American Legion Post 233 General Meeting
DESCRIPTION:
URL:https://www.livinginelkgrove.com/event/american-legion-meeting/2024-06-27/
LOCATION:Elk Grove Elks Lodge\, 9240 survey Road\, Elk Grove\, CA\, 95624\, United States
CATEGORIES:Meetings
GEO:38.377258;-121.3566867
X-APPLE-STRUCTURED-LOCATION;VALUE=URI;X-ADDRESS=Elk Grove Elks Lodge 9240 survey Road Elk Grove CA 95624 United States;X-APPLE-RADIUS=500;X-TITLE=9240 survey Road:geo:-121.3566867,38.377258
END:VEVENT
BEGIN:VEVENT
DTSTART;TZID=America/Los_Angeles:20240523T180000
DTEND;TZID=America/Los_Angeles:20240523T200000
DTSTAMP:20260423T163805
CREATED:20150918T033159Z
LAST-MODIFIED:20230921T132958Z
UID:10057428-1716487200-1716494400@www.livinginelkgrove.com
SUMMARY:American Legion Post 233 General Meeting
DESCRIPTION:
URL:https://www.livinginelkgrove.com/event/american-legion-meeting/2024-05-23/
LOCATION:Elk Grove Elks Lodge\, 9240 survey Road\, Elk Grove\, CA\, 95624\, United States
CATEGORIES:Meetings
GEO:38.377258;-121.3566867
X-APPLE-STRUCTURED-LOCATION;VALUE=URI;X-ADDRESS=Elk Grove Elks Lodge 9240 survey Road Elk Grove CA 95624 United States;X-APPLE-RADIUS=500;X-TITLE=9240 survey Road:geo:-121.3566867,38.377258
END:VEVENT
BEGIN:VEVENT
DTSTART;TZID=America/Los_Angeles:20240425T180000
DTEND;TZID=America/Los_Angeles:20240425T200000
DTSTAMP:20260423T163805
CREATED:20150918T033159Z
LAST-MODIFIED:20230921T132958Z
UID:10057427-1714068000-1714075200@www.livinginelkgrove.com
SUMMARY:American Legion Post 233 General Meeting
DESCRIPTION:
URL:https://www.livinginelkgrove.com/event/american-legion-meeting/2024-04-25/
LOCATION:Elk Grove Elks Lodge\, 9240 survey Road\, Elk Grove\, CA\, 95624\, United States
CATEGORIES:Meetings
GEO:38.377258;-121.3566867
X-APPLE-STRUCTURED-LOCATION;VALUE=URI;X-ADDRESS=Elk Grove Elks Lodge 9240 survey Road Elk Grove CA 95624 United States;X-APPLE-RADIUS=500;X-TITLE=9240 survey Road:geo:-121.3566867,38.377258
END:VEVENT
BEGIN:VEVENT
DTSTART;TZID=America/Los_Angeles:20240328T180000
DTEND;TZID=America/Los_Angeles:20240328T200000
DTSTAMP:20260423T163805
CREATED:20150918T033159Z
LAST-MODIFIED:20230921T132958Z
UID:10057426-1711648800-1711656000@www.livinginelkgrove.com
SUMMARY:American Legion Post 233 General Meeting
DESCRIPTION:
URL:https://www.livinginelkgrove.com/event/american-legion-meeting/2024-03-28/
LOCATION:Elk Grove Elks Lodge\, 9240 survey Road\, Elk Grove\, CA\, 95624\, United States
CATEGORIES:Meetings
GEO:38.377258;-121.3566867
X-APPLE-STRUCTURED-LOCATION;VALUE=URI;X-ADDRESS=Elk Grove Elks Lodge 9240 survey Road Elk Grove CA 95624 United States;X-APPLE-RADIUS=500;X-TITLE=9240 survey Road:geo:-121.3566867,38.377258
END:VEVENT
BEGIN:VEVENT
DTSTART;TZID=America/Los_Angeles:20240222T180000
DTEND;TZID=America/Los_Angeles:20240222T200000
DTSTAMP:20260423T163806
CREATED:20150918T033159Z
LAST-MODIFIED:20230921T132958Z
UID:10057425-1708624800-1708632000@www.livinginelkgrove.com
SUMMARY:American Legion Post 233 General Meeting
DESCRIPTION:
URL:https://www.livinginelkgrove.com/event/american-legion-meeting/2024-02-22/
LOCATION:Elk Grove Elks Lodge\, 9240 survey Road\, Elk Grove\, CA\, 95624\, United States
CATEGORIES:Meetings
GEO:38.377258;-121.3566867
X-APPLE-STRUCTURED-LOCATION;VALUE=URI;X-ADDRESS=Elk Grove Elks Lodge 9240 survey Road Elk Grove CA 95624 United States;X-APPLE-RADIUS=500;X-TITLE=9240 survey Road:geo:-121.3566867,38.377258
END:VEVENT
BEGIN:VEVENT
DTSTART;TZID=America/Los_Angeles:20240204T100000
DTEND;TZID=America/Los_Angeles:20240204T113000
DTSTAMP:20260423T163806
CREATED:20231231T233257Z
LAST-MODIFIED:20240101T065742Z
UID:10057888-1707040800-1707046200@www.livinginelkgrove.com
SUMMARY:Four Chaplains Memorial Service
DESCRIPTION:
URL:https://www.livinginelkgrove.com/event/four-chaplains-memorial-service/
LOCATION:District 56 Event Center\, Civic Center Drive\, Elk Grove\, CA\, 95757\, United States
CATEGORIES:Activities,Events,Special Event
END:VEVENT
END:VCALENDAR