BEGIN:VCALENDAR
VERSION:2.0
PRODID:-//Living In Elk Grove - ECPv6.15.20//NONSGML v1.0//EN
CALSCALE:GREGORIAN
METHOD:PUBLISH
X-ORIGINAL-URL:https://www.livinginelkgrove.com
X-WR-CALDESC:Events for Living In Elk Grove
REFRESH-INTERVAL;VALUE=DURATION:PT1H
X-Robots-Tag:noindex
X-PUBLISHED-TTL:PT1H
BEGIN:VTIMEZONE
TZID:America/Los_Angeles
BEGIN:DAYLIGHT
TZOFFSETFROM:-0800
TZOFFSETTO:-0700
TZNAME:PDT
DTSTART:20200308T100000
END:DAYLIGHT
BEGIN:STANDARD
TZOFFSETFROM:-0700
TZOFFSETTO:-0800
TZNAME:PST
DTSTART:20201101T090000
END:STANDARD
BEGIN:DAYLIGHT
TZOFFSETFROM:-0800
TZOFFSETTO:-0700
TZNAME:PDT
DTSTART:20210314T100000
END:DAYLIGHT
BEGIN:STANDARD
TZOFFSETFROM:-0700
TZOFFSETTO:-0800
TZNAME:PST
DTSTART:20211107T090000
END:STANDARD
BEGIN:DAYLIGHT
TZOFFSETFROM:-0800
TZOFFSETTO:-0700
TZNAME:PDT
DTSTART:20220313T100000
END:DAYLIGHT
BEGIN:STANDARD
TZOFFSETFROM:-0700
TZOFFSETTO:-0800
TZNAME:PST
DTSTART:20221106T090000
END:STANDARD
BEGIN:DAYLIGHT
TZOFFSETFROM:-0800
TZOFFSETTO:-0700
TZNAME:PDT
DTSTART:20230312T100000
END:DAYLIGHT
BEGIN:STANDARD
TZOFFSETFROM:-0700
TZOFFSETTO:-0800
TZNAME:PST
DTSTART:20231105T090000
END:STANDARD
BEGIN:DAYLIGHT
TZOFFSETFROM:-0800
TZOFFSETTO:-0700
TZNAME:PDT
DTSTART:20240310T100000
END:DAYLIGHT
BEGIN:STANDARD
TZOFFSETFROM:-0700
TZOFFSETTO:-0800
TZNAME:PST
DTSTART:20241103T090000
END:STANDARD
BEGIN:DAYLIGHT
TZOFFSETFROM:-0800
TZOFFSETTO:-0700
TZNAME:PDT
DTSTART:20250309T100000
END:DAYLIGHT
BEGIN:STANDARD
TZOFFSETFROM:-0700
TZOFFSETTO:-0800
TZNAME:PST
DTSTART:20251102T090000
END:STANDARD
END:VTIMEZONE
BEGIN:VEVENT
DTSTART;TZID=America/Los_Angeles:20240204T100000
DTEND;TZID=America/Los_Angeles:20240204T113000
DTSTAMP:20260423T214141
CREATED:20231231T233257Z
LAST-MODIFIED:20240101T065742Z
UID:10057888-1707040800-1707046200@www.livinginelkgrove.com
SUMMARY:Four Chaplains Memorial Service
DESCRIPTION:
URL:https://www.livinginelkgrove.com/event/four-chaplains-memorial-service/
LOCATION:District 56 Event Center\, Civic Center Drive\, Elk Grove\, CA\, 95757\, United States
CATEGORIES:Activities,Events,Special Event
END:VEVENT
BEGIN:VEVENT
DTSTART;TZID=America/Los_Angeles:20240125T180000
DTEND;TZID=America/Los_Angeles:20240125T200000
DTSTAMP:20260423T214141
CREATED:20150918T033159Z
LAST-MODIFIED:20230921T132958Z
UID:10057424-1706205600-1706212800@www.livinginelkgrove.com
SUMMARY:American Legion Post 233 General Meeting
DESCRIPTION:
URL:https://www.livinginelkgrove.com/event/american-legion-meeting/2024-01-25/
LOCATION:Elk Grove Elks Lodge\, 9240 survey Road\, Elk Grove\, CA\, 95624\, United States
CATEGORIES:Meetings
GEO:38.377258;-121.3566867
X-APPLE-STRUCTURED-LOCATION;VALUE=URI;X-ADDRESS=Elk Grove Elks Lodge 9240 survey Road Elk Grove CA 95624 United States;X-APPLE-RADIUS=500;X-TITLE=9240 survey Road:geo:-121.3566867,38.377258
END:VEVENT
BEGIN:VEVENT
DTSTART;TZID=America/Los_Angeles:20231228T180000
DTEND;TZID=America/Los_Angeles:20231228T200000
DTSTAMP:20260423T214141
CREATED:20150918T033159Z
LAST-MODIFIED:20230921T132958Z
UID:10057423-1703786400-1703793600@www.livinginelkgrove.com
SUMMARY:American Legion Post 233 General Meeting
DESCRIPTION:
URL:https://www.livinginelkgrove.com/event/american-legion-meeting/2023-12-28/
LOCATION:Elk Grove Elks Lodge\, 9240 survey Road\, Elk Grove\, CA\, 95624\, United States
CATEGORIES:Meetings
GEO:38.377258;-121.3566867
X-APPLE-STRUCTURED-LOCATION;VALUE=URI;X-ADDRESS=Elk Grove Elks Lodge 9240 survey Road Elk Grove CA 95624 United States;X-APPLE-RADIUS=500;X-TITLE=9240 survey Road:geo:-121.3566867,38.377258
END:VEVENT
BEGIN:VEVENT
DTSTART;TZID=America/Los_Angeles:20231123T180000
DTEND;TZID=America/Los_Angeles:20231123T200000
DTSTAMP:20260423T214141
CREATED:20150918T033159Z
LAST-MODIFIED:20230921T132958Z
UID:10057422-1700762400-1700769600@www.livinginelkgrove.com
SUMMARY:American Legion Post 233 General Meeting
DESCRIPTION:
URL:https://www.livinginelkgrove.com/event/american-legion-meeting/2023-11-23/
LOCATION:Elk Grove Elks Lodge\, 9240 survey Road\, Elk Grove\, CA\, 95624\, United States
CATEGORIES:Meetings
GEO:38.377258;-121.3566867
X-APPLE-STRUCTURED-LOCATION;VALUE=URI;X-ADDRESS=Elk Grove Elks Lodge 9240 survey Road Elk Grove CA 95624 United States;X-APPLE-RADIUS=500;X-TITLE=9240 survey Road:geo:-121.3566867,38.377258
END:VEVENT
BEGIN:VEVENT
DTSTART;TZID=America/Los_Angeles:20231026T180000
DTEND;TZID=America/Los_Angeles:20231026T200000
DTSTAMP:20260423T214141
CREATED:20150918T033159Z
LAST-MODIFIED:20230921T132958Z
UID:10057421-1698343200-1698350400@www.livinginelkgrove.com
SUMMARY:American Legion Post 233 General Meeting
DESCRIPTION:
URL:https://www.livinginelkgrove.com/event/american-legion-meeting/2023-10-26/
LOCATION:Elk Grove Elks Lodge\, 9240 survey Road\, Elk Grove\, CA\, 95624\, United States
CATEGORIES:Meetings
GEO:38.377258;-121.3566867
X-APPLE-STRUCTURED-LOCATION;VALUE=URI;X-ADDRESS=Elk Grove Elks Lodge 9240 survey Road Elk Grove CA 95624 United States;X-APPLE-RADIUS=500;X-TITLE=9240 survey Road:geo:-121.3566867,38.377258
END:VEVENT
BEGIN:VEVENT
DTSTART;TZID=America/Los_Angeles:20230928T180000
DTEND;TZID=America/Los_Angeles:20230928T200000
DTSTAMP:20260423T214141
CREATED:20150918T033159Z
LAST-MODIFIED:20230921T132958Z
UID:10057420-1695924000-1695931200@www.livinginelkgrove.com
SUMMARY:American Legion Post 233 General Meeting
DESCRIPTION:
URL:https://www.livinginelkgrove.com/event/american-legion-meeting/2023-09-28/
LOCATION:Elk Grove Elks Lodge\, 9240 survey Road\, Elk Grove\, CA\, 95624\, United States
CATEGORIES:Meetings
GEO:38.377258;-121.3566867
X-APPLE-STRUCTURED-LOCATION;VALUE=URI;X-ADDRESS=Elk Grove Elks Lodge 9240 survey Road Elk Grove CA 95624 United States;X-APPLE-RADIUS=500;X-TITLE=9240 survey Road:geo:-121.3566867,38.377258
END:VEVENT
BEGIN:VEVENT
DTSTART;TZID=America/Los_Angeles:20230830T170000
DTEND;TZID=America/Los_Angeles:20230830T183000
DTSTAMP:20260423T214141
CREATED:20230728T143237Z
LAST-MODIFIED:20230728T143237Z
UID:10056469-1693414800-1693420200@www.livinginelkgrove.com
SUMMARY:TriTip Drive-Thru Post 55 American Legion Laguna-Elk Grove
DESCRIPTION:Thanks for supporting the veterans at the American Legion Post 55 \nWe have set up online ordering for a choice of 1 family dinner for 4 people or 2 family dinners for 4 people for larger families. With each dinner for 4\, you will receive one cooked but unsliced TriTip\, 1 pound of potato salad\, 1 pound of baked beans\, 1 green salad\, 4 rolls and 4 cookies. \n \n  \nAll of our cooks on this event have Food Handler Permits\nso you know that everything will be done correctly. \nAlso\, please provide your phone number and email address as well as the name of the person picking up the order. We always have someone who forgot about the pick up date and we want to be able to call or text or email to remind you to pick up your dinner. \nClick Here to Order Your Dinner
URL:https://www.livinginelkgrove.com/event/tritip-drive-thru-post-55-american-legion-laguna-elk-grove/
LOCATION:District 56 Event Center\, Civic Center Drive\, Elk Grove\, CA\, 95757\, United States
CATEGORIES:Activities,Events,Fundraiser,Special Event
END:VEVENT
BEGIN:VEVENT
DTSTART;TZID=America/Los_Angeles:20230824T180000
DTEND;TZID=America/Los_Angeles:20230824T200000
DTSTAMP:20260423T214141
CREATED:20150918T033159Z
LAST-MODIFIED:20230921T132958Z
UID:10057419-1692900000-1692907200@www.livinginelkgrove.com
SUMMARY:American Legion Post 233 General Meeting
DESCRIPTION:
URL:https://www.livinginelkgrove.com/event/american-legion-meeting/2023-08-24/
LOCATION:Elk Grove Elks Lodge\, 9240 survey Road\, Elk Grove\, CA\, 95624\, United States
CATEGORIES:Meetings
GEO:38.377258;-121.3566867
X-APPLE-STRUCTURED-LOCATION;VALUE=URI;X-ADDRESS=Elk Grove Elks Lodge 9240 survey Road Elk Grove CA 95624 United States;X-APPLE-RADIUS=500;X-TITLE=9240 survey Road:geo:-121.3566867,38.377258
END:VEVENT
BEGIN:VEVENT
DTSTART;TZID=America/Los_Angeles:20230727T180000
DTEND;TZID=America/Los_Angeles:20230727T200000
DTSTAMP:20260423T214141
CREATED:20150918T033159Z
LAST-MODIFIED:20230921T132958Z
UID:10057418-1690480800-1690488000@www.livinginelkgrove.com
SUMMARY:American Legion Post 233 General Meeting
DESCRIPTION:
URL:https://www.livinginelkgrove.com/event/american-legion-meeting/2023-07-27/
LOCATION:Elk Grove Elks Lodge\, 9240 survey Road\, Elk Grove\, CA\, 95624\, United States
CATEGORIES:Meetings
GEO:38.377258;-121.3566867
X-APPLE-STRUCTURED-LOCATION;VALUE=URI;X-ADDRESS=Elk Grove Elks Lodge 9240 survey Road Elk Grove CA 95624 United States;X-APPLE-RADIUS=500;X-TITLE=9240 survey Road:geo:-121.3566867,38.377258
END:VEVENT
BEGIN:VEVENT
DTSTART;TZID=America/Los_Angeles:20230622T180000
DTEND;TZID=America/Los_Angeles:20230622T200000
DTSTAMP:20260423T214141
CREATED:20150918T033159Z
LAST-MODIFIED:20230921T132958Z
UID:10057417-1687456800-1687464000@www.livinginelkgrove.com
SUMMARY:American Legion Post 233 General Meeting
DESCRIPTION:
URL:https://www.livinginelkgrove.com/event/american-legion-meeting/2023-06-22/
LOCATION:Elk Grove Elks Lodge\, 9240 survey Road\, Elk Grove\, CA\, 95624\, United States
CATEGORIES:Meetings
GEO:38.377258;-121.3566867
X-APPLE-STRUCTURED-LOCATION;VALUE=URI;X-ADDRESS=Elk Grove Elks Lodge 9240 survey Road Elk Grove CA 95624 United States;X-APPLE-RADIUS=500;X-TITLE=9240 survey Road:geo:-121.3566867,38.377258
END:VEVENT
BEGIN:VEVENT
DTSTART;TZID=America/Los_Angeles:20230525T180000
DTEND;TZID=America/Los_Angeles:20230525T200000
DTSTAMP:20260423T214141
CREATED:20150918T033159Z
LAST-MODIFIED:20230921T132958Z
UID:10057416-1685037600-1685044800@www.livinginelkgrove.com
SUMMARY:American Legion Post 233 General Meeting
DESCRIPTION:
URL:https://www.livinginelkgrove.com/event/american-legion-meeting/2023-05-25/
LOCATION:Elk Grove Elks Lodge\, 9240 survey Road\, Elk Grove\, CA\, 95624\, United States
CATEGORIES:Meetings
GEO:38.377258;-121.3566867
X-APPLE-STRUCTURED-LOCATION;VALUE=URI;X-ADDRESS=Elk Grove Elks Lodge 9240 survey Road Elk Grove CA 95624 United States;X-APPLE-RADIUS=500;X-TITLE=9240 survey Road:geo:-121.3566867,38.377258
END:VEVENT
BEGIN:VEVENT
DTSTART;TZID=America/Los_Angeles:20230427T180000
DTEND;TZID=America/Los_Angeles:20230427T200000
DTSTAMP:20260423T214141
CREATED:20150918T033159Z
LAST-MODIFIED:20230921T132958Z
UID:10057415-1682618400-1682625600@www.livinginelkgrove.com
SUMMARY:American Legion Post 233 General Meeting
DESCRIPTION:
URL:https://www.livinginelkgrove.com/event/american-legion-meeting/2023-04-27/
LOCATION:Elk Grove Elks Lodge\, 9240 survey Road\, Elk Grove\, CA\, 95624\, United States
CATEGORIES:Meetings
GEO:38.377258;-121.3566867
X-APPLE-STRUCTURED-LOCATION;VALUE=URI;X-ADDRESS=Elk Grove Elks Lodge 9240 survey Road Elk Grove CA 95624 United States;X-APPLE-RADIUS=500;X-TITLE=9240 survey Road:geo:-121.3566867,38.377258
END:VEVENT
BEGIN:VEVENT
DTSTART;TZID=America/Los_Angeles:20230331T160000
DTEND;TZID=America/Los_Angeles:20230331T180000
DTSTAMP:20260423T214141
CREATED:20230130T205719Z
LAST-MODIFIED:20230329T194241Z
UID:10056151-1680278400-1680285600@www.livinginelkgrove.com
SUMMARY:American Legion Post 55 Drive-Thru Dinner
DESCRIPTION:Sold Out\nThanks for your support\nMore info to follow here as well as on the American Legion Post 55 Website
URL:https://www.livinginelkgrove.com/event/american-legion-post-55-drive-thru-dinner/
LOCATION:District 56 Event Center\, Civic Center Drive\, Elk Grove\, CA\, 95757\, United States
CATEGORIES:Activities,Events,Fundraiser
END:VEVENT
BEGIN:VEVENT
DTSTART;TZID=America/Los_Angeles:20230323T180000
DTEND;TZID=America/Los_Angeles:20230323T200000
DTSTAMP:20260423T214141
CREATED:20150918T033159Z
LAST-MODIFIED:20230921T132958Z
UID:10057414-1679594400-1679601600@www.livinginelkgrove.com
SUMMARY:American Legion Post 233 General Meeting
DESCRIPTION:
URL:https://www.livinginelkgrove.com/event/american-legion-meeting/2023-03-23/
LOCATION:Elk Grove Elks Lodge\, 9240 survey Road\, Elk Grove\, CA\, 95624\, United States
CATEGORIES:Meetings
GEO:38.377258;-121.3566867
X-APPLE-STRUCTURED-LOCATION;VALUE=URI;X-ADDRESS=Elk Grove Elks Lodge 9240 survey Road Elk Grove CA 95624 United States;X-APPLE-RADIUS=500;X-TITLE=9240 survey Road:geo:-121.3566867,38.377258
END:VEVENT
BEGIN:VEVENT
DTSTART;TZID=America/Los_Angeles:20230223T180000
DTEND;TZID=America/Los_Angeles:20230223T200000
DTSTAMP:20260423T214141
CREATED:20150918T033159Z
LAST-MODIFIED:20230921T132958Z
UID:10057413-1677175200-1677182400@www.livinginelkgrove.com
SUMMARY:American Legion Post 233 General Meeting
DESCRIPTION:
URL:https://www.livinginelkgrove.com/event/american-legion-meeting/2023-02-23/
LOCATION:Elk Grove Elks Lodge\, 9240 survey Road\, Elk Grove\, CA\, 95624\, United States
CATEGORIES:Meetings
GEO:38.377258;-121.3566867
X-APPLE-STRUCTURED-LOCATION;VALUE=URI;X-ADDRESS=Elk Grove Elks Lodge 9240 survey Road Elk Grove CA 95624 United States;X-APPLE-RADIUS=500;X-TITLE=9240 survey Road:geo:-121.3566867,38.377258
END:VEVENT
BEGIN:VEVENT
DTSTART;TZID=America/Los_Angeles:20230126T180000
DTEND;TZID=America/Los_Angeles:20230126T200000
DTSTAMP:20260423T214141
CREATED:20150918T033159Z
LAST-MODIFIED:20230921T132958Z
UID:10057412-1674756000-1674763200@www.livinginelkgrove.com
SUMMARY:American Legion Post 233 General Meeting
DESCRIPTION:
URL:https://www.livinginelkgrove.com/event/american-legion-meeting/2023-01-26/
LOCATION:Elk Grove Elks Lodge\, 9240 survey Road\, Elk Grove\, CA\, 95624\, United States
CATEGORIES:Meetings
GEO:38.377258;-121.3566867
X-APPLE-STRUCTURED-LOCATION;VALUE=URI;X-ADDRESS=Elk Grove Elks Lodge 9240 survey Road Elk Grove CA 95624 United States;X-APPLE-RADIUS=500;X-TITLE=9240 survey Road:geo:-121.3566867,38.377258
END:VEVENT
BEGIN:VEVENT
DTSTART;TZID=America/Los_Angeles:20221222T180000
DTEND;TZID=America/Los_Angeles:20221222T200000
DTSTAMP:20260423T214141
CREATED:20150918T033159Z
LAST-MODIFIED:20230921T132958Z
UID:10057411-1671732000-1671739200@www.livinginelkgrove.com
SUMMARY:American Legion Post 233 General Meeting
DESCRIPTION:
URL:https://www.livinginelkgrove.com/event/american-legion-meeting/2022-12-22/
LOCATION:Elk Grove Elks Lodge\, 9240 survey Road\, Elk Grove\, CA\, 95624\, United States
CATEGORIES:Meetings
GEO:38.377258;-121.3566867
X-APPLE-STRUCTURED-LOCATION;VALUE=URI;X-ADDRESS=Elk Grove Elks Lodge 9240 survey Road Elk Grove CA 95624 United States;X-APPLE-RADIUS=500;X-TITLE=9240 survey Road:geo:-121.3566867,38.377258
END:VEVENT
BEGIN:VEVENT
DTSTART;TZID=America/Los_Angeles:20221124T180000
DTEND;TZID=America/Los_Angeles:20221124T200000
DTSTAMP:20260423T214141
CREATED:20150918T033159Z
LAST-MODIFIED:20230921T132958Z
UID:10057410-1669312800-1669320000@www.livinginelkgrove.com
SUMMARY:American Legion Post 233 General Meeting
DESCRIPTION:
URL:https://www.livinginelkgrove.com/event/american-legion-meeting/2022-11-24/
LOCATION:Elk Grove Elks Lodge\, 9240 survey Road\, Elk Grove\, CA\, 95624\, United States
CATEGORIES:Meetings
GEO:38.377258;-121.3566867
X-APPLE-STRUCTURED-LOCATION;VALUE=URI;X-ADDRESS=Elk Grove Elks Lodge 9240 survey Road Elk Grove CA 95624 United States;X-APPLE-RADIUS=500;X-TITLE=9240 survey Road:geo:-121.3566867,38.377258
END:VEVENT
BEGIN:VEVENT
DTSTART;TZID=America/Los_Angeles:20221027T180000
DTEND;TZID=America/Los_Angeles:20221027T200000
DTSTAMP:20260423T214141
CREATED:20150918T033159Z
LAST-MODIFIED:20230921T132958Z
UID:10057409-1666893600-1666900800@www.livinginelkgrove.com
SUMMARY:American Legion Post 233 General Meeting
DESCRIPTION:
URL:https://www.livinginelkgrove.com/event/american-legion-meeting/2022-10-27/
LOCATION:Elk Grove Elks Lodge\, 9240 survey Road\, Elk Grove\, CA\, 95624\, United States
CATEGORIES:Meetings
GEO:38.377258;-121.3566867
X-APPLE-STRUCTURED-LOCATION;VALUE=URI;X-ADDRESS=Elk Grove Elks Lodge 9240 survey Road Elk Grove CA 95624 United States;X-APPLE-RADIUS=500;X-TITLE=9240 survey Road:geo:-121.3566867,38.377258
END:VEVENT
BEGIN:VEVENT
DTSTART;TZID=America/Los_Angeles:20220922T180000
DTEND;TZID=America/Los_Angeles:20220922T200000
DTSTAMP:20260423T214141
CREATED:20150918T033159Z
LAST-MODIFIED:20230921T132958Z
UID:10057408-1663869600-1663876800@www.livinginelkgrove.com
SUMMARY:American Legion Post 233 General Meeting
DESCRIPTION:
URL:https://www.livinginelkgrove.com/event/american-legion-meeting/2022-09-22/
LOCATION:Elk Grove Elks Lodge\, 9240 survey Road\, Elk Grove\, CA\, 95624\, United States
CATEGORIES:Meetings
GEO:38.377258;-121.3566867
X-APPLE-STRUCTURED-LOCATION;VALUE=URI;X-ADDRESS=Elk Grove Elks Lodge 9240 survey Road Elk Grove CA 95624 United States;X-APPLE-RADIUS=500;X-TITLE=9240 survey Road:geo:-121.3566867,38.377258
END:VEVENT
BEGIN:VEVENT
DTSTART;TZID=America/Los_Angeles:20220825T180000
DTEND;TZID=America/Los_Angeles:20220825T200000
DTSTAMP:20260423T214141
CREATED:20150918T033159Z
LAST-MODIFIED:20230921T132958Z
UID:10057407-1661450400-1661457600@www.livinginelkgrove.com
SUMMARY:American Legion Post 233 General Meeting
DESCRIPTION:
URL:https://www.livinginelkgrove.com/event/american-legion-meeting/2022-08-25/
LOCATION:Elk Grove Elks Lodge\, 9240 survey Road\, Elk Grove\, CA\, 95624\, United States
CATEGORIES:Meetings
GEO:38.377258;-121.3566867
X-APPLE-STRUCTURED-LOCATION;VALUE=URI;X-ADDRESS=Elk Grove Elks Lodge 9240 survey Road Elk Grove CA 95624 United States;X-APPLE-RADIUS=500;X-TITLE=9240 survey Road:geo:-121.3566867,38.377258
END:VEVENT
BEGIN:VEVENT
DTSTART;TZID=America/Los_Angeles:20220728T180000
DTEND;TZID=America/Los_Angeles:20220728T200000
DTSTAMP:20260423T214141
CREATED:20150918T033159Z
LAST-MODIFIED:20230921T132958Z
UID:10057406-1659031200-1659038400@www.livinginelkgrove.com
SUMMARY:American Legion Post 233 General Meeting
DESCRIPTION:
URL:https://www.livinginelkgrove.com/event/american-legion-meeting/2022-07-28/
LOCATION:Elk Grove Elks Lodge\, 9240 survey Road\, Elk Grove\, CA\, 95624\, United States
CATEGORIES:Meetings
GEO:38.377258;-121.3566867
X-APPLE-STRUCTURED-LOCATION;VALUE=URI;X-ADDRESS=Elk Grove Elks Lodge 9240 survey Road Elk Grove CA 95624 United States;X-APPLE-RADIUS=500;X-TITLE=9240 survey Road:geo:-121.3566867,38.377258
END:VEVENT
BEGIN:VEVENT
DTSTART;TZID=America/Los_Angeles:20220623T180000
DTEND;TZID=America/Los_Angeles:20220623T200000
DTSTAMP:20260423T214141
CREATED:20150918T033159Z
LAST-MODIFIED:20230921T132958Z
UID:10057405-1656007200-1656014400@www.livinginelkgrove.com
SUMMARY:American Legion Post 233 General Meeting
DESCRIPTION:
URL:https://www.livinginelkgrove.com/event/american-legion-meeting/2022-06-23/
LOCATION:Elk Grove Elks Lodge\, 9240 survey Road\, Elk Grove\, CA\, 95624\, United States
CATEGORIES:Meetings
GEO:38.377258;-121.3566867
X-APPLE-STRUCTURED-LOCATION;VALUE=URI;X-ADDRESS=Elk Grove Elks Lodge 9240 survey Road Elk Grove CA 95624 United States;X-APPLE-RADIUS=500;X-TITLE=9240 survey Road:geo:-121.3566867,38.377258
END:VEVENT
BEGIN:VEVENT
DTSTART;TZID=America/Los_Angeles:20220526T180000
DTEND;TZID=America/Los_Angeles:20220526T200000
DTSTAMP:20260423T214141
CREATED:20150918T033159Z
LAST-MODIFIED:20230921T132958Z
UID:10057404-1653588000-1653595200@www.livinginelkgrove.com
SUMMARY:American Legion Post 233 General Meeting
DESCRIPTION:
URL:https://www.livinginelkgrove.com/event/american-legion-meeting/2022-05-26/
LOCATION:Elk Grove Elks Lodge\, 9240 survey Road\, Elk Grove\, CA\, 95624\, United States
CATEGORIES:Meetings
GEO:38.377258;-121.3566867
X-APPLE-STRUCTURED-LOCATION;VALUE=URI;X-ADDRESS=Elk Grove Elks Lodge 9240 survey Road Elk Grove CA 95624 United States;X-APPLE-RADIUS=500;X-TITLE=9240 survey Road:geo:-121.3566867,38.377258
END:VEVENT
BEGIN:VEVENT
DTSTART;TZID=America/Los_Angeles:20220428T180000
DTEND;TZID=America/Los_Angeles:20220428T200000
DTSTAMP:20260423T214141
CREATED:20150918T033159Z
LAST-MODIFIED:20230921T132958Z
UID:10057403-1651168800-1651176000@www.livinginelkgrove.com
SUMMARY:American Legion Post 233 General Meeting
DESCRIPTION:
URL:https://www.livinginelkgrove.com/event/american-legion-meeting/2022-04-28/
LOCATION:Elk Grove Elks Lodge\, 9240 survey Road\, Elk Grove\, CA\, 95624\, United States
CATEGORIES:Meetings
GEO:38.377258;-121.3566867
X-APPLE-STRUCTURED-LOCATION;VALUE=URI;X-ADDRESS=Elk Grove Elks Lodge 9240 survey Road Elk Grove CA 95624 United States;X-APPLE-RADIUS=500;X-TITLE=9240 survey Road:geo:-121.3566867,38.377258
END:VEVENT
BEGIN:VEVENT
DTSTART;TZID=America/Los_Angeles:20220324T180000
DTEND;TZID=America/Los_Angeles:20220324T200000
DTSTAMP:20260423T214141
CREATED:20150918T033159Z
LAST-MODIFIED:20230921T132958Z
UID:10057402-1648144800-1648152000@www.livinginelkgrove.com
SUMMARY:American Legion Post 233 General Meeting
DESCRIPTION:
URL:https://www.livinginelkgrove.com/event/american-legion-meeting/2022-03-24/
LOCATION:Elk Grove Elks Lodge\, 9240 survey Road\, Elk Grove\, CA\, 95624\, United States
CATEGORIES:Meetings
GEO:38.377258;-121.3566867
X-APPLE-STRUCTURED-LOCATION;VALUE=URI;X-ADDRESS=Elk Grove Elks Lodge 9240 survey Road Elk Grove CA 95624 United States;X-APPLE-RADIUS=500;X-TITLE=9240 survey Road:geo:-121.3566867,38.377258
END:VEVENT
BEGIN:VEVENT
DTSTART;TZID=America/Los_Angeles:20220224T180000
DTEND;TZID=America/Los_Angeles:20220224T200000
DTSTAMP:20260423T214141
CREATED:20150918T033159Z
LAST-MODIFIED:20230921T132958Z
UID:10057401-1645725600-1645732800@www.livinginelkgrove.com
SUMMARY:American Legion Post 233 General Meeting
DESCRIPTION:
URL:https://www.livinginelkgrove.com/event/american-legion-meeting/2022-02-24/
LOCATION:Elk Grove Elks Lodge\, 9240 survey Road\, Elk Grove\, CA\, 95624\, United States
CATEGORIES:Meetings
GEO:38.377258;-121.3566867
X-APPLE-STRUCTURED-LOCATION;VALUE=URI;X-ADDRESS=Elk Grove Elks Lodge 9240 survey Road Elk Grove CA 95624 United States;X-APPLE-RADIUS=500;X-TITLE=9240 survey Road:geo:-121.3566867,38.377258
END:VEVENT
BEGIN:VEVENT
DTSTART;TZID=America/Los_Angeles:20220127T180000
DTEND;TZID=America/Los_Angeles:20220127T200000
DTSTAMP:20260423T214141
CREATED:20150918T033159Z
LAST-MODIFIED:20230921T132958Z
UID:10057400-1643306400-1643313600@www.livinginelkgrove.com
SUMMARY:American Legion Post 233 General Meeting
DESCRIPTION:
URL:https://www.livinginelkgrove.com/event/american-legion-meeting/2022-01-27/
LOCATION:Elk Grove Elks Lodge\, 9240 survey Road\, Elk Grove\, CA\, 95624\, United States
CATEGORIES:Meetings
GEO:38.377258;-121.3566867
X-APPLE-STRUCTURED-LOCATION;VALUE=URI;X-ADDRESS=Elk Grove Elks Lodge 9240 survey Road Elk Grove CA 95624 United States;X-APPLE-RADIUS=500;X-TITLE=9240 survey Road:geo:-121.3566867,38.377258
END:VEVENT
BEGIN:VEVENT
DTSTART;TZID=America/Los_Angeles:20211223T180000
DTEND;TZID=America/Los_Angeles:20211223T200000
DTSTAMP:20260423T214141
CREATED:20150918T033159Z
LAST-MODIFIED:20230921T132958Z
UID:10057399-1640282400-1640289600@www.livinginelkgrove.com
SUMMARY:American Legion Post 233 General Meeting
DESCRIPTION:
URL:https://www.livinginelkgrove.com/event/american-legion-meeting/2021-12-23/
LOCATION:Elk Grove Elks Lodge\, 9240 survey Road\, Elk Grove\, CA\, 95624\, United States
CATEGORIES:Meetings
GEO:38.377258;-121.3566867
X-APPLE-STRUCTURED-LOCATION;VALUE=URI;X-ADDRESS=Elk Grove Elks Lodge 9240 survey Road Elk Grove CA 95624 United States;X-APPLE-RADIUS=500;X-TITLE=9240 survey Road:geo:-121.3566867,38.377258
END:VEVENT
BEGIN:VEVENT
DTSTART;TZID=America/Los_Angeles:20211125T180000
DTEND;TZID=America/Los_Angeles:20211125T200000
DTSTAMP:20260423T214141
CREATED:20150918T033159Z
LAST-MODIFIED:20230921T132958Z
UID:10057398-1637863200-1637870400@www.livinginelkgrove.com
SUMMARY:American Legion Post 233 General Meeting
DESCRIPTION:
URL:https://www.livinginelkgrove.com/event/american-legion-meeting/2021-11-25/
LOCATION:Elk Grove Elks Lodge\, 9240 survey Road\, Elk Grove\, CA\, 95624\, United States
CATEGORIES:Meetings
GEO:38.377258;-121.3566867
X-APPLE-STRUCTURED-LOCATION;VALUE=URI;X-ADDRESS=Elk Grove Elks Lodge 9240 survey Road Elk Grove CA 95624 United States;X-APPLE-RADIUS=500;X-TITLE=9240 survey Road:geo:-121.3566867,38.377258
END:VEVENT
END:VCALENDAR