BEGIN:VCALENDAR
VERSION:2.0
PRODID:-//Living In Elk Grove - ECPv6.15.20//NONSGML v1.0//EN
CALSCALE:GREGORIAN
METHOD:PUBLISH
X-ORIGINAL-URL:https://www.livinginelkgrove.com
X-WR-CALDESC:Events for Living In Elk Grove
REFRESH-INTERVAL;VALUE=DURATION:PT1H
X-Robots-Tag:noindex
X-PUBLISHED-TTL:PT1H
BEGIN:VTIMEZONE
TZID:America/Los_Angeles
BEGIN:DAYLIGHT
TZOFFSETFROM:-0800
TZOFFSETTO:-0700
TZNAME:PDT
DTSTART:20220313T100000
END:DAYLIGHT
BEGIN:STANDARD
TZOFFSETFROM:-0700
TZOFFSETTO:-0800
TZNAME:PST
DTSTART:20221106T090000
END:STANDARD
BEGIN:DAYLIGHT
TZOFFSETFROM:-0800
TZOFFSETTO:-0700
TZNAME:PDT
DTSTART:20230312T100000
END:DAYLIGHT
BEGIN:STANDARD
TZOFFSETFROM:-0700
TZOFFSETTO:-0800
TZNAME:PST
DTSTART:20231105T090000
END:STANDARD
BEGIN:DAYLIGHT
TZOFFSETFROM:-0800
TZOFFSETTO:-0700
TZNAME:PDT
DTSTART:20240310T100000
END:DAYLIGHT
BEGIN:STANDARD
TZOFFSETFROM:-0700
TZOFFSETTO:-0800
TZNAME:PST
DTSTART:20241103T090000
END:STANDARD
END:VTIMEZONE
BEGIN:VEVENT
DTSTART;VALUE=DATE:20231013
DTEND;VALUE=DATE:20231015
DTSTAMP:20260424T002650
CREATED:20231010T143734Z
LAST-MODIFIED:20231010T143853Z
UID:10057876-1697155200-1697327999@www.livinginelkgrove.com
SUMMARY:8th Annual Elk Grove Cricket Tournament and Family Festival
DESCRIPTION:
URL:https://www.livinginelkgrove.com/event/8th-annual-elk-grove-cricket-tournament-and-family-festival/
LOCATION:Hal Bartholomew Sports Park\, 10150 Franklin High Road\, Elk Grove\, 95757\, United States
CATEGORIES:Activities,Events,Special Event
END:VEVENT
END:VCALENDAR