BEGIN:VCALENDAR
VERSION:2.0
PRODID:-//Living In Elk Grove - ECPv6.15.20//NONSGML v1.0//EN
CALSCALE:GREGORIAN
METHOD:PUBLISH
X-WR-CALNAME:Living In Elk Grove
X-ORIGINAL-URL:https://www.livinginelkgrove.com
X-WR-CALDESC:Events for Living In Elk Grove
REFRESH-INTERVAL;VALUE=DURATION:PT1H
X-Robots-Tag:noindex
X-PUBLISHED-TTL:PT1H
BEGIN:VTIMEZONE
TZID:America/Los_Angeles
BEGIN:DAYLIGHT
TZOFFSETFROM:-0800
TZOFFSETTO:-0700
TZNAME:PDT
DTSTART:20260308T100000
END:DAYLIGHT
BEGIN:STANDARD
TZOFFSETFROM:-0700
TZOFFSETTO:-0800
TZNAME:PST
DTSTART:20261101T090000
END:STANDARD
BEGIN:DAYLIGHT
TZOFFSETFROM:-0800
TZOFFSETTO:-0700
TZNAME:PDT
DTSTART:20270314T100000
END:DAYLIGHT
BEGIN:STANDARD
TZOFFSETFROM:-0700
TZOFFSETTO:-0800
TZNAME:PST
DTSTART:20271107T090000
END:STANDARD
BEGIN:DAYLIGHT
TZOFFSETFROM:-0800
TZOFFSETTO:-0700
TZNAME:PDT
DTSTART:20280312T100000
END:DAYLIGHT
BEGIN:STANDARD
TZOFFSETFROM:-0700
TZOFFSETTO:-0800
TZNAME:PST
DTSTART:20281105T090000
END:STANDARD
BEGIN:DAYLIGHT
TZOFFSETFROM:-0800
TZOFFSETTO:-0700
TZNAME:PDT
DTSTART:20290311T100000
END:DAYLIGHT
BEGIN:STANDARD
TZOFFSETFROM:-0700
TZOFFSETTO:-0800
TZNAME:PST
DTSTART:20291104T090000
END:STANDARD
BEGIN:DAYLIGHT
TZOFFSETFROM:-0800
TZOFFSETTO:-0700
TZNAME:PDT
DTSTART:20300310T100000
END:DAYLIGHT
BEGIN:STANDARD
TZOFFSETFROM:-0700
TZOFFSETTO:-0800
TZNAME:PST
DTSTART:20301103T090000
END:STANDARD
END:VTIMEZONE
BEGIN:VEVENT
DTSTART;TZID=America/Los_Angeles:20270126T183000
DTEND;TZID=America/Los_Angeles:20270126T203000
DTSTAMP:20260423T162411
CREATED:20240705T153403Z
LAST-MODIFIED:20240705T153759Z
UID:10058787-1800988200-1800995400@www.livinginelkgrove.com
SUMMARY:Laguna-Elk Grove Kiwanis
DESCRIPTION:Our meeting location are on the 4th Tuesday of the month. 6:30pm social.  7:00 meeting \nWackford Community Center – Willow Room (9014 Bruceville Road) \n 
URL:https://www.livinginelkgrove.com/event/laguna-elk-grove-kiwanis-2/2027-01-26/
LOCATION:Wackford Center\, 9410 Bruceville Road\, Elk Grove\, CA\, 95758
CATEGORIES:Meetings
GEO:38.4097244;-121.4177679
X-APPLE-STRUCTURED-LOCATION;VALUE=URI;X-ADDRESS=Wackford Center 9410 Bruceville Road Elk Grove CA 95758;X-APPLE-RADIUS=500;X-TITLE=9410 Bruceville Road:geo:-121.4177679,38.4097244
END:VEVENT
BEGIN:VEVENT
DTSTART;TZID=America/Los_Angeles:20270223T183000
DTEND;TZID=America/Los_Angeles:20270223T203000
DTSTAMP:20260423T162411
CREATED:20240705T153403Z
LAST-MODIFIED:20240705T153759Z
UID:10058788-1803407400-1803414600@www.livinginelkgrove.com
SUMMARY:Laguna-Elk Grove Kiwanis
DESCRIPTION:Our meeting location are on the 4th Tuesday of the month. 6:30pm social.  7:00 meeting \nWackford Community Center – Willow Room (9014 Bruceville Road) \n 
URL:https://www.livinginelkgrove.com/event/laguna-elk-grove-kiwanis-2/2027-02-23/
LOCATION:Wackford Center\, 9410 Bruceville Road\, Elk Grove\, CA\, 95758
CATEGORIES:Meetings
GEO:38.4097244;-121.4177679
X-APPLE-STRUCTURED-LOCATION;VALUE=URI;X-ADDRESS=Wackford Center 9410 Bruceville Road Elk Grove CA 95758;X-APPLE-RADIUS=500;X-TITLE=9410 Bruceville Road:geo:-121.4177679,38.4097244
END:VEVENT
BEGIN:VEVENT
DTSTART;TZID=America/Los_Angeles:20270323T183000
DTEND;TZID=America/Los_Angeles:20270323T203000
DTSTAMP:20260423T162411
CREATED:20240705T153403Z
LAST-MODIFIED:20240705T153759Z
UID:10058789-1805826600-1805833800@www.livinginelkgrove.com
SUMMARY:Laguna-Elk Grove Kiwanis
DESCRIPTION:Our meeting location are on the 4th Tuesday of the month. 6:30pm social.  7:00 meeting \nWackford Community Center – Willow Room (9014 Bruceville Road) \n 
URL:https://www.livinginelkgrove.com/event/laguna-elk-grove-kiwanis-2/2027-03-23/
LOCATION:Wackford Center\, 9410 Bruceville Road\, Elk Grove\, CA\, 95758
CATEGORIES:Meetings
GEO:38.4097244;-121.4177679
X-APPLE-STRUCTURED-LOCATION;VALUE=URI;X-ADDRESS=Wackford Center 9410 Bruceville Road Elk Grove CA 95758;X-APPLE-RADIUS=500;X-TITLE=9410 Bruceville Road:geo:-121.4177679,38.4097244
END:VEVENT
BEGIN:VEVENT
DTSTART;TZID=America/Los_Angeles:20270427T183000
DTEND;TZID=America/Los_Angeles:20270427T203000
DTSTAMP:20260423T162411
CREATED:20240705T153403Z
LAST-MODIFIED:20240705T153759Z
UID:10058790-1808850600-1808857800@www.livinginelkgrove.com
SUMMARY:Laguna-Elk Grove Kiwanis
DESCRIPTION:Our meeting location are on the 4th Tuesday of the month. 6:30pm social.  7:00 meeting \nWackford Community Center – Willow Room (9014 Bruceville Road) \n 
URL:https://www.livinginelkgrove.com/event/laguna-elk-grove-kiwanis-2/2027-04-27/
LOCATION:Wackford Center\, 9410 Bruceville Road\, Elk Grove\, CA\, 95758
CATEGORIES:Meetings
GEO:38.4097244;-121.4177679
X-APPLE-STRUCTURED-LOCATION;VALUE=URI;X-ADDRESS=Wackford Center 9410 Bruceville Road Elk Grove CA 95758;X-APPLE-RADIUS=500;X-TITLE=9410 Bruceville Road:geo:-121.4177679,38.4097244
END:VEVENT
BEGIN:VEVENT
DTSTART;TZID=America/Los_Angeles:20270525T183000
DTEND;TZID=America/Los_Angeles:20270525T203000
DTSTAMP:20260423T162411
CREATED:20240705T153403Z
LAST-MODIFIED:20240705T153759Z
UID:10058791-1811269800-1811277000@www.livinginelkgrove.com
SUMMARY:Laguna-Elk Grove Kiwanis
DESCRIPTION:Our meeting location are on the 4th Tuesday of the month. 6:30pm social.  7:00 meeting \nWackford Community Center – Willow Room (9014 Bruceville Road) \n 
URL:https://www.livinginelkgrove.com/event/laguna-elk-grove-kiwanis-2/2027-05-25/
LOCATION:Wackford Center\, 9410 Bruceville Road\, Elk Grove\, CA\, 95758
CATEGORIES:Meetings
GEO:38.4097244;-121.4177679
X-APPLE-STRUCTURED-LOCATION;VALUE=URI;X-ADDRESS=Wackford Center 9410 Bruceville Road Elk Grove CA 95758;X-APPLE-RADIUS=500;X-TITLE=9410 Bruceville Road:geo:-121.4177679,38.4097244
END:VEVENT
BEGIN:VEVENT
DTSTART;TZID=America/Los_Angeles:20270622T183000
DTEND;TZID=America/Los_Angeles:20270622T203000
DTSTAMP:20260423T162411
CREATED:20240705T153403Z
LAST-MODIFIED:20240705T153759Z
UID:10058792-1813689000-1813696200@www.livinginelkgrove.com
SUMMARY:Laguna-Elk Grove Kiwanis
DESCRIPTION:Our meeting location are on the 4th Tuesday of the month. 6:30pm social.  7:00 meeting \nWackford Community Center – Willow Room (9014 Bruceville Road) \n 
URL:https://www.livinginelkgrove.com/event/laguna-elk-grove-kiwanis-2/2027-06-22/
LOCATION:Wackford Center\, 9410 Bruceville Road\, Elk Grove\, CA\, 95758
CATEGORIES:Meetings
GEO:38.4097244;-121.4177679
X-APPLE-STRUCTURED-LOCATION;VALUE=URI;X-ADDRESS=Wackford Center 9410 Bruceville Road Elk Grove CA 95758;X-APPLE-RADIUS=500;X-TITLE=9410 Bruceville Road:geo:-121.4177679,38.4097244
END:VEVENT
BEGIN:VEVENT
DTSTART;TZID=America/Los_Angeles:20270727T183000
DTEND;TZID=America/Los_Angeles:20270727T203000
DTSTAMP:20260423T162411
CREATED:20240705T153403Z
LAST-MODIFIED:20240705T153759Z
UID:10058793-1816713000-1816720200@www.livinginelkgrove.com
SUMMARY:Laguna-Elk Grove Kiwanis
DESCRIPTION:Our meeting location are on the 4th Tuesday of the month. 6:30pm social.  7:00 meeting \nWackford Community Center – Willow Room (9014 Bruceville Road) \n 
URL:https://www.livinginelkgrove.com/event/laguna-elk-grove-kiwanis-2/2027-07-27/
LOCATION:Wackford Center\, 9410 Bruceville Road\, Elk Grove\, CA\, 95758
CATEGORIES:Meetings
GEO:38.4097244;-121.4177679
X-APPLE-STRUCTURED-LOCATION;VALUE=URI;X-ADDRESS=Wackford Center 9410 Bruceville Road Elk Grove CA 95758;X-APPLE-RADIUS=500;X-TITLE=9410 Bruceville Road:geo:-121.4177679,38.4097244
END:VEVENT
BEGIN:VEVENT
DTSTART;TZID=America/Los_Angeles:20270824T183000
DTEND;TZID=America/Los_Angeles:20270824T203000
DTSTAMP:20260423T162411
CREATED:20240705T153403Z
LAST-MODIFIED:20240705T153759Z
UID:10058794-1819132200-1819139400@www.livinginelkgrove.com
SUMMARY:Laguna-Elk Grove Kiwanis
DESCRIPTION:Our meeting location are on the 4th Tuesday of the month. 6:30pm social.  7:00 meeting \nWackford Community Center – Willow Room (9014 Bruceville Road) \n 
URL:https://www.livinginelkgrove.com/event/laguna-elk-grove-kiwanis-2/2027-08-24/
LOCATION:Wackford Center\, 9410 Bruceville Road\, Elk Grove\, CA\, 95758
CATEGORIES:Meetings
GEO:38.4097244;-121.4177679
X-APPLE-STRUCTURED-LOCATION;VALUE=URI;X-ADDRESS=Wackford Center 9410 Bruceville Road Elk Grove CA 95758;X-APPLE-RADIUS=500;X-TITLE=9410 Bruceville Road:geo:-121.4177679,38.4097244
END:VEVENT
BEGIN:VEVENT
DTSTART;TZID=America/Los_Angeles:20270928T183000
DTEND;TZID=America/Los_Angeles:20270928T203000
DTSTAMP:20260423T162411
CREATED:20240705T153403Z
LAST-MODIFIED:20240705T153759Z
UID:10058795-1822156200-1822163400@www.livinginelkgrove.com
SUMMARY:Laguna-Elk Grove Kiwanis
DESCRIPTION:Our meeting location are on the 4th Tuesday of the month. 6:30pm social.  7:00 meeting \nWackford Community Center – Willow Room (9014 Bruceville Road) \n 
URL:https://www.livinginelkgrove.com/event/laguna-elk-grove-kiwanis-2/2027-09-28/
LOCATION:Wackford Center\, 9410 Bruceville Road\, Elk Grove\, CA\, 95758
CATEGORIES:Meetings
GEO:38.4097244;-121.4177679
X-APPLE-STRUCTURED-LOCATION;VALUE=URI;X-ADDRESS=Wackford Center 9410 Bruceville Road Elk Grove CA 95758;X-APPLE-RADIUS=500;X-TITLE=9410 Bruceville Road:geo:-121.4177679,38.4097244
END:VEVENT
BEGIN:VEVENT
DTSTART;TZID=America/Los_Angeles:20271026T183000
DTEND;TZID=America/Los_Angeles:20271026T203000
DTSTAMP:20260423T162411
CREATED:20240705T153403Z
LAST-MODIFIED:20240705T153759Z
UID:10058796-1824575400-1824582600@www.livinginelkgrove.com
SUMMARY:Laguna-Elk Grove Kiwanis
DESCRIPTION:Our meeting location are on the 4th Tuesday of the month. 6:30pm social.  7:00 meeting \nWackford Community Center – Willow Room (9014 Bruceville Road) \n 
URL:https://www.livinginelkgrove.com/event/laguna-elk-grove-kiwanis-2/2027-10-26/
LOCATION:Wackford Center\, 9410 Bruceville Road\, Elk Grove\, CA\, 95758
CATEGORIES:Meetings
GEO:38.4097244;-121.4177679
X-APPLE-STRUCTURED-LOCATION;VALUE=URI;X-ADDRESS=Wackford Center 9410 Bruceville Road Elk Grove CA 95758;X-APPLE-RADIUS=500;X-TITLE=9410 Bruceville Road:geo:-121.4177679,38.4097244
END:VEVENT
BEGIN:VEVENT
DTSTART;TZID=America/Los_Angeles:20271123T183000
DTEND;TZID=America/Los_Angeles:20271123T203000
DTSTAMP:20260423T162411
CREATED:20240705T153403Z
LAST-MODIFIED:20240705T153759Z
UID:10058797-1826994600-1827001800@www.livinginelkgrove.com
SUMMARY:Laguna-Elk Grove Kiwanis
DESCRIPTION:Our meeting location are on the 4th Tuesday of the month. 6:30pm social.  7:00 meeting \nWackford Community Center – Willow Room (9014 Bruceville Road) \n 
URL:https://www.livinginelkgrove.com/event/laguna-elk-grove-kiwanis-2/2027-11-23/
LOCATION:Wackford Center\, 9410 Bruceville Road\, Elk Grove\, CA\, 95758
CATEGORIES:Meetings
GEO:38.4097244;-121.4177679
X-APPLE-STRUCTURED-LOCATION;VALUE=URI;X-ADDRESS=Wackford Center 9410 Bruceville Road Elk Grove CA 95758;X-APPLE-RADIUS=500;X-TITLE=9410 Bruceville Road:geo:-121.4177679,38.4097244
END:VEVENT
BEGIN:VEVENT
DTSTART;TZID=America/Los_Angeles:20271228T183000
DTEND;TZID=America/Los_Angeles:20271228T203000
DTSTAMP:20260423T162411
CREATED:20240705T153403Z
LAST-MODIFIED:20240705T153759Z
UID:10058798-1830018600-1830025800@www.livinginelkgrove.com
SUMMARY:Laguna-Elk Grove Kiwanis
DESCRIPTION:Our meeting location are on the 4th Tuesday of the month. 6:30pm social.  7:00 meeting \nWackford Community Center – Willow Room (9014 Bruceville Road) \n 
URL:https://www.livinginelkgrove.com/event/laguna-elk-grove-kiwanis-2/2027-12-28/
LOCATION:Wackford Center\, 9410 Bruceville Road\, Elk Grove\, CA\, 95758
CATEGORIES:Meetings
GEO:38.4097244;-121.4177679
X-APPLE-STRUCTURED-LOCATION;VALUE=URI;X-ADDRESS=Wackford Center 9410 Bruceville Road Elk Grove CA 95758;X-APPLE-RADIUS=500;X-TITLE=9410 Bruceville Road:geo:-121.4177679,38.4097244
END:VEVENT
BEGIN:VEVENT
DTSTART;TZID=America/Los_Angeles:20280125T183000
DTEND;TZID=America/Los_Angeles:20280125T203000
DTSTAMP:20260423T162411
CREATED:20240705T153403Z
LAST-MODIFIED:20240705T153759Z
UID:10058799-1832437800-1832445000@www.livinginelkgrove.com
SUMMARY:Laguna-Elk Grove Kiwanis
DESCRIPTION:Our meeting location are on the 4th Tuesday of the month. 6:30pm social.  7:00 meeting \nWackford Community Center – Willow Room (9014 Bruceville Road) \n 
URL:https://www.livinginelkgrove.com/event/laguna-elk-grove-kiwanis-2/2028-01-25/
LOCATION:Wackford Center\, 9410 Bruceville Road\, Elk Grove\, CA\, 95758
CATEGORIES:Meetings
GEO:38.4097244;-121.4177679
X-APPLE-STRUCTURED-LOCATION;VALUE=URI;X-ADDRESS=Wackford Center 9410 Bruceville Road Elk Grove CA 95758;X-APPLE-RADIUS=500;X-TITLE=9410 Bruceville Road:geo:-121.4177679,38.4097244
END:VEVENT
BEGIN:VEVENT
DTSTART;TZID=America/Los_Angeles:20280222T183000
DTEND;TZID=America/Los_Angeles:20280222T203000
DTSTAMP:20260423T162411
CREATED:20240705T153403Z
LAST-MODIFIED:20240705T153759Z
UID:10058800-1834857000-1834864200@www.livinginelkgrove.com
SUMMARY:Laguna-Elk Grove Kiwanis
DESCRIPTION:Our meeting location are on the 4th Tuesday of the month. 6:30pm social.  7:00 meeting \nWackford Community Center – Willow Room (9014 Bruceville Road) \n 
URL:https://www.livinginelkgrove.com/event/laguna-elk-grove-kiwanis-2/2028-02-22/
LOCATION:Wackford Center\, 9410 Bruceville Road\, Elk Grove\, CA\, 95758
CATEGORIES:Meetings
GEO:38.4097244;-121.4177679
X-APPLE-STRUCTURED-LOCATION;VALUE=URI;X-ADDRESS=Wackford Center 9410 Bruceville Road Elk Grove CA 95758;X-APPLE-RADIUS=500;X-TITLE=9410 Bruceville Road:geo:-121.4177679,38.4097244
END:VEVENT
BEGIN:VEVENT
DTSTART;TZID=America/Los_Angeles:20280328T183000
DTEND;TZID=America/Los_Angeles:20280328T203000
DTSTAMP:20260423T162411
CREATED:20240705T153403Z
LAST-MODIFIED:20240705T153759Z
UID:10058801-1837881000-1837888200@www.livinginelkgrove.com
SUMMARY:Laguna-Elk Grove Kiwanis
DESCRIPTION:Our meeting location are on the 4th Tuesday of the month. 6:30pm social.  7:00 meeting \nWackford Community Center – Willow Room (9014 Bruceville Road) \n 
URL:https://www.livinginelkgrove.com/event/laguna-elk-grove-kiwanis-2/2028-03-28/
LOCATION:Wackford Center\, 9410 Bruceville Road\, Elk Grove\, CA\, 95758
CATEGORIES:Meetings
GEO:38.4097244;-121.4177679
X-APPLE-STRUCTURED-LOCATION;VALUE=URI;X-ADDRESS=Wackford Center 9410 Bruceville Road Elk Grove CA 95758;X-APPLE-RADIUS=500;X-TITLE=9410 Bruceville Road:geo:-121.4177679,38.4097244
END:VEVENT
BEGIN:VEVENT
DTSTART;TZID=America/Los_Angeles:20280425T183000
DTEND;TZID=America/Los_Angeles:20280425T203000
DTSTAMP:20260423T162411
CREATED:20240705T153403Z
LAST-MODIFIED:20240705T153759Z
UID:10058802-1840300200-1840307400@www.livinginelkgrove.com
SUMMARY:Laguna-Elk Grove Kiwanis
DESCRIPTION:Our meeting location are on the 4th Tuesday of the month. 6:30pm social.  7:00 meeting \nWackford Community Center – Willow Room (9014 Bruceville Road) \n 
URL:https://www.livinginelkgrove.com/event/laguna-elk-grove-kiwanis-2/2028-04-25/
LOCATION:Wackford Center\, 9410 Bruceville Road\, Elk Grove\, CA\, 95758
CATEGORIES:Meetings
GEO:38.4097244;-121.4177679
X-APPLE-STRUCTURED-LOCATION;VALUE=URI;X-ADDRESS=Wackford Center 9410 Bruceville Road Elk Grove CA 95758;X-APPLE-RADIUS=500;X-TITLE=9410 Bruceville Road:geo:-121.4177679,38.4097244
END:VEVENT
BEGIN:VEVENT
DTSTART;TZID=America/Los_Angeles:20280523T183000
DTEND;TZID=America/Los_Angeles:20280523T203000
DTSTAMP:20260423T162411
CREATED:20240705T153403Z
LAST-MODIFIED:20240705T153759Z
UID:10058803-1842719400-1842726600@www.livinginelkgrove.com
SUMMARY:Laguna-Elk Grove Kiwanis
DESCRIPTION:Our meeting location are on the 4th Tuesday of the month. 6:30pm social.  7:00 meeting \nWackford Community Center – Willow Room (9014 Bruceville Road) \n 
URL:https://www.livinginelkgrove.com/event/laguna-elk-grove-kiwanis-2/2028-05-23/
LOCATION:Wackford Center\, 9410 Bruceville Road\, Elk Grove\, CA\, 95758
CATEGORIES:Meetings
GEO:38.4097244;-121.4177679
X-APPLE-STRUCTURED-LOCATION;VALUE=URI;X-ADDRESS=Wackford Center 9410 Bruceville Road Elk Grove CA 95758;X-APPLE-RADIUS=500;X-TITLE=9410 Bruceville Road:geo:-121.4177679,38.4097244
END:VEVENT
BEGIN:VEVENT
DTSTART;TZID=America/Los_Angeles:20280627T183000
DTEND;TZID=America/Los_Angeles:20280627T203000
DTSTAMP:20260423T162411
CREATED:20240705T153403Z
LAST-MODIFIED:20240705T153759Z
UID:10058804-1845743400-1845750600@www.livinginelkgrove.com
SUMMARY:Laguna-Elk Grove Kiwanis
DESCRIPTION:Our meeting location are on the 4th Tuesday of the month. 6:30pm social.  7:00 meeting \nWackford Community Center – Willow Room (9014 Bruceville Road) \n 
URL:https://www.livinginelkgrove.com/event/laguna-elk-grove-kiwanis-2/2028-06-27/
LOCATION:Wackford Center\, 9410 Bruceville Road\, Elk Grove\, CA\, 95758
CATEGORIES:Meetings
GEO:38.4097244;-121.4177679
X-APPLE-STRUCTURED-LOCATION;VALUE=URI;X-ADDRESS=Wackford Center 9410 Bruceville Road Elk Grove CA 95758;X-APPLE-RADIUS=500;X-TITLE=9410 Bruceville Road:geo:-121.4177679,38.4097244
END:VEVENT
BEGIN:VEVENT
DTSTART;TZID=America/Los_Angeles:20280725T183000
DTEND;TZID=America/Los_Angeles:20280725T203000
DTSTAMP:20260423T162411
CREATED:20240705T153403Z
LAST-MODIFIED:20240705T153759Z
UID:10058805-1848162600-1848169800@www.livinginelkgrove.com
SUMMARY:Laguna-Elk Grove Kiwanis
DESCRIPTION:Our meeting location are on the 4th Tuesday of the month. 6:30pm social.  7:00 meeting \nWackford Community Center – Willow Room (9014 Bruceville Road) \n 
URL:https://www.livinginelkgrove.com/event/laguna-elk-grove-kiwanis-2/2028-07-25/
LOCATION:Wackford Center\, 9410 Bruceville Road\, Elk Grove\, CA\, 95758
CATEGORIES:Meetings
GEO:38.4097244;-121.4177679
X-APPLE-STRUCTURED-LOCATION;VALUE=URI;X-ADDRESS=Wackford Center 9410 Bruceville Road Elk Grove CA 95758;X-APPLE-RADIUS=500;X-TITLE=9410 Bruceville Road:geo:-121.4177679,38.4097244
END:VEVENT
BEGIN:VEVENT
DTSTART;TZID=America/Los_Angeles:20280822T183000
DTEND;TZID=America/Los_Angeles:20280822T203000
DTSTAMP:20260423T162411
CREATED:20240705T153403Z
LAST-MODIFIED:20240705T153759Z
UID:10058806-1850581800-1850589000@www.livinginelkgrove.com
SUMMARY:Laguna-Elk Grove Kiwanis
DESCRIPTION:Our meeting location are on the 4th Tuesday of the month. 6:30pm social.  7:00 meeting \nWackford Community Center – Willow Room (9014 Bruceville Road) \n 
URL:https://www.livinginelkgrove.com/event/laguna-elk-grove-kiwanis-2/2028-08-22/
LOCATION:Wackford Center\, 9410 Bruceville Road\, Elk Grove\, CA\, 95758
CATEGORIES:Meetings
GEO:38.4097244;-121.4177679
X-APPLE-STRUCTURED-LOCATION;VALUE=URI;X-ADDRESS=Wackford Center 9410 Bruceville Road Elk Grove CA 95758;X-APPLE-RADIUS=500;X-TITLE=9410 Bruceville Road:geo:-121.4177679,38.4097244
END:VEVENT
BEGIN:VEVENT
DTSTART;TZID=America/Los_Angeles:20280926T183000
DTEND;TZID=America/Los_Angeles:20280926T203000
DTSTAMP:20260423T162411
CREATED:20240705T153403Z
LAST-MODIFIED:20240705T153759Z
UID:10058807-1853605800-1853613000@www.livinginelkgrove.com
SUMMARY:Laguna-Elk Grove Kiwanis
DESCRIPTION:Our meeting location are on the 4th Tuesday of the month. 6:30pm social.  7:00 meeting \nWackford Community Center – Willow Room (9014 Bruceville Road) \n 
URL:https://www.livinginelkgrove.com/event/laguna-elk-grove-kiwanis-2/2028-09-26/
LOCATION:Wackford Center\, 9410 Bruceville Road\, Elk Grove\, CA\, 95758
CATEGORIES:Meetings
GEO:38.4097244;-121.4177679
X-APPLE-STRUCTURED-LOCATION;VALUE=URI;X-ADDRESS=Wackford Center 9410 Bruceville Road Elk Grove CA 95758;X-APPLE-RADIUS=500;X-TITLE=9410 Bruceville Road:geo:-121.4177679,38.4097244
END:VEVENT
BEGIN:VEVENT
DTSTART;TZID=America/Los_Angeles:20281024T183000
DTEND;TZID=America/Los_Angeles:20281024T203000
DTSTAMP:20260423T162411
CREATED:20240705T153403Z
LAST-MODIFIED:20240705T153759Z
UID:10058808-1856025000-1856032200@www.livinginelkgrove.com
SUMMARY:Laguna-Elk Grove Kiwanis
DESCRIPTION:Our meeting location are on the 4th Tuesday of the month. 6:30pm social.  7:00 meeting \nWackford Community Center – Willow Room (9014 Bruceville Road) \n 
URL:https://www.livinginelkgrove.com/event/laguna-elk-grove-kiwanis-2/2028-10-24/
LOCATION:Wackford Center\, 9410 Bruceville Road\, Elk Grove\, CA\, 95758
CATEGORIES:Meetings
GEO:38.4097244;-121.4177679
X-APPLE-STRUCTURED-LOCATION;VALUE=URI;X-ADDRESS=Wackford Center 9410 Bruceville Road Elk Grove CA 95758;X-APPLE-RADIUS=500;X-TITLE=9410 Bruceville Road:geo:-121.4177679,38.4097244
END:VEVENT
BEGIN:VEVENT
DTSTART;TZID=America/Los_Angeles:20281128T183000
DTEND;TZID=America/Los_Angeles:20281128T203000
DTSTAMP:20260423T162411
CREATED:20240705T153403Z
LAST-MODIFIED:20240705T153759Z
UID:10058809-1859049000-1859056200@www.livinginelkgrove.com
SUMMARY:Laguna-Elk Grove Kiwanis
DESCRIPTION:Our meeting location are on the 4th Tuesday of the month. 6:30pm social.  7:00 meeting \nWackford Community Center – Willow Room (9014 Bruceville Road) \n 
URL:https://www.livinginelkgrove.com/event/laguna-elk-grove-kiwanis-2/2028-11-28/
LOCATION:Wackford Center\, 9410 Bruceville Road\, Elk Grove\, CA\, 95758
CATEGORIES:Meetings
GEO:38.4097244;-121.4177679
X-APPLE-STRUCTURED-LOCATION;VALUE=URI;X-ADDRESS=Wackford Center 9410 Bruceville Road Elk Grove CA 95758;X-APPLE-RADIUS=500;X-TITLE=9410 Bruceville Road:geo:-121.4177679,38.4097244
END:VEVENT
BEGIN:VEVENT
DTSTART;TZID=America/Los_Angeles:20281226T183000
DTEND;TZID=America/Los_Angeles:20281226T203000
DTSTAMP:20260423T162411
CREATED:20240705T153403Z
LAST-MODIFIED:20240705T153759Z
UID:10058810-1861468200-1861475400@www.livinginelkgrove.com
SUMMARY:Laguna-Elk Grove Kiwanis
DESCRIPTION:Our meeting location are on the 4th Tuesday of the month. 6:30pm social.  7:00 meeting \nWackford Community Center – Willow Room (9014 Bruceville Road) \n 
URL:https://www.livinginelkgrove.com/event/laguna-elk-grove-kiwanis-2/2028-12-26/
LOCATION:Wackford Center\, 9410 Bruceville Road\, Elk Grove\, CA\, 95758
CATEGORIES:Meetings
GEO:38.4097244;-121.4177679
X-APPLE-STRUCTURED-LOCATION;VALUE=URI;X-ADDRESS=Wackford Center 9410 Bruceville Road Elk Grove CA 95758;X-APPLE-RADIUS=500;X-TITLE=9410 Bruceville Road:geo:-121.4177679,38.4097244
END:VEVENT
BEGIN:VEVENT
DTSTART;TZID=America/Los_Angeles:20290123T183000
DTEND;TZID=America/Los_Angeles:20290123T203000
DTSTAMP:20260423T162411
CREATED:20240705T153403Z
LAST-MODIFIED:20240705T153759Z
UID:10058811-1863887400-1863894600@www.livinginelkgrove.com
SUMMARY:Laguna-Elk Grove Kiwanis
DESCRIPTION:Our meeting location are on the 4th Tuesday of the month. 6:30pm social.  7:00 meeting \nWackford Community Center – Willow Room (9014 Bruceville Road) \n 
URL:https://www.livinginelkgrove.com/event/laguna-elk-grove-kiwanis-2/2029-01-23/
LOCATION:Wackford Center\, 9410 Bruceville Road\, Elk Grove\, CA\, 95758
CATEGORIES:Meetings
GEO:38.4097244;-121.4177679
X-APPLE-STRUCTURED-LOCATION;VALUE=URI;X-ADDRESS=Wackford Center 9410 Bruceville Road Elk Grove CA 95758;X-APPLE-RADIUS=500;X-TITLE=9410 Bruceville Road:geo:-121.4177679,38.4097244
END:VEVENT
BEGIN:VEVENT
DTSTART;TZID=America/Los_Angeles:20290227T183000
DTEND;TZID=America/Los_Angeles:20290227T203000
DTSTAMP:20260423T162411
CREATED:20240705T153403Z
LAST-MODIFIED:20240705T153759Z
UID:10058812-1866911400-1866918600@www.livinginelkgrove.com
SUMMARY:Laguna-Elk Grove Kiwanis
DESCRIPTION:Our meeting location are on the 4th Tuesday of the month. 6:30pm social.  7:00 meeting \nWackford Community Center – Willow Room (9014 Bruceville Road) \n 
URL:https://www.livinginelkgrove.com/event/laguna-elk-grove-kiwanis-2/2029-02-27/
LOCATION:Wackford Center\, 9410 Bruceville Road\, Elk Grove\, CA\, 95758
CATEGORIES:Meetings
GEO:38.4097244;-121.4177679
X-APPLE-STRUCTURED-LOCATION;VALUE=URI;X-ADDRESS=Wackford Center 9410 Bruceville Road Elk Grove CA 95758;X-APPLE-RADIUS=500;X-TITLE=9410 Bruceville Road:geo:-121.4177679,38.4097244
END:VEVENT
BEGIN:VEVENT
DTSTART;TZID=America/Los_Angeles:20290327T183000
DTEND;TZID=America/Los_Angeles:20290327T203000
DTSTAMP:20260423T162411
CREATED:20240705T153403Z
LAST-MODIFIED:20240705T153759Z
UID:10058813-1869330600-1869337800@www.livinginelkgrove.com
SUMMARY:Laguna-Elk Grove Kiwanis
DESCRIPTION:Our meeting location are on the 4th Tuesday of the month. 6:30pm social.  7:00 meeting \nWackford Community Center – Willow Room (9014 Bruceville Road) \n 
URL:https://www.livinginelkgrove.com/event/laguna-elk-grove-kiwanis-2/2029-03-27/
LOCATION:Wackford Center\, 9410 Bruceville Road\, Elk Grove\, CA\, 95758
CATEGORIES:Meetings
GEO:38.4097244;-121.4177679
X-APPLE-STRUCTURED-LOCATION;VALUE=URI;X-ADDRESS=Wackford Center 9410 Bruceville Road Elk Grove CA 95758;X-APPLE-RADIUS=500;X-TITLE=9410 Bruceville Road:geo:-121.4177679,38.4097244
END:VEVENT
BEGIN:VEVENT
DTSTART;TZID=America/Los_Angeles:20290424T183000
DTEND;TZID=America/Los_Angeles:20290424T203000
DTSTAMP:20260423T162411
CREATED:20240705T153403Z
LAST-MODIFIED:20240705T153759Z
UID:10058814-1871749800-1871757000@www.livinginelkgrove.com
SUMMARY:Laguna-Elk Grove Kiwanis
DESCRIPTION:Our meeting location are on the 4th Tuesday of the month. 6:30pm social.  7:00 meeting \nWackford Community Center – Willow Room (9014 Bruceville Road) \n 
URL:https://www.livinginelkgrove.com/event/laguna-elk-grove-kiwanis-2/2029-04-24/
LOCATION:Wackford Center\, 9410 Bruceville Road\, Elk Grove\, CA\, 95758
CATEGORIES:Meetings
GEO:38.4097244;-121.4177679
X-APPLE-STRUCTURED-LOCATION;VALUE=URI;X-ADDRESS=Wackford Center 9410 Bruceville Road Elk Grove CA 95758;X-APPLE-RADIUS=500;X-TITLE=9410 Bruceville Road:geo:-121.4177679,38.4097244
END:VEVENT
BEGIN:VEVENT
DTSTART;TZID=America/Los_Angeles:20290522T183000
DTEND;TZID=America/Los_Angeles:20290522T203000
DTSTAMP:20260423T162411
CREATED:20240705T153403Z
LAST-MODIFIED:20240705T153759Z
UID:10058815-1874169000-1874176200@www.livinginelkgrove.com
SUMMARY:Laguna-Elk Grove Kiwanis
DESCRIPTION:Our meeting location are on the 4th Tuesday of the month. 6:30pm social.  7:00 meeting \nWackford Community Center – Willow Room (9014 Bruceville Road) \n 
URL:https://www.livinginelkgrove.com/event/laguna-elk-grove-kiwanis-2/2029-05-22/
LOCATION:Wackford Center\, 9410 Bruceville Road\, Elk Grove\, CA\, 95758
CATEGORIES:Meetings
GEO:38.4097244;-121.4177679
X-APPLE-STRUCTURED-LOCATION;VALUE=URI;X-ADDRESS=Wackford Center 9410 Bruceville Road Elk Grove CA 95758;X-APPLE-RADIUS=500;X-TITLE=9410 Bruceville Road:geo:-121.4177679,38.4097244
END:VEVENT
BEGIN:VEVENT
DTSTART;TZID=America/Los_Angeles:20290626T183000
DTEND;TZID=America/Los_Angeles:20290626T203000
DTSTAMP:20260423T162411
CREATED:20240705T153403Z
LAST-MODIFIED:20240705T153759Z
UID:10058816-1877193000-1877200200@www.livinginelkgrove.com
SUMMARY:Laguna-Elk Grove Kiwanis
DESCRIPTION:Our meeting location are on the 4th Tuesday of the month. 6:30pm social.  7:00 meeting \nWackford Community Center – Willow Room (9014 Bruceville Road) \n 
URL:https://www.livinginelkgrove.com/event/laguna-elk-grove-kiwanis-2/2029-06-26/
LOCATION:Wackford Center\, 9410 Bruceville Road\, Elk Grove\, CA\, 95758
CATEGORIES:Meetings
GEO:38.4097244;-121.4177679
X-APPLE-STRUCTURED-LOCATION;VALUE=URI;X-ADDRESS=Wackford Center 9410 Bruceville Road Elk Grove CA 95758;X-APPLE-RADIUS=500;X-TITLE=9410 Bruceville Road:geo:-121.4177679,38.4097244
END:VEVENT
END:VCALENDAR