BEGIN:VCALENDAR
VERSION:2.0
PRODID:-//Living In Elk Grove - ECPv6.15.20//NONSGML v1.0//EN
CALSCALE:GREGORIAN
METHOD:PUBLISH
X-WR-CALNAME:Living In Elk Grove
X-ORIGINAL-URL:https://www.livinginelkgrove.com
X-WR-CALDESC:Events for Living In Elk Grove
REFRESH-INTERVAL;VALUE=DURATION:PT1H
X-Robots-Tag:noindex
X-PUBLISHED-TTL:PT1H
BEGIN:VTIMEZONE
TZID:America/Los_Angeles
BEGIN:DAYLIGHT
TZOFFSETFROM:-0800
TZOFFSETTO:-0700
TZNAME:PDT
DTSTART:20170312T100000
END:DAYLIGHT
BEGIN:STANDARD
TZOFFSETFROM:-0700
TZOFFSETTO:-0800
TZNAME:PST
DTSTART:20171105T090000
END:STANDARD
BEGIN:DAYLIGHT
TZOFFSETFROM:-0800
TZOFFSETTO:-0700
TZNAME:PDT
DTSTART:20180311T100000
END:DAYLIGHT
BEGIN:STANDARD
TZOFFSETFROM:-0700
TZOFFSETTO:-0800
TZNAME:PST
DTSTART:20181104T090000
END:STANDARD
BEGIN:DAYLIGHT
TZOFFSETFROM:-0800
TZOFFSETTO:-0700
TZNAME:PDT
DTSTART:20190310T100000
END:DAYLIGHT
BEGIN:STANDARD
TZOFFSETFROM:-0700
TZOFFSETTO:-0800
TZNAME:PST
DTSTART:20191103T090000
END:STANDARD
BEGIN:DAYLIGHT
TZOFFSETFROM:-0800
TZOFFSETTO:-0700
TZNAME:PDT
DTSTART:20200308T100000
END:DAYLIGHT
BEGIN:STANDARD
TZOFFSETFROM:-0700
TZOFFSETTO:-0800
TZNAME:PST
DTSTART:20201101T090000
END:STANDARD
BEGIN:DAYLIGHT
TZOFFSETFROM:-0800
TZOFFSETTO:-0700
TZNAME:PDT
DTSTART:20210314T100000
END:DAYLIGHT
BEGIN:STANDARD
TZOFFSETFROM:-0700
TZOFFSETTO:-0800
TZNAME:PST
DTSTART:20211107T090000
END:STANDARD
BEGIN:DAYLIGHT
TZOFFSETFROM:-0800
TZOFFSETTO:-0700
TZNAME:PDT
DTSTART:20220313T100000
END:DAYLIGHT
BEGIN:STANDARD
TZOFFSETFROM:-0700
TZOFFSETTO:-0800
TZNAME:PST
DTSTART:20221106T090000
END:STANDARD
BEGIN:DAYLIGHT
TZOFFSETFROM:-0800
TZOFFSETTO:-0700
TZNAME:PDT
DTSTART:20230312T100000
END:DAYLIGHT
BEGIN:STANDARD
TZOFFSETFROM:-0700
TZOFFSETTO:-0800
TZNAME:PST
DTSTART:20231105T090000
END:STANDARD
BEGIN:DAYLIGHT
TZOFFSETFROM:-0800
TZOFFSETTO:-0700
TZNAME:PDT
DTSTART:20240310T100000
END:DAYLIGHT
BEGIN:STANDARD
TZOFFSETFROM:-0700
TZOFFSETTO:-0800
TZNAME:PST
DTSTART:20241103T090000
END:STANDARD
END:VTIMEZONE
BEGIN:VEVENT
DTSTART;TZID=America/Los_Angeles:20230124T183000
DTEND;TZID=America/Los_Angeles:20230124T203000
DTSTAMP:20260423T233158
CREATED:20161213T001021Z
LAST-MODIFIED:20230216T181430Z
UID:10056345-1674585000-1674592200@www.livinginelkgrove.com
SUMMARY:Laguna-Elk Grove Kiwanis
DESCRIPTION:Our meeting location\, Cicadas\, closed and we are in search of a new meeting location. We will have our next meeting at Mt. Mikes Pizza\, 8211 Bruceville Road\, Suite B-135\, Sacramento\, CA.  In the meantime\, you can always check our Facebook page or website or email us for the upcoming meeting location.
URL:https://www.livinginelkgrove.com/event/laguna-elk-grove-kiwanis/2023-01-24/
LOCATION:Mt. Mikes Pizza\, 8211 Bruceville Road\, Suite 135\, Sacramento\, CA\, United States
CATEGORIES:Meetings
END:VEVENT
BEGIN:VEVENT
DTSTART;TZID=America/Los_Angeles:20221015T080000
DTEND;TZID=America/Los_Angeles:20221015T100000
DTSTAMP:20260423T233158
CREATED:20221001T022117Z
LAST-MODIFIED:20221001T022630Z
UID:10055973-1665820800-1665828000@www.livinginelkgrove.com
SUMMARY:Kiwanis Club's Breakfast with the Superheroes
DESCRIPTION:Enjoy the Kawanis Club of Laguna-Elk Grove’s Breakfast with the Superheros on Saturday Oct 15th at the Albiani Recreation Center.
URL:https://www.livinginelkgrove.com/event/kiwanis-clubs-breakfast-with-the-superheroes/
LOCATION:Gil Albiani Recreation Center at Beeman Park\, 8830 Sharkey Drive\, Elk Grove\, CA\, 95624\, United States
CATEGORIES:Activities,Events,Special Event
END:VEVENT
BEGIN:VEVENT
DTSTART;TZID=America/Los_Angeles:20220319T120000
DTEND;TZID=America/Los_Angeles:20220319T210000
DTSTAMP:20260423T233158
CREATED:20220127T033840Z
LAST-MODIFIED:20220127T033840Z
UID:10055947-1647691200-1647723600@www.livinginelkgrove.com
SUMMARY:Pints for PTP
DESCRIPTION:
URL:https://www.livinginelkgrove.com/event/pints-for-ptp/
LOCATION:Flatland Brewing Company\, 9183 Survey Road\, Elk Grove\, CA\, United States
CATEGORIES:Activities,Beer Festivals,Events
GEO:38.3758256;-121.3586758
X-APPLE-STRUCTURED-LOCATION;VALUE=URI;X-ADDRESS=Flatland Brewing Company 9183 Survey Road Elk Grove CA United States;X-APPLE-RADIUS=500;X-TITLE=9183 Survey Road:geo:-121.3586758,38.3758256
END:VEVENT
BEGIN:VEVENT
DTSTART;TZID=America/Los_Angeles:20181215T080000
DTEND;TZID=America/Los_Angeles:20181215T100000
DTSTAMP:20260423T233158
CREATED:20170725T212038Z
LAST-MODIFIED:20181009T063248Z
UID:10054831-1544860800-1544868000@www.livinginelkgrove.com
SUMMARY:Kiwanis Breakfast with Santa
DESCRIPTION:                        Laguna-Elk Grove Kiwanis   \nIs sponsoring a Breakfast with  event at   \n \nFor More Info\, Breakfast with Santa Flyer – Click Here
URL:https://www.livinginelkgrove.com/event/kiwanis-breakfast-with-santa/
LOCATION:Applebee’s Restaurant\, 9105 E. Stockton Blvd.\, Sacramento\, CA\, 95624
CATEGORIES:Activities,Events,Fundraiser,Special Event
GEO:38.4268406;-121.3959549
X-APPLE-STRUCTURED-LOCATION;VALUE=URI;X-ADDRESS=Applebee’s Restaurant 9105 E. Stockton Blvd. Sacramento CA 95624;X-APPLE-RADIUS=500;X-TITLE=9105 E. Stockton Blvd.:geo:-121.3959549,38.4268406
END:VEVENT
END:VCALENDAR