BEGIN:VCALENDAR
VERSION:2.0
PRODID:-//Living In Elk Grove - ECPv6.15.20//NONSGML v1.0//EN
CALSCALE:GREGORIAN
METHOD:PUBLISH
X-WR-CALNAME:Living In Elk Grove
X-ORIGINAL-URL:https://www.livinginelkgrove.com
X-WR-CALDESC:Events for Living In Elk Grove
REFRESH-INTERVAL;VALUE=DURATION:PT1H
X-Robots-Tag:noindex
X-PUBLISHED-TTL:PT1H
BEGIN:VTIMEZONE
TZID:America/Los_Angeles
BEGIN:DAYLIGHT
TZOFFSETFROM:-0800
TZOFFSETTO:-0700
TZNAME:PDT
DTSTART:20240310T100000
END:DAYLIGHT
BEGIN:STANDARD
TZOFFSETFROM:-0700
TZOFFSETTO:-0800
TZNAME:PST
DTSTART:20241103T090000
END:STANDARD
BEGIN:DAYLIGHT
TZOFFSETFROM:-0800
TZOFFSETTO:-0700
TZNAME:PDT
DTSTART:20250309T100000
END:DAYLIGHT
BEGIN:STANDARD
TZOFFSETFROM:-0700
TZOFFSETTO:-0800
TZNAME:PST
DTSTART:20251102T090000
END:STANDARD
BEGIN:DAYLIGHT
TZOFFSETFROM:-0800
TZOFFSETTO:-0700
TZNAME:PDT
DTSTART:20260308T100000
END:DAYLIGHT
BEGIN:STANDARD
TZOFFSETFROM:-0700
TZOFFSETTO:-0800
TZNAME:PST
DTSTART:20261101T090000
END:STANDARD
BEGIN:DAYLIGHT
TZOFFSETFROM:-0800
TZOFFSETTO:-0700
TZNAME:PDT
DTSTART:20270314T100000
END:DAYLIGHT
BEGIN:STANDARD
TZOFFSETFROM:-0700
TZOFFSETTO:-0800
TZNAME:PST
DTSTART:20271107T090000
END:STANDARD
END:VTIMEZONE
BEGIN:VEVENT
DTSTART;TZID=America/Los_Angeles:20260418T170000
DTEND;TZID=America/Los_Angeles:20260418T210000
DTSTAMP:20260421T090316
CREATED:20230305T012329Z
LAST-MODIFIED:20260106T191357Z
UID:10056420-1776531600-1776546000@www.livinginelkgrove.com
SUMMARY:Taste of Elk Grove
DESCRIPTION:If you love food\, wine\, craft beer\, and live music\, you don’t want to miss this event! The best restaurants in Elk Grove will be there offering samples of their menu. You never know\, you might discover your new favorite place! \n\nThere will be several local wineries providing tastings. We have craft beer makers too offering a huge selection of local beer. \nAlso\, If you want to be a partner\, we have partnerships available. Taste of Elk Grove-Partnership
URL:https://www.livinginelkgrove.com/event/taste-of-elk-grove/
LOCATION:Sacramento Asian Sports Foundation\, 9040 High Tech Court\, Elk Grove\, CA\, 95758\, United States
CATEGORIES:Activities,Events,Fundraiser,Special Event
GEO:38.4299713;-121.4661488
X-APPLE-STRUCTURED-LOCATION;VALUE=URI;X-ADDRESS=Sacramento Asian Sports Foundation 9040 High Tech Court Elk Grove CA 95758 United States;X-APPLE-RADIUS=500;X-TITLE=9040 High Tech Court:geo:-121.4661488,38.4299713
END:VEVENT
BEGIN:VEVENT
DTSTART;TZID=America/Los_Angeles:20260415T074500
DTEND;TZID=America/Los_Angeles:20260415T090000
DTSTAMP:20260421T090316
CREATED:20251001T135936Z
LAST-MODIFIED:20251001T140745Z
UID:10059334-1776239100-1776243600@www.livinginelkgrove.com
SUMMARY:Laguna Sunrise Rotary Meeting
DESCRIPTION:
URL:https://www.livinginelkgrove.com/event/laguna-sunrise-rotary-meeting-2/2026-04-15/
LOCATION:Veterans Hall\, 8320 Civic Center Drive\, Elk Grove\, 95757
CATEGORIES:Events,Meetings
END:VEVENT
BEGIN:VEVENT
DTSTART;TZID=America/Los_Angeles:20260408T074500
DTEND;TZID=America/Los_Angeles:20260408T090000
DTSTAMP:20260421T090316
CREATED:20251001T135936Z
LAST-MODIFIED:20251001T140745Z
UID:10059333-1775634300-1775638800@www.livinginelkgrove.com
SUMMARY:Laguna Sunrise Rotary Meeting
DESCRIPTION:
URL:https://www.livinginelkgrove.com/event/laguna-sunrise-rotary-meeting-2/2026-04-08/
LOCATION:Veterans Hall\, 8320 Civic Center Drive\, Elk Grove\, 95757
CATEGORIES:Events,Meetings
END:VEVENT
BEGIN:VEVENT
DTSTART;TZID=America/Los_Angeles:20260401T074500
DTEND;TZID=America/Los_Angeles:20260401T090000
DTSTAMP:20260421T090316
CREATED:20251001T135936Z
LAST-MODIFIED:20251001T140745Z
UID:10059332-1775029500-1775034000@www.livinginelkgrove.com
SUMMARY:Laguna Sunrise Rotary Meeting
DESCRIPTION:
URL:https://www.livinginelkgrove.com/event/laguna-sunrise-rotary-meeting-2/2026-04-01/
LOCATION:Veterans Hall\, 8320 Civic Center Drive\, Elk Grove\, 95757
CATEGORIES:Events,Meetings
END:VEVENT
BEGIN:VEVENT
DTSTART;TZID=America/Los_Angeles:20260325T074500
DTEND;TZID=America/Los_Angeles:20260325T090000
DTSTAMP:20260421T090316
CREATED:20251001T135936Z
LAST-MODIFIED:20251001T140745Z
UID:10059331-1774424700-1774429200@www.livinginelkgrove.com
SUMMARY:Laguna Sunrise Rotary Meeting
DESCRIPTION:
URL:https://www.livinginelkgrove.com/event/laguna-sunrise-rotary-meeting-2/2026-03-25/
LOCATION:Veterans Hall\, 8320 Civic Center Drive\, Elk Grove\, 95757
CATEGORIES:Events,Meetings
END:VEVENT
BEGIN:VEVENT
DTSTART;TZID=America/Los_Angeles:20260318T074500
DTEND;TZID=America/Los_Angeles:20260318T090000
DTSTAMP:20260421T090316
CREATED:20251001T135936Z
LAST-MODIFIED:20251001T140745Z
UID:10059330-1773819900-1773824400@www.livinginelkgrove.com
SUMMARY:Laguna Sunrise Rotary Meeting
DESCRIPTION:
URL:https://www.livinginelkgrove.com/event/laguna-sunrise-rotary-meeting-2/2026-03-18/
LOCATION:Veterans Hall\, 8320 Civic Center Drive\, Elk Grove\, 95757
CATEGORIES:Events,Meetings
END:VEVENT
BEGIN:VEVENT
DTSTART;TZID=America/Los_Angeles:20260311T074500
DTEND;TZID=America/Los_Angeles:20260311T090000
DTSTAMP:20260421T090316
CREATED:20251001T135936Z
LAST-MODIFIED:20251001T140745Z
UID:10059329-1773215100-1773219600@www.livinginelkgrove.com
SUMMARY:Laguna Sunrise Rotary Meeting
DESCRIPTION:
URL:https://www.livinginelkgrove.com/event/laguna-sunrise-rotary-meeting-2/2026-03-11/
LOCATION:Veterans Hall\, 8320 Civic Center Drive\, Elk Grove\, 95757
CATEGORIES:Events,Meetings
END:VEVENT
BEGIN:VEVENT
DTSTART;TZID=America/Los_Angeles:20260304T074500
DTEND;TZID=America/Los_Angeles:20260304T090000
DTSTAMP:20260421T090316
CREATED:20251001T135936Z
LAST-MODIFIED:20251001T140745Z
UID:10059328-1772610300-1772614800@www.livinginelkgrove.com
SUMMARY:Laguna Sunrise Rotary Meeting
DESCRIPTION:
URL:https://www.livinginelkgrove.com/event/laguna-sunrise-rotary-meeting-2/2026-03-04/
LOCATION:Veterans Hall\, 8320 Civic Center Drive\, Elk Grove\, 95757
CATEGORIES:Events,Meetings
END:VEVENT
BEGIN:VEVENT
DTSTART;TZID=America/Los_Angeles:20260225T074500
DTEND;TZID=America/Los_Angeles:20260225T090000
DTSTAMP:20260421T090316
CREATED:20251001T135936Z
LAST-MODIFIED:20251001T140745Z
UID:10059327-1772005500-1772010000@www.livinginelkgrove.com
SUMMARY:Laguna Sunrise Rotary Meeting
DESCRIPTION:
URL:https://www.livinginelkgrove.com/event/laguna-sunrise-rotary-meeting-2/2026-02-25/
LOCATION:Veterans Hall\, 8320 Civic Center Drive\, Elk Grove\, 95757
CATEGORIES:Events,Meetings
END:VEVENT
BEGIN:VEVENT
DTSTART;TZID=America/Los_Angeles:20260218T074500
DTEND;TZID=America/Los_Angeles:20260218T090000
DTSTAMP:20260421T090316
CREATED:20251001T135936Z
LAST-MODIFIED:20251001T140745Z
UID:10059326-1771400700-1771405200@www.livinginelkgrove.com
SUMMARY:Laguna Sunrise Rotary Meeting
DESCRIPTION:
URL:https://www.livinginelkgrove.com/event/laguna-sunrise-rotary-meeting-2/2026-02-18/
LOCATION:Veterans Hall\, 8320 Civic Center Drive\, Elk Grove\, 95757
CATEGORIES:Events,Meetings
END:VEVENT
BEGIN:VEVENT
DTSTART;TZID=America/Los_Angeles:20260211T074500
DTEND;TZID=America/Los_Angeles:20260211T090000
DTSTAMP:20260421T090316
CREATED:20251001T135936Z
LAST-MODIFIED:20251001T140745Z
UID:10059325-1770795900-1770800400@www.livinginelkgrove.com
SUMMARY:Laguna Sunrise Rotary Meeting
DESCRIPTION:
URL:https://www.livinginelkgrove.com/event/laguna-sunrise-rotary-meeting-2/2026-02-11/
LOCATION:Veterans Hall\, 8320 Civic Center Drive\, Elk Grove\, 95757
CATEGORIES:Events,Meetings
END:VEVENT
BEGIN:VEVENT
DTSTART;TZID=America/Los_Angeles:20260204T074500
DTEND;TZID=America/Los_Angeles:20260204T090000
DTSTAMP:20260421T090316
CREATED:20251001T135936Z
LAST-MODIFIED:20251001T140745Z
UID:10059324-1770191100-1770195600@www.livinginelkgrove.com
SUMMARY:Laguna Sunrise Rotary Meeting
DESCRIPTION:
URL:https://www.livinginelkgrove.com/event/laguna-sunrise-rotary-meeting-2/2026-02-04/
LOCATION:Veterans Hall\, 8320 Civic Center Drive\, Elk Grove\, 95757
CATEGORIES:Events,Meetings
END:VEVENT
BEGIN:VEVENT
DTSTART;TZID=America/Los_Angeles:20260128T074500
DTEND;TZID=America/Los_Angeles:20260128T090000
DTSTAMP:20260421T090316
CREATED:20251001T135936Z
LAST-MODIFIED:20251001T140745Z
UID:10059323-1769586300-1769590800@www.livinginelkgrove.com
SUMMARY:Laguna Sunrise Rotary Meeting
DESCRIPTION:
URL:https://www.livinginelkgrove.com/event/laguna-sunrise-rotary-meeting-2/2026-01-28/
LOCATION:Veterans Hall\, 8320 Civic Center Drive\, Elk Grove\, 95757
CATEGORIES:Events,Meetings
END:VEVENT
BEGIN:VEVENT
DTSTART;TZID=America/Los_Angeles:20260121T074500
DTEND;TZID=America/Los_Angeles:20260121T090000
DTSTAMP:20260421T090316
CREATED:20251001T135936Z
LAST-MODIFIED:20251001T140745Z
UID:10059322-1768981500-1768986000@www.livinginelkgrove.com
SUMMARY:Laguna Sunrise Rotary Meeting
DESCRIPTION:
URL:https://www.livinginelkgrove.com/event/laguna-sunrise-rotary-meeting-2/2026-01-21/
LOCATION:Veterans Hall\, 8320 Civic Center Drive\, Elk Grove\, 95757
CATEGORIES:Events,Meetings
END:VEVENT
BEGIN:VEVENT
DTSTART;TZID=America/Los_Angeles:20260114T074500
DTEND;TZID=America/Los_Angeles:20260114T090000
DTSTAMP:20260421T090316
CREATED:20251001T135936Z
LAST-MODIFIED:20251001T140745Z
UID:10059321-1768376700-1768381200@www.livinginelkgrove.com
SUMMARY:Laguna Sunrise Rotary Meeting
DESCRIPTION:
URL:https://www.livinginelkgrove.com/event/laguna-sunrise-rotary-meeting-2/2026-01-14/
LOCATION:Veterans Hall\, 8320 Civic Center Drive\, Elk Grove\, 95757
CATEGORIES:Events,Meetings
END:VEVENT
BEGIN:VEVENT
DTSTART;TZID=America/Los_Angeles:20260107T074500
DTEND;TZID=America/Los_Angeles:20260107T090000
DTSTAMP:20260421T090316
CREATED:20251001T135936Z
LAST-MODIFIED:20251001T140745Z
UID:10059320-1767771900-1767776400@www.livinginelkgrove.com
SUMMARY:Laguna Sunrise Rotary Meeting
DESCRIPTION:
URL:https://www.livinginelkgrove.com/event/laguna-sunrise-rotary-meeting-2/2026-01-07/
LOCATION:Veterans Hall\, 8320 Civic Center Drive\, Elk Grove\, 95757
CATEGORIES:Events,Meetings
END:VEVENT
BEGIN:VEVENT
DTSTART;TZID=America/Los_Angeles:20251231T074500
DTEND;TZID=America/Los_Angeles:20251231T090000
DTSTAMP:20260421T090316
CREATED:20251001T135936Z
LAST-MODIFIED:20251001T140745Z
UID:10059319-1767167100-1767171600@www.livinginelkgrove.com
SUMMARY:Laguna Sunrise Rotary Meeting
DESCRIPTION:
URL:https://www.livinginelkgrove.com/event/laguna-sunrise-rotary-meeting-2/2025-12-31/
LOCATION:Veterans Hall\, 8320 Civic Center Drive\, Elk Grove\, 95757
CATEGORIES:Events,Meetings
END:VEVENT
BEGIN:VEVENT
DTSTART;TZID=America/Los_Angeles:20251224T074500
DTEND;TZID=America/Los_Angeles:20251224T090000
DTSTAMP:20260421T090316
CREATED:20251001T135936Z
LAST-MODIFIED:20251001T140745Z
UID:10059318-1766562300-1766566800@www.livinginelkgrove.com
SUMMARY:Laguna Sunrise Rotary Meeting
DESCRIPTION:
URL:https://www.livinginelkgrove.com/event/laguna-sunrise-rotary-meeting-2/2025-12-24/
LOCATION:Veterans Hall\, 8320 Civic Center Drive\, Elk Grove\, 95757
CATEGORIES:Events,Meetings
END:VEVENT
BEGIN:VEVENT
DTSTART;TZID=America/Los_Angeles:20251217T074500
DTEND;TZID=America/Los_Angeles:20251217T090000
DTSTAMP:20260421T090316
CREATED:20251001T135936Z
LAST-MODIFIED:20251001T140745Z
UID:10059317-1765957500-1765962000@www.livinginelkgrove.com
SUMMARY:Laguna Sunrise Rotary Meeting
DESCRIPTION:
URL:https://www.livinginelkgrove.com/event/laguna-sunrise-rotary-meeting-2/2025-12-17/
LOCATION:Veterans Hall\, 8320 Civic Center Drive\, Elk Grove\, 95757
CATEGORIES:Events,Meetings
END:VEVENT
BEGIN:VEVENT
DTSTART;TZID=America/Los_Angeles:20251210T074500
DTEND;TZID=America/Los_Angeles:20251210T090000
DTSTAMP:20260421T090316
CREATED:20251001T135936Z
LAST-MODIFIED:20251001T140745Z
UID:10059316-1765352700-1765357200@www.livinginelkgrove.com
SUMMARY:Laguna Sunrise Rotary Meeting
DESCRIPTION:
URL:https://www.livinginelkgrove.com/event/laguna-sunrise-rotary-meeting-2/2025-12-10/
LOCATION:Veterans Hall\, 8320 Civic Center Drive\, Elk Grove\, 95757
CATEGORIES:Events,Meetings
END:VEVENT
BEGIN:VEVENT
DTSTART;TZID=America/Los_Angeles:20251203T074500
DTEND;TZID=America/Los_Angeles:20251203T090000
DTSTAMP:20260421T090316
CREATED:20251001T135936Z
LAST-MODIFIED:20251001T140745Z
UID:10059315-1764747900-1764752400@www.livinginelkgrove.com
SUMMARY:Laguna Sunrise Rotary Meeting
DESCRIPTION:
URL:https://www.livinginelkgrove.com/event/laguna-sunrise-rotary-meeting-2/2025-12-03/
LOCATION:Veterans Hall\, 8320 Civic Center Drive\, Elk Grove\, 95757
CATEGORIES:Events,Meetings
END:VEVENT
BEGIN:VEVENT
DTSTART;TZID=America/Los_Angeles:20251126T074500
DTEND;TZID=America/Los_Angeles:20251126T090000
DTSTAMP:20260421T090316
CREATED:20251001T135936Z
LAST-MODIFIED:20251001T140745Z
UID:10059314-1764143100-1764147600@www.livinginelkgrove.com
SUMMARY:Laguna Sunrise Rotary Meeting
DESCRIPTION:
URL:https://www.livinginelkgrove.com/event/laguna-sunrise-rotary-meeting-2/2025-11-26/
LOCATION:Veterans Hall\, 8320 Civic Center Drive\, Elk Grove\, 95757
CATEGORIES:Events,Meetings
END:VEVENT
BEGIN:VEVENT
DTSTART;TZID=America/Los_Angeles:20251119T074500
DTEND;TZID=America/Los_Angeles:20251119T090000
DTSTAMP:20260421T090316
CREATED:20251001T135936Z
LAST-MODIFIED:20251001T140745Z
UID:10059313-1763538300-1763542800@www.livinginelkgrove.com
SUMMARY:Laguna Sunrise Rotary Meeting
DESCRIPTION:
URL:https://www.livinginelkgrove.com/event/laguna-sunrise-rotary-meeting-2/2025-11-19/
LOCATION:Veterans Hall\, 8320 Civic Center Drive\, Elk Grove\, 95757
CATEGORIES:Events,Meetings
END:VEVENT
BEGIN:VEVENT
DTSTART;TZID=America/Los_Angeles:20251112T074500
DTEND;TZID=America/Los_Angeles:20251112T090000
DTSTAMP:20260421T090316
CREATED:20251001T135936Z
LAST-MODIFIED:20251001T140745Z
UID:10059312-1762933500-1762938000@www.livinginelkgrove.com
SUMMARY:Laguna Sunrise Rotary Meeting
DESCRIPTION:
URL:https://www.livinginelkgrove.com/event/laguna-sunrise-rotary-meeting-2/2025-11-12/
LOCATION:Veterans Hall\, 8320 Civic Center Drive\, Elk Grove\, 95757
CATEGORIES:Events,Meetings
END:VEVENT
BEGIN:VEVENT
DTSTART;TZID=America/Los_Angeles:20251105T074500
DTEND;TZID=America/Los_Angeles:20251105T090000
DTSTAMP:20260421T090316
CREATED:20251001T135936Z
LAST-MODIFIED:20251001T140745Z
UID:10059311-1762328700-1762333200@www.livinginelkgrove.com
SUMMARY:Laguna Sunrise Rotary Meeting
DESCRIPTION:
URL:https://www.livinginelkgrove.com/event/laguna-sunrise-rotary-meeting-2/2025-11-05/
LOCATION:Veterans Hall\, 8320 Civic Center Drive\, Elk Grove\, 95757
CATEGORIES:Events,Meetings
END:VEVENT
BEGIN:VEVENT
DTSTART;TZID=America/Los_Angeles:20251029T074500
DTEND;TZID=America/Los_Angeles:20251029T090000
DTSTAMP:20260421T090316
CREATED:20251001T135936Z
LAST-MODIFIED:20251001T140745Z
UID:10059310-1761723900-1761728400@www.livinginelkgrove.com
SUMMARY:Laguna Sunrise Rotary Meeting
DESCRIPTION:
URL:https://www.livinginelkgrove.com/event/laguna-sunrise-rotary-meeting-2/2025-10-29/
LOCATION:Veterans Hall\, 8320 Civic Center Drive\, Elk Grove\, 95757
CATEGORIES:Events,Meetings
END:VEVENT
BEGIN:VEVENT
DTSTART;TZID=America/Los_Angeles:20251022T074500
DTEND;TZID=America/Los_Angeles:20251022T090000
DTSTAMP:20260421T090316
CREATED:20251001T135936Z
LAST-MODIFIED:20251001T140745Z
UID:10059309-1761119100-1761123600@www.livinginelkgrove.com
SUMMARY:Laguna Sunrise Rotary Meeting
DESCRIPTION:
URL:https://www.livinginelkgrove.com/event/laguna-sunrise-rotary-meeting-2/2025-10-22/
LOCATION:Veterans Hall\, 8320 Civic Center Drive\, Elk Grove\, 95757
CATEGORIES:Events,Meetings
END:VEVENT
BEGIN:VEVENT
DTSTART;TZID=America/Los_Angeles:20251015T074500
DTEND;TZID=America/Los_Angeles:20251015T090000
DTSTAMP:20260421T090316
CREATED:20251001T135936Z
LAST-MODIFIED:20251001T140745Z
UID:10059308-1760514300-1760518800@www.livinginelkgrove.com
SUMMARY:Laguna Sunrise Rotary Meeting
DESCRIPTION:
URL:https://www.livinginelkgrove.com/event/laguna-sunrise-rotary-meeting-2/2025-10-15/
LOCATION:Veterans Hall\, 8320 Civic Center Drive\, Elk Grove\, 95757
CATEGORIES:Events,Meetings
END:VEVENT
BEGIN:VEVENT
DTSTART;TZID=America/Los_Angeles:20251008T074500
DTEND;TZID=America/Los_Angeles:20251008T090000
DTSTAMP:20260421T090316
CREATED:20251001T135936Z
LAST-MODIFIED:20251001T140745Z
UID:10059307-1759909500-1759914000@www.livinginelkgrove.com
SUMMARY:Laguna Sunrise Rotary Meeting
DESCRIPTION:
URL:https://www.livinginelkgrove.com/event/laguna-sunrise-rotary-meeting-2/2025-10-08/
LOCATION:Veterans Hall\, 8320 Civic Center Drive\, Elk Grove\, 95757
CATEGORIES:Events,Meetings
END:VEVENT
BEGIN:VEVENT
DTSTART;TZID=America/Los_Angeles:20251001T074500
DTEND;TZID=America/Los_Angeles:20251001T090000
DTSTAMP:20260421T090316
CREATED:20251001T135936Z
LAST-MODIFIED:20251001T140745Z
UID:10059306-1759304700-1759309200@www.livinginelkgrove.com
SUMMARY:Laguna Sunrise Rotary Meeting
DESCRIPTION:
URL:https://www.livinginelkgrove.com/event/laguna-sunrise-rotary-meeting-2/2025-10-01/
LOCATION:Veterans Hall\, 8320 Civic Center Drive\, Elk Grove\, 95757
CATEGORIES:Events,Meetings
END:VEVENT
END:VCALENDAR