BEGIN:VCALENDAR
VERSION:2.0
PRODID:-//Living In Elk Grove - ECPv6.15.20//NONSGML v1.0//EN
CALSCALE:GREGORIAN
METHOD:PUBLISH
X-ORIGINAL-URL:https://www.livinginelkgrove.com
X-WR-CALDESC:Events for Living In Elk Grove
REFRESH-INTERVAL;VALUE=DURATION:PT1H
X-Robots-Tag:noindex
X-PUBLISHED-TTL:PT1H
BEGIN:VTIMEZONE
TZID:America/Los_Angeles
BEGIN:DAYLIGHT
TZOFFSETFROM:-0800
TZOFFSETTO:-0700
TZNAME:PDT
DTSTART:20250309T100000
END:DAYLIGHT
BEGIN:STANDARD
TZOFFSETFROM:-0700
TZOFFSETTO:-0800
TZNAME:PST
DTSTART:20251102T090000
END:STANDARD
BEGIN:DAYLIGHT
TZOFFSETFROM:-0800
TZOFFSETTO:-0700
TZNAME:PDT
DTSTART:20260308T100000
END:DAYLIGHT
BEGIN:STANDARD
TZOFFSETFROM:-0700
TZOFFSETTO:-0800
TZNAME:PST
DTSTART:20261101T090000
END:STANDARD
BEGIN:DAYLIGHT
TZOFFSETFROM:-0800
TZOFFSETTO:-0700
TZNAME:PDT
DTSTART:20270314T100000
END:DAYLIGHT
BEGIN:STANDARD
TZOFFSETFROM:-0700
TZOFFSETTO:-0800
TZNAME:PST
DTSTART:20271107T090000
END:STANDARD
BEGIN:DAYLIGHT
TZOFFSETFROM:-0800
TZOFFSETTO:-0700
TZNAME:PDT
DTSTART:20280312T100000
END:DAYLIGHT
BEGIN:STANDARD
TZOFFSETFROM:-0700
TZOFFSETTO:-0800
TZNAME:PST
DTSTART:20281105T090000
END:STANDARD
END:VTIMEZONE
BEGIN:VEVENT
DTSTART;TZID=America/Los_Angeles:20260701T074500
DTEND;TZID=America/Los_Angeles:20260701T090000
DTSTAMP:20260421T085855
CREATED:20251001T135936Z
LAST-MODIFIED:20251001T140745Z
UID:10059345-1782891900-1782896400@www.livinginelkgrove.com
SUMMARY:Laguna Sunrise Rotary Meeting
DESCRIPTION:
URL:https://www.livinginelkgrove.com/event/laguna-sunrise-rotary-meeting-2/2026-07-01/
LOCATION:Veterans Hall\, 8320 Civic Center Drive\, Elk Grove\, 95757
CATEGORIES:Events,Meetings
END:VEVENT
BEGIN:VEVENT
DTSTART;TZID=America/Los_Angeles:20260708T074500
DTEND;TZID=America/Los_Angeles:20260708T090000
DTSTAMP:20260421T085855
CREATED:20251001T135936Z
LAST-MODIFIED:20251001T140745Z
UID:10059346-1783496700-1783501200@www.livinginelkgrove.com
SUMMARY:Laguna Sunrise Rotary Meeting
DESCRIPTION:
URL:https://www.livinginelkgrove.com/event/laguna-sunrise-rotary-meeting-2/2026-07-08/
LOCATION:Veterans Hall\, 8320 Civic Center Drive\, Elk Grove\, 95757
CATEGORIES:Events,Meetings
END:VEVENT
BEGIN:VEVENT
DTSTART;TZID=America/Los_Angeles:20260715T074500
DTEND;TZID=America/Los_Angeles:20260715T090000
DTSTAMP:20260421T085855
CREATED:20251001T135936Z
LAST-MODIFIED:20251001T140745Z
UID:10059347-1784101500-1784106000@www.livinginelkgrove.com
SUMMARY:Laguna Sunrise Rotary Meeting
DESCRIPTION:
URL:https://www.livinginelkgrove.com/event/laguna-sunrise-rotary-meeting-2/2026-07-15/
LOCATION:Veterans Hall\, 8320 Civic Center Drive\, Elk Grove\, 95757
CATEGORIES:Events,Meetings
END:VEVENT
BEGIN:VEVENT
DTSTART;TZID=America/Los_Angeles:20260722T074500
DTEND;TZID=America/Los_Angeles:20260722T090000
DTSTAMP:20260421T085855
CREATED:20251001T135936Z
LAST-MODIFIED:20251001T140745Z
UID:10059348-1784706300-1784710800@www.livinginelkgrove.com
SUMMARY:Laguna Sunrise Rotary Meeting
DESCRIPTION:
URL:https://www.livinginelkgrove.com/event/laguna-sunrise-rotary-meeting-2/2026-07-22/
LOCATION:Veterans Hall\, 8320 Civic Center Drive\, Elk Grove\, 95757
CATEGORIES:Events,Meetings
END:VEVENT
BEGIN:VEVENT
DTSTART;TZID=America/Los_Angeles:20260729T074500
DTEND;TZID=America/Los_Angeles:20260729T090000
DTSTAMP:20260421T085855
CREATED:20251001T135936Z
LAST-MODIFIED:20251001T140745Z
UID:10059349-1785311100-1785315600@www.livinginelkgrove.com
SUMMARY:Laguna Sunrise Rotary Meeting
DESCRIPTION:
URL:https://www.livinginelkgrove.com/event/laguna-sunrise-rotary-meeting-2/2026-07-29/
LOCATION:Veterans Hall\, 8320 Civic Center Drive\, Elk Grove\, 95757
CATEGORIES:Events,Meetings
END:VEVENT
BEGIN:VEVENT
DTSTART;TZID=America/Los_Angeles:20260805T074500
DTEND;TZID=America/Los_Angeles:20260805T090000
DTSTAMP:20260421T085855
CREATED:20251001T135936Z
LAST-MODIFIED:20251001T140745Z
UID:10059350-1785915900-1785920400@www.livinginelkgrove.com
SUMMARY:Laguna Sunrise Rotary Meeting
DESCRIPTION:
URL:https://www.livinginelkgrove.com/event/laguna-sunrise-rotary-meeting-2/2026-08-05/
LOCATION:Veterans Hall\, 8320 Civic Center Drive\, Elk Grove\, 95757
CATEGORIES:Events,Meetings
END:VEVENT
BEGIN:VEVENT
DTSTART;TZID=America/Los_Angeles:20260812T074500
DTEND;TZID=America/Los_Angeles:20260812T090000
DTSTAMP:20260421T085855
CREATED:20251001T135936Z
LAST-MODIFIED:20251001T140745Z
UID:10059351-1786520700-1786525200@www.livinginelkgrove.com
SUMMARY:Laguna Sunrise Rotary Meeting
DESCRIPTION:
URL:https://www.livinginelkgrove.com/event/laguna-sunrise-rotary-meeting-2/2026-08-12/
LOCATION:Veterans Hall\, 8320 Civic Center Drive\, Elk Grove\, 95757
CATEGORIES:Events,Meetings
END:VEVENT
BEGIN:VEVENT
DTSTART;TZID=America/Los_Angeles:20260819T074500
DTEND;TZID=America/Los_Angeles:20260819T090000
DTSTAMP:20260421T085855
CREATED:20251001T135936Z
LAST-MODIFIED:20251001T140745Z
UID:10059352-1787125500-1787130000@www.livinginelkgrove.com
SUMMARY:Laguna Sunrise Rotary Meeting
DESCRIPTION:
URL:https://www.livinginelkgrove.com/event/laguna-sunrise-rotary-meeting-2/2026-08-19/
LOCATION:Veterans Hall\, 8320 Civic Center Drive\, Elk Grove\, 95757
CATEGORIES:Events,Meetings
END:VEVENT
BEGIN:VEVENT
DTSTART;TZID=America/Los_Angeles:20260826T074500
DTEND;TZID=America/Los_Angeles:20260826T090000
DTSTAMP:20260421T085855
CREATED:20251001T135936Z
LAST-MODIFIED:20251001T140745Z
UID:10059353-1787730300-1787734800@www.livinginelkgrove.com
SUMMARY:Laguna Sunrise Rotary Meeting
DESCRIPTION:
URL:https://www.livinginelkgrove.com/event/laguna-sunrise-rotary-meeting-2/2026-08-26/
LOCATION:Veterans Hall\, 8320 Civic Center Drive\, Elk Grove\, 95757
CATEGORIES:Events,Meetings
END:VEVENT
BEGIN:VEVENT
DTSTART;TZID=America/Los_Angeles:20260902T074500
DTEND;TZID=America/Los_Angeles:20260902T090000
DTSTAMP:20260421T085855
CREATED:20251001T135936Z
LAST-MODIFIED:20251001T140745Z
UID:10059354-1788335100-1788339600@www.livinginelkgrove.com
SUMMARY:Laguna Sunrise Rotary Meeting
DESCRIPTION:
URL:https://www.livinginelkgrove.com/event/laguna-sunrise-rotary-meeting-2/2026-09-02/
LOCATION:Veterans Hall\, 8320 Civic Center Drive\, Elk Grove\, 95757
CATEGORIES:Events,Meetings
END:VEVENT
BEGIN:VEVENT
DTSTART;TZID=America/Los_Angeles:20260909T074500
DTEND;TZID=America/Los_Angeles:20260909T090000
DTSTAMP:20260421T085855
CREATED:20251001T135936Z
LAST-MODIFIED:20251001T140745Z
UID:10059355-1788939900-1788944400@www.livinginelkgrove.com
SUMMARY:Laguna Sunrise Rotary Meeting
DESCRIPTION:
URL:https://www.livinginelkgrove.com/event/laguna-sunrise-rotary-meeting-2/2026-09-09/
LOCATION:Veterans Hall\, 8320 Civic Center Drive\, Elk Grove\, 95757
CATEGORIES:Events,Meetings
END:VEVENT
BEGIN:VEVENT
DTSTART;TZID=America/Los_Angeles:20260916T074500
DTEND;TZID=America/Los_Angeles:20260916T090000
DTSTAMP:20260421T085855
CREATED:20251001T135936Z
LAST-MODIFIED:20251001T140745Z
UID:10059356-1789544700-1789549200@www.livinginelkgrove.com
SUMMARY:Laguna Sunrise Rotary Meeting
DESCRIPTION:
URL:https://www.livinginelkgrove.com/event/laguna-sunrise-rotary-meeting-2/2026-09-16/
LOCATION:Veterans Hall\, 8320 Civic Center Drive\, Elk Grove\, 95757
CATEGORIES:Events,Meetings
END:VEVENT
BEGIN:VEVENT
DTSTART;TZID=America/Los_Angeles:20260923T074500
DTEND;TZID=America/Los_Angeles:20260923T090000
DTSTAMP:20260421T085855
CREATED:20251001T135936Z
LAST-MODIFIED:20251001T140745Z
UID:10059357-1790149500-1790154000@www.livinginelkgrove.com
SUMMARY:Laguna Sunrise Rotary Meeting
DESCRIPTION:
URL:https://www.livinginelkgrove.com/event/laguna-sunrise-rotary-meeting-2/2026-09-23/
LOCATION:Veterans Hall\, 8320 Civic Center Drive\, Elk Grove\, 95757
CATEGORIES:Events,Meetings
END:VEVENT
BEGIN:VEVENT
DTSTART;TZID=America/Los_Angeles:20260930T074500
DTEND;TZID=America/Los_Angeles:20260930T090000
DTSTAMP:20260421T085855
CREATED:20251001T135936Z
LAST-MODIFIED:20251001T140745Z
UID:10059358-1790754300-1790758800@www.livinginelkgrove.com
SUMMARY:Laguna Sunrise Rotary Meeting
DESCRIPTION:
URL:https://www.livinginelkgrove.com/event/laguna-sunrise-rotary-meeting-2/2026-09-30/
LOCATION:Veterans Hall\, 8320 Civic Center Drive\, Elk Grove\, 95757
CATEGORIES:Events,Meetings
END:VEVENT
BEGIN:VEVENT
DTSTART;TZID=America/Los_Angeles:20261007T074500
DTEND;TZID=America/Los_Angeles:20261007T090000
DTSTAMP:20260421T085855
CREATED:20251001T135936Z
LAST-MODIFIED:20251001T140745Z
UID:10059359-1791359100-1791363600@www.livinginelkgrove.com
SUMMARY:Laguna Sunrise Rotary Meeting
DESCRIPTION:
URL:https://www.livinginelkgrove.com/event/laguna-sunrise-rotary-meeting-2/2026-10-07/
LOCATION:Veterans Hall\, 8320 Civic Center Drive\, Elk Grove\, 95757
CATEGORIES:Events,Meetings
END:VEVENT
BEGIN:VEVENT
DTSTART;TZID=America/Los_Angeles:20261014T074500
DTEND;TZID=America/Los_Angeles:20261014T090000
DTSTAMP:20260421T085855
CREATED:20251001T135936Z
LAST-MODIFIED:20251001T140745Z
UID:10059360-1791963900-1791968400@www.livinginelkgrove.com
SUMMARY:Laguna Sunrise Rotary Meeting
DESCRIPTION:
URL:https://www.livinginelkgrove.com/event/laguna-sunrise-rotary-meeting-2/2026-10-14/
LOCATION:Veterans Hall\, 8320 Civic Center Drive\, Elk Grove\, 95757
CATEGORIES:Events,Meetings
END:VEVENT
BEGIN:VEVENT
DTSTART;TZID=America/Los_Angeles:20261021T074500
DTEND;TZID=America/Los_Angeles:20261021T090000
DTSTAMP:20260421T085855
CREATED:20251001T135936Z
LAST-MODIFIED:20251001T140745Z
UID:10059361-1792568700-1792573200@www.livinginelkgrove.com
SUMMARY:Laguna Sunrise Rotary Meeting
DESCRIPTION:
URL:https://www.livinginelkgrove.com/event/laguna-sunrise-rotary-meeting-2/2026-10-21/
LOCATION:Veterans Hall\, 8320 Civic Center Drive\, Elk Grove\, 95757
CATEGORIES:Events,Meetings
END:VEVENT
BEGIN:VEVENT
DTSTART;TZID=America/Los_Angeles:20261028T074500
DTEND;TZID=America/Los_Angeles:20261028T090000
DTSTAMP:20260421T085855
CREATED:20251001T135936Z
LAST-MODIFIED:20251001T140745Z
UID:10059362-1793173500-1793178000@www.livinginelkgrove.com
SUMMARY:Laguna Sunrise Rotary Meeting
DESCRIPTION:
URL:https://www.livinginelkgrove.com/event/laguna-sunrise-rotary-meeting-2/2026-10-28/
LOCATION:Veterans Hall\, 8320 Civic Center Drive\, Elk Grove\, 95757
CATEGORIES:Events,Meetings
END:VEVENT
BEGIN:VEVENT
DTSTART;TZID=America/Los_Angeles:20261104T074500
DTEND;TZID=America/Los_Angeles:20261104T090000
DTSTAMP:20260421T085855
CREATED:20251001T135936Z
LAST-MODIFIED:20251001T140745Z
UID:10059363-1793778300-1793782800@www.livinginelkgrove.com
SUMMARY:Laguna Sunrise Rotary Meeting
DESCRIPTION:
URL:https://www.livinginelkgrove.com/event/laguna-sunrise-rotary-meeting-2/2026-11-04/
LOCATION:Veterans Hall\, 8320 Civic Center Drive\, Elk Grove\, 95757
CATEGORIES:Events,Meetings
END:VEVENT
BEGIN:VEVENT
DTSTART;TZID=America/Los_Angeles:20261111T074500
DTEND;TZID=America/Los_Angeles:20261111T090000
DTSTAMP:20260421T085855
CREATED:20251001T135936Z
LAST-MODIFIED:20251001T140745Z
UID:10059364-1794383100-1794387600@www.livinginelkgrove.com
SUMMARY:Laguna Sunrise Rotary Meeting
DESCRIPTION:
URL:https://www.livinginelkgrove.com/event/laguna-sunrise-rotary-meeting-2/2026-11-11/
LOCATION:Veterans Hall\, 8320 Civic Center Drive\, Elk Grove\, 95757
CATEGORIES:Events,Meetings
END:VEVENT
BEGIN:VEVENT
DTSTART;TZID=America/Los_Angeles:20261118T074500
DTEND;TZID=America/Los_Angeles:20261118T090000
DTSTAMP:20260421T085855
CREATED:20251001T135936Z
LAST-MODIFIED:20251001T140745Z
UID:10059365-1794987900-1794992400@www.livinginelkgrove.com
SUMMARY:Laguna Sunrise Rotary Meeting
DESCRIPTION:
URL:https://www.livinginelkgrove.com/event/laguna-sunrise-rotary-meeting-2/2026-11-18/
LOCATION:Veterans Hall\, 8320 Civic Center Drive\, Elk Grove\, 95757
CATEGORIES:Events,Meetings
END:VEVENT
BEGIN:VEVENT
DTSTART;TZID=America/Los_Angeles:20261125T074500
DTEND;TZID=America/Los_Angeles:20261125T090000
DTSTAMP:20260421T085855
CREATED:20251001T135936Z
LAST-MODIFIED:20251001T140745Z
UID:10059366-1795592700-1795597200@www.livinginelkgrove.com
SUMMARY:Laguna Sunrise Rotary Meeting
DESCRIPTION:
URL:https://www.livinginelkgrove.com/event/laguna-sunrise-rotary-meeting-2/2026-11-25/
LOCATION:Veterans Hall\, 8320 Civic Center Drive\, Elk Grove\, 95757
CATEGORIES:Events,Meetings
END:VEVENT
BEGIN:VEVENT
DTSTART;TZID=America/Los_Angeles:20261202T074500
DTEND;TZID=America/Los_Angeles:20261202T090000
DTSTAMP:20260421T085855
CREATED:20251001T135936Z
LAST-MODIFIED:20251001T140745Z
UID:10059367-1796197500-1796202000@www.livinginelkgrove.com
SUMMARY:Laguna Sunrise Rotary Meeting
DESCRIPTION:
URL:https://www.livinginelkgrove.com/event/laguna-sunrise-rotary-meeting-2/2026-12-02/
LOCATION:Veterans Hall\, 8320 Civic Center Drive\, Elk Grove\, 95757
CATEGORIES:Events,Meetings
END:VEVENT
BEGIN:VEVENT
DTSTART;TZID=America/Los_Angeles:20261209T074500
DTEND;TZID=America/Los_Angeles:20261209T090000
DTSTAMP:20260421T085855
CREATED:20251001T135936Z
LAST-MODIFIED:20251001T140745Z
UID:10059368-1796802300-1796806800@www.livinginelkgrove.com
SUMMARY:Laguna Sunrise Rotary Meeting
DESCRIPTION:
URL:https://www.livinginelkgrove.com/event/laguna-sunrise-rotary-meeting-2/2026-12-09/
LOCATION:Veterans Hall\, 8320 Civic Center Drive\, Elk Grove\, 95757
CATEGORIES:Events,Meetings
END:VEVENT
BEGIN:VEVENT
DTSTART;TZID=America/Los_Angeles:20261216T074500
DTEND;TZID=America/Los_Angeles:20261216T090000
DTSTAMP:20260421T085855
CREATED:20251001T135936Z
LAST-MODIFIED:20251001T140745Z
UID:10059369-1797407100-1797411600@www.livinginelkgrove.com
SUMMARY:Laguna Sunrise Rotary Meeting
DESCRIPTION:
URL:https://www.livinginelkgrove.com/event/laguna-sunrise-rotary-meeting-2/2026-12-16/
LOCATION:Veterans Hall\, 8320 Civic Center Drive\, Elk Grove\, 95757
CATEGORIES:Events,Meetings
END:VEVENT
BEGIN:VEVENT
DTSTART;TZID=America/Los_Angeles:20261223T074500
DTEND;TZID=America/Los_Angeles:20261223T090000
DTSTAMP:20260421T085855
CREATED:20251001T135936Z
LAST-MODIFIED:20251001T140745Z
UID:10059370-1798011900-1798016400@www.livinginelkgrove.com
SUMMARY:Laguna Sunrise Rotary Meeting
DESCRIPTION:
URL:https://www.livinginelkgrove.com/event/laguna-sunrise-rotary-meeting-2/2026-12-23/
LOCATION:Veterans Hall\, 8320 Civic Center Drive\, Elk Grove\, 95757
CATEGORIES:Events,Meetings
END:VEVENT
BEGIN:VEVENT
DTSTART;TZID=America/Los_Angeles:20261230T074500
DTEND;TZID=America/Los_Angeles:20261230T090000
DTSTAMP:20260421T085855
CREATED:20251001T135936Z
LAST-MODIFIED:20251001T140745Z
UID:10059371-1798616700-1798621200@www.livinginelkgrove.com
SUMMARY:Laguna Sunrise Rotary Meeting
DESCRIPTION:
URL:https://www.livinginelkgrove.com/event/laguna-sunrise-rotary-meeting-2/2026-12-30/
LOCATION:Veterans Hall\, 8320 Civic Center Drive\, Elk Grove\, 95757
CATEGORIES:Events,Meetings
END:VEVENT
BEGIN:VEVENT
DTSTART;TZID=America/Los_Angeles:20270106T074500
DTEND;TZID=America/Los_Angeles:20270106T090000
DTSTAMP:20260421T085855
CREATED:20251001T135936Z
LAST-MODIFIED:20251001T140745Z
UID:10059372-1799221500-1799226000@www.livinginelkgrove.com
SUMMARY:Laguna Sunrise Rotary Meeting
DESCRIPTION:
URL:https://www.livinginelkgrove.com/event/laguna-sunrise-rotary-meeting-2/2027-01-06/
LOCATION:Veterans Hall\, 8320 Civic Center Drive\, Elk Grove\, 95757
CATEGORIES:Events,Meetings
END:VEVENT
BEGIN:VEVENT
DTSTART;TZID=America/Los_Angeles:20270113T074500
DTEND;TZID=America/Los_Angeles:20270113T090000
DTSTAMP:20260421T085855
CREATED:20251001T135936Z
LAST-MODIFIED:20251001T140745Z
UID:10059373-1799826300-1799830800@www.livinginelkgrove.com
SUMMARY:Laguna Sunrise Rotary Meeting
DESCRIPTION:
URL:https://www.livinginelkgrove.com/event/laguna-sunrise-rotary-meeting-2/2027-01-13/
LOCATION:Veterans Hall\, 8320 Civic Center Drive\, Elk Grove\, 95757
CATEGORIES:Events,Meetings
END:VEVENT
BEGIN:VEVENT
DTSTART;TZID=America/Los_Angeles:20270120T074500
DTEND;TZID=America/Los_Angeles:20270120T090000
DTSTAMP:20260421T085855
CREATED:20251001T135936Z
LAST-MODIFIED:20251001T140745Z
UID:10059374-1800431100-1800435600@www.livinginelkgrove.com
SUMMARY:Laguna Sunrise Rotary Meeting
DESCRIPTION:
URL:https://www.livinginelkgrove.com/event/laguna-sunrise-rotary-meeting-2/2027-01-20/
LOCATION:Veterans Hall\, 8320 Civic Center Drive\, Elk Grove\, 95757
CATEGORIES:Events,Meetings
END:VEVENT
END:VCALENDAR