BEGIN:VCALENDAR
VERSION:2.0
PRODID:-//Living In Elk Grove - ECPv6.15.20//NONSGML v1.0//EN
CALSCALE:GREGORIAN
METHOD:PUBLISH
X-WR-CALNAME:Living In Elk Grove
X-ORIGINAL-URL:https://www.livinginelkgrove.com
X-WR-CALDESC:Events for Living In Elk Grove
REFRESH-INTERVAL;VALUE=DURATION:PT1H
X-Robots-Tag:noindex
X-PUBLISHED-TTL:PT1H
BEGIN:VTIMEZONE
TZID:America/Los_Angeles
BEGIN:DAYLIGHT
TZOFFSETFROM:-0800
TZOFFSETTO:-0700
TZNAME:PDT
DTSTART:20240310T100000
END:DAYLIGHT
BEGIN:STANDARD
TZOFFSETFROM:-0700
TZOFFSETTO:-0800
TZNAME:PST
DTSTART:20241103T090000
END:STANDARD
BEGIN:DAYLIGHT
TZOFFSETFROM:-0800
TZOFFSETTO:-0700
TZNAME:PDT
DTSTART:20250309T100000
END:DAYLIGHT
BEGIN:STANDARD
TZOFFSETFROM:-0700
TZOFFSETTO:-0800
TZNAME:PST
DTSTART:20251102T090000
END:STANDARD
BEGIN:DAYLIGHT
TZOFFSETFROM:-0800
TZOFFSETTO:-0700
TZNAME:PDT
DTSTART:20260308T100000
END:DAYLIGHT
BEGIN:STANDARD
TZOFFSETFROM:-0700
TZOFFSETTO:-0800
TZNAME:PST
DTSTART:20261101T090000
END:STANDARD
END:VTIMEZONE
BEGIN:VEVENT
DTSTART;TZID=America/Los_Angeles:20251025T104000
DTEND;TZID=America/Los_Angeles:20251025T140000
DTSTAMP:20260423T224626
CREATED:20240917T175929Z
LAST-MODIFIED:20250829T235955Z
UID:10058849-1761388800-1761400800@www.livinginelkgrove.com
SUMMARY:Soroptimist Elk Grove Annual Bunco Event
DESCRIPTION:Bunco Tickets Page (soroptimistelkgrove.org)
URL:https://www.livinginelkgrove.com/event/soroptimist-elk-grove-bunco-event/
LOCATION:Bruceville Point\, 9730 Backer Ranch Road\, Elk Grove\, Ca\, 95757
CATEGORIES:Events,Fundraiser
END:VEVENT
END:VCALENDAR